{"text_format":"1","workbook":"xlsx","n_sheets":5,"sheets":["Offerte","Invulinstructie","Informatie","Overzicht deelnemers","Parameters"],"not_rendered":{"charts":0,"images":1,"macros":0,"external_links":0,"defined_names":1,"comments":1,"pivot_tables":0},"unopened":[],"bounds":{"document_bytes":16777216,"sheet_cells":100000,"rows_first":2000,"rows_last":500,"rows_between":2000,"halvings":0,"cell_chars":16384,"cell_head_chars":4096},"cells_cut":0,"cells_raw":0,"read":"whole","date_system":"1900"}

{"sheet":"Offerte","index":0,"n_rows":18,"n_cols":3,"rows_kept":18,"cut":false,"hidden":true,"merged":[]}
[]
[]
[]
[]
[]
[]
[]
[]
[]
["Wanneer nodig verder uitwerken…"]
[]
["Geachte ",{"$f":"IF(Informatie!#REF!=\"M\",\"meneer\",\"mevrouw\")","v":{"$error":"#REF!"}},{"$f":"Informatie!C5","v":"Persoon 2"}]
[]
["Hierbij ontvangt u een overzicht van de excedentregeling van PMT."]
["In 2015 is het maximale bedrag voor de opbouw van het pensioen naar "]
[{"$f":"Parameters!C4","v":86202},"………………………………………………………….."]
["het excedentbedrag  een aangepaste opbouw van het pensioen krijgen."]
["Uw werkgever heeft ervoor gekozen om……"]

{"sheet":"Invulinstructie","index":1,"n_rows":94,"n_cols":5,"rows_kept":94,"cut":false,"hidden":false,"merged":[]}
[]
[null,"Invulinstructie excedentregeling sheet "]
[]
[null,"Doel:",null,null,"Met behulp van de rekensheet is het mogelijk om informatie te krijgen over de excedentregeling van PMT. Door de werkgever zelf een keuze"]
[null,null,null,null,"te geven om voor een hoge of lage opbouwpercentage te laten kiezen, kan direct gezien worden welke kosten hieraan verbonden zijn. "]
[null,null,null,null,"Vanaf 2016 kan de werkgever ook kiezen om niet deel te nemen. Naast de lasten voor de werkgever"]
[null,null,null,null,"is het ook mogelijk om per deelnemer te kijken wat de keuze van de werkgever betekent voor zijn medewerker. De rekensheet kan zowel voor het "]
[null,null,null,null,"huidige jaar als het volgende jaar de lasten berekenen. "]
[]
[null,"Algemene informatie:",null,null,"De rekentool bevat drie sheets: \"Informatie\", \"Overzicht deelnemers\" en \"Parameters\". Bij de \"Informatie\" sheet is het mogelijk om een overzichtelijk beeld"]
[null,null,null,null,"te krijgen per deelnemer. Elke deelnemer kan geselecteerd worden waarbij een overzicht komt voor de extra opbouw en de hierbij horende premie. "]
[null,null,null,null,"Ook staat hierin de minimale en de maximale kosten voor de werkgever. In de sheet hoeft niks ingevuld te worden. Alleen een keuze gemaakt te"]
[null,null,null,null,"worden tussen de verschillende opties (lage opbouw, hoge of evt geen deelname) en het selecteren van de juiste deelnemer."]
[]
[null,null,null,null,"Bij de sheet \"Overzicht deelnemers\" is het nodig om de witte cellen in te vullen (ID nummer, Naam, Jaarsalaris en de geboortedatum). De gekleurde cellen"]
[null,null,null,null,"worden hierbij direct gevuld. "]
[]
[null,null,null,null,"Bij de sheet \"Parameters\" is het mogelijk om de paramaters in te vullen. Hierbij is het mogelijk om zowel de parameters van het huidige jaar als het volgende jaar in te"]
[null,null,null,null,{"$f":"\"vullen. Dus wordt bijvoorbeeld het opbouwpercentage van \"&YEAR(TODAY()) +1& \" verlaagd, dan verander je de parameter voor het jaar \"& YEAR(TODAY()) +1&\" en laat je voor \"&YEAR(TODAY())& \" de parameters ongewijzigd.\"","v":"vullen. Dus wordt bijvoorbeeld het opbouwpercentage van 2023 verlaagd, dan verander je de parameter voor het jaar 2023 en laat je voor 2022 de parameters ongewijzigd."}]
[null,null,null,null,"De tekst loopt met het huidige jaar mee. Hierdoor is het altijd mogelijk om de parameters voor het huidige jaar in te vullen en het volgende jaar."]
[]
[null,"Worksheet \"Informatie\":"]
[]
[null,null,"Cell"]
[]
[null,null,"C-3:",null,"In deze cel staat een dropdown menu. Klik op het pijltje om de juiste deelnemer/werknemer te kiezen. Wanneer er geen deelnemer gekozen wordt, zal er geen informatie opgehaald worden."]
[null,null,null,null,"Zorg er dus voor dat altijd het ID nummer ingevuld wordt in de sheet \"Overzicht deelnemers\"."]
[]
[null,null,"G-3:",null,"Deze cel is het mogelijk om keuze te maken tussen een hoge opbouwpercentage of een lage opbouwpercentage. Vanaf het jaar 2016 kan ook een keuze gemaakt worden om niet deel te nemen "]
[null,null,null,null,"aan de excedentregeling."]
[]
[null,null,"C8, C9, C11 en C12",null,"Deze formules dienen jaarlijks aangepast te worden."]
[]
[null,null,"B3:C17:",null,"In dit cellenbereik wordt de informatie van de klant weergegeven. Bij een foutmelding betekent het dat je of geen deelnemer hebt geselecteerd (zie Cell C-3) of de sheet \"Overzicht deelnemers\" "]
[null,null,null,null,"niet volledig hebt ingevuld."]
[]
[null,null,"B19:C23:",null,"Dit cellenbereik geeft de informatie voor de werkgever weer. Hierbij wordt zowel de totale kosten (premies) als de minimale bijdrage voor de werkgever."]
[]
[null,"Worksheet \"Overzicht deelnemers\":"]
[]
[null,null,"Kolom"]
[]
[null,null,"A:",null,"In deze kolom vul je de ID-nummers in. Er is ruimte voor 200 deelnemers. Bij minder deelnemers laat de ruimtes wit en selecteer in de sheet \"Parameters\" de juiste deelnemer."]
[]
[null,null,"B:",null,"Vul in deze kolom de naam van de deelnemer/werknemer in."]
[]
[null,null,"C:",null,"Vul hier het jaarsalaris in. Wanneer je een te laag jaarsalaris invult, kan er niet deelgenomen worden aan de regeling en blijven de gekleurde cellen voor de opbouw en premies leeg."]
[]
[null,null,"D:",null,"Vul hier de parttimefactor in. Werkt de deelnemer full-time vul dan 100% in."]
[]
[null,null,"H:",null,"Vul hier de geboortedatum in. "]
[]
[null,null,"Opmerking:",null,"Zorg ervoor dat alle velden (correct) ingevuld worden, zodat alle gekleurde velden correct automatisch ingevuld worden."]
[null,null,null,null,"Bij te weinig deelnemers laat je de overige velden leeg. "]
[null,null,null,null,"Bij te veel deelnemers kan je niet zo maar rijen invoegen. Hiervoor moeten er aanpassingen gedaan worden in de sheet"]
[null,"Worksheet \"Parameters\":"]
[]
[null,null,"Cell"]
[]
[null,null,"Algemene informatie:",null,"Alle gekleurde cellen (ook tekst) worden automatisch ingevuld. De witte cellen kunnen zelf aangepast worden."]
[]
[]
[null,null,"B2:C4",null,"In dit cellenbereik staan het minimale bedrag en het maximale bedrag van de excedentregeling. Verandert in 2020 bijvoorbeeld het minimale bedrag naar €50.000 dan kan je dit aanpassen."]
[null,null,null,null,"Wel moet je rekening houden met het huidige jaar (in dit voorbeeld 2020) dat de berekening aangepast wordt naar €50.000. Om dus weer de correct lasten van het huidige jaar (2020) te kunnen "]
[null,null,null,null,"zien, zal je het minimale bedrag weer terug moeten zetten. Wordt het huidige jaar 2021 kan je het minimale bedrag weer onaangepast laten staan tot de volgende aanpassing. Zelfde "]
[null,null,null,null,"het maximale bedrag."]
[]
[null,null,"B11:C13",null,"In dit cellenbereik staan de opbouwpercentages van het huidige jaar. De tekst van de header past zich mee aan in welk jaar je zit. Is het dus bijvoorbeeld 01-01-2020 laat de tekst "]
[null,null,null,null,"\"Informatie opbouwpercentage 2020 (huidige jaar)\" zien. Hier vul je dan de parameters van het jaar 2020 invullen."]
[]
[null,null,"B15:C17",null,"In dit cellenbereik staan de opbouwpercentages van het volgende jaar. De tekst van de header past zich mee aan het huidige jaar. Is het dus bijvoorbeeld 01-01-2020 laat de tekst "]
[null,null,null,null,"\"Informatie opbouwpercentage 2021 (volgend jaar)\" zien. Hier vul je dan de parameters van het jaar 2021 in."]
[]
[null,null,"B19:C21",null,"In deze cellen staan de maximale eigenbijdrages die de werkgevers in mogen houden. Voor zowel het huidige jaar als het volgende jaar is het mogelijk om dit aan te passen."]
[]
[null,null,"E2:G50",null,"Hierin staan de premiepercentages afhankelijk van de leeftijd. Wanneer de premiepercentage verandert, is het dus weer nodig om rekening te houden met het huidige en volgende jaar. "]
[null,null,null,null,"Wordt in 2021 bijvoorbeeld de percentages aangepast (huidige jaar is 2020), zal voor de premieberekening voor 2020 de premiepercentages weer terug aangepast moeten worden."]
[]
[null,null,"I2:K4",null,"Dit cellenbereik gaf de constante percentage van 2015 weer. Is per 1-1-2016 uit de sheet verwijderd (leeggemaakt)."]
[]
[null,null,"I12:M21",null,"In dit cellenbereik moet voor het huidige jaar de premiepercentages (Lage keuze) ingevuld worden. Ook de intervallen moeten bij verandering aangepast worden. "]
[null,null,"I29:M38",null,"In dit cellenbereik moet voor het huidige jaar de premiepercentages (Hoge keuze) ingevuld worden. Ook de intervallen moeten bij verandering aangepast worden. "]
[null,null,"I51:M60",null,"In dit cellenbereik moet voor het volgende jaar de premiepercentages (Lage keuze) ingevuld worden. Ook de intervallen moeten bij verandering aangepast worden. "]
[null,null,"I68:M77",null,"In dit cellenbereik moet voor het volgende jaar de premiepercentages (Hoge keuze) ingevuld worden. Ook de intervallen moeten bij verandering aangepast worden. "]
[]
[null,null,"I23:J27",null,"Dit cellenbereik is volledig automatisch. Hierin wordt het percentage voor de eigenbijdrage berekent voor het huidige jaar (keuze laag)."]
[null,null,"I40:J44",null,"Dit cellenbereik is volledig automatisch. Hierin wordt het percentage voor de eigenbijdrage berekent voor het huidige jaar (keuze hoog)."]
[null,null,"I62:J66",null,"Dit cellenbereik is volledig automatisch. Hierin wordt het percentage voor de eigenbijdrage berekent voor het volgende jaar (keuze laag)."]
[null,null,"I79/J83",null,"Dit cellenbereik is volledig automatisch. Hierin wordt het percentage voor de eigenbijdrage berekent voor het volgende jaar (keuze hoog)."]
[]
[null,null,"L23/M26",null,"Dit cellenbereik is volledig automatisch. Hierin wordt de doorsneepremie berekent voor het huidige jaar (keuze laag)"]
[null,null,"L40/M43",null,"Dit cellenbereik is volledig automatisch. Hierin wordt de doorsneepremie berekent voor het huidige jaar (keuze hoog)"]
[null,null,"L62/M65",null,"Dit cellenbereik is volledig automatisch. Hierin wordt de doorsneepremie berekent voor het volgende jaar (keuze laag)"]
[null,null,"L79/M82",null,"Dit cellenbereik is volledig automatisch. Hierin wordt de doorsneepremie berekent voor het volgende jaar (keuze laag)"]

{"sheet":"Informatie","index":2,"n_rows":25,"n_cols":8,"rows_kept":25,"cut":false,"hidden":false,"merged":[[18,1,18,2],[2,1,2,2],[24,1,24,2]]}
[2,"Datum","2023-01-01",null,null,null,2,"Hoge opbouwpercentage"]
[null,null,null,null,null,null,null,"Lage opbouwpercentage"]
[null,"Klantinformatie",null,null,null,"Keuzemogelijkheid",{"$f":"INDEX(H1:H3,G1,1)","v":"Lage opbouwpercentage"},{"$f":"IF(YEAR(C1)=2015,\"Maak een keuze uit Hoge/Lage opbouwpercentage\",\"Geen deelname\")","v":"Geen deelname"}]
[null,"ID nummer",{"$f":"INDEX('Overzicht deelnemers'!A2:A101,Informatie!A1)","v":222222}]
[null,"Naam",{"$f":"VLOOKUP(C4,'Overzicht deelnemers'!1:1048576,2,FALSE)","v":"Persoon 2"}]
[null,"Geboortedatum",{"$f":"VLOOKUP(C4,'Overzicht deelnemers'!1:1048576,8,FALSE)","v":"1971-02-09"}]
[null,"Jaarsalaris",{"$f":"VLOOKUP(C4,'Overzicht deelnemers'!1:1048576,3,FALSE)","v":90000}]
[null,"(Extra) Pensioen opbouw",{"$f":"IF(G3=\"Geen deelname\",0,IF(G3=\"Lage opbouwpercentage\",IF(YEAR(C1)=2023,VLOOKUP(C4,'Overzicht deelnemers'!1:1048576,11,FALSE),VLOOKUP(C4,'Overzicht deelnemers'!1:1048576,15,FALSE)),IF(G3=\"Hoge opbouwpercentage\",IF(YEAR(C1)=2023,VLOOKUP(C4,'Overzicht deelnemers'!1:1048576,19,FALSE),VLOOKUP(C4,'Overzicht deelnemers'!1:1048576,23,FALSE)))))","v":53.93}]
[null,{"$f":"\"(Extra) Premie \"& YEAR(C1)","v":"(Extra) Premie 2023"},{"$f":"IF(YEAR(C1)=2023,IF(G3=\"Lage opbouwpercentage\",VLOOKUP(C4,'Overzicht deelnemers'!1:1048576,12,FALSE),IF(G3=\"Hoge opbouwpercentage\",VLOOKUP(C4,'Overzicht deelnemers'!1:1048576,20,FALSE),)),IF(YEAR(C1)>2023,IF(G3=\"Lage opbouwpercentage\",VLOOKUP(C4,'Overzicht deelnemers'!1:1048576,16,FALSE),IF(G3=\"Hoge opbouwpercentage\",VLOOKUP(C4,'Overzicht deelnemers'!1:1048576,24,FALSE),0))))","v":892.53}]
[null,{"$f":"\"Leeftijd \"& YEAR(C1)","v":"Leeftijd 2023"},{"$f":"VLOOKUP(C4,'Overzicht deelnemers'!1:1048576,9,FALSE)","v":52}]
[null,{"$f":"\"Max Eigen bijdrage premie \"&YEAR(C1)","v":"Max Eigen bijdrage premie 2023"},{"$f":"IF(YEAR(C1)=2023,IF(G3=\"Lage opbouwpercentage\",VLOOKUP(C4,'Overzicht deelnemers'!1:1048576,13,FALSE),IF(G3=\"Hoge opbouwpercentage\",VLOOKUP(C4,'Overzicht deelnemers'!1:1048576,21,FALSE),)),IF(YEAR(C1)>2023,IF(G3=\"Lage opbouwpercentage\",VLOOKUP(C4,'Overzicht deelnemers'!1:1048576,17,FALSE),IF(G3=\"Hoge opbouwpercentage\",VLOOKUP(C4,'Overzicht deelnemers'!1:1048576,25,FALSE),0))))","v":474.82216199999999}]
[null,{"$f":"\"Min Werkgeversbijdrage premie \"&YEAR(C1)","v":"Min Werkgeversbijdrage premie 2023"},{"$f":"IF(YEAR(C1)=2023,IF(G3=\"Lage opbouwpercentage\",VLOOKUP(C4,'Overzicht deelnemers'!1:1048576,14,FALSE),IF(G3=\"Hoge opbouwpercentage\",VLOOKUP(C4,'Overzicht deelnemers'!1:1048576,22,FALSE),)),IF(YEAR(C1)>2023,IF(G3=\"Lage opbouwpercentage\",VLOOKUP(C4,'Overzicht deelnemers'!1:1048576,18,FALSE),IF(G3=\"Hoge opbouwpercentage\",VLOOKUP(C4,'Overzicht deelnemers'!1:1048576,26,FALSE),0))))","v":417.71}]
[null,{"$f":"\"(Extra) Pensioen opbouw \"&YEAR(C1 )+1","v":"(Extra) Pensioen opbouw 2024"},{"$f":"IF(G3=\"Geen deelname\",0,IF(G3=\"Lage opbouwpercentage\",VLOOKUP(C4,'Overzicht deelnemers'!1:1048576,15,FALSE),VLOOKUP(C4,'Overzicht deelnemers'!1:1048576,23,FALSE)))","v":53.93}]
[null,{"$f":"\"(Extra) Premie \"&YEAR(C1)+1","v":"(Extra) Premie 2024"},{"$f":"IF(G3=\"Geen deelname\",0,IF(G3=\"Lage opbouwpercentage\",VLOOKUP(C4,'Overzicht deelnemers'!1:1048576,16,FALSE),IF(G3=\"Hoge opbouwpercentage\",VLOOKUP(C4,'Overzicht deelnemers'!1:1048576,24,FALSE),\"\")))","v":892.53}]
[null,{"$f":"\"Leeftijd \"&YEAR(C1)+1","v":"Leeftijd 2024"},{"$f":"VLOOKUP(C4,'Overzicht deelnemers'!1:1048576,10,FALSE)","v":53}]
[null,{"$f":"\"Max Eigen bijdrage premie \"&YEAR(C1)+1","v":"Max Eigen bijdrage premie 2024"},{"$f":"IF(G3=\"Geen deelname\",0,IF(G3=\"Lage opbouwpercentage\",VLOOKUP(C4,'Overzicht deelnemers'!1:1048576,17,FALSE),IF(G3=\"Hoge opbouwpercentage\",VLOOKUP(C4,'Overzicht deelnemers'!1:1048576,25,FALSE),\"\")))","v":474.82}]
[null,{"$f":"\"Min Werkgeversbijdrage premie \"&YEAR(C1)+1","v":"Min Werkgeversbijdrage premie 2024"},{"$f":"IF(G3=\"Geen deelname\",0,IF(G3=\"Lage opbouwpercentage\",VLOOKUP(C4,'Overzicht deelnemers'!1:1048576,18,FALSE),IF(G3=\"Hoge opbouwpercentage\",VLOOKUP(C4,'Overzicht deelnemers'!1:1048576,26,FALSE),\"\")))","v":417.71}]
[]
[null,"Informatie werkgever"]
[null,{"$f":"\"Jaarlijkse kosten \"&YEAR(C1)","v":"Jaarlijkse kosten 2023"},{"$f":"IF(G3=\"lage opbouwpercentage\",VLOOKUP(\"werkgever\",'Overzicht deelnemers'!1:1048576,12,FALSE),IF(G3=\"Hoge opbouwpercentage\",VLOOKUP(\"werkgever\",'Overzicht deelnemers'!1:1048576,20,FALSE),0))","v":12396.69}]
[null,{"$f":"\"Min werkgevers bijdrage \"&YEAR(C1)","v":"Min werkgevers bijdrage 2023"},{"$f":"IF(G3=\"lage opbouwpercentage\",VLOOKUP(\"werkgever\",'Overzicht deelnemers'!1:1048576,14,FALSE),IF(G3=\"Hoge opbouwpercentage\",VLOOKUP(\"werkgever\",'Overzicht deelnemers'!1:1048576,22,FALSE),0))","v":6595.06}]
[null,{"$f":"\"Jaarlijkse kosten \"& YEAR(C1)+1","v":"Jaarlijkse kosten 2024"},{"$f":"IF(G3=\"lage opbouwpercentage\",VLOOKUP(\"werkgever\",'Overzicht deelnemers'!1:1048576,16,FALSE),IF(G3=\"Hoge opbouwpercentage\",VLOOKUP(\"werkgever\",'Overzicht deelnemers'!1:1048576,24,FALSE),0))","v":12396.69}]
[null,{"$f":"\"Min werkgevers bijdrage \"& YEAR(C1)+1","v":"Min werkgevers bijdrage 2024"},{"$f":"IF(G3=\"lage opbouwpercentage\",VLOOKUP(\"werkgever\",'Overzicht deelnemers'!1:1048576,18,FALSE),IF(G3=\"Hoge opbouwpercentage\",VLOOKUP(\"werkgever\",'Overzicht deelnemers'!1:1048576,26,FALSE),0))","v":6595.06}]
[]
[null,"Let op: de leeftijd is bepaald op 31 december van het kalenderjaar."]

{"sheet":"Overzicht deelnemers","index":3,"n_rows":402,"n_cols":26,"rows_kept":402,"cut":false,"hidden":false,"merged":[]}
["Persoonsnummer","Naam","Jaarsalaris","Parttime factor","Parttime jaarsalaris","Max opbouw jaarsalaris","Excedent bedrag","Geboortedatum","Leeftijd (31-12-huidige jaar)","Leeftijd (31-12-volgend jaar)",{"$f":"\"Jaarlijkse excedent opbouw\"& YEAR(Informatie!C1)&\" (keuze lage opbouw)\"","v":"Jaarlijkse excedent opbouw2023 (keuze lage opbouw)"},{"$f":"\"Premie \"&YEAR(Informatie!C1)","v":"Premie 2023"},"Max eigen bijdrage werknemer","Min Bijdrage werkgever",{"$f":"\"Jaarlijkse excedent opbouw\"& YEAR(Informatie!C1) +1&\" (keuze lage opbouw)\"","v":"Jaarlijkse excedent opbouw2024 (keuze lage opbouw)"},{"$f":"\"Premie \"&YEAR(Informatie!C1) +1","v":"Premie 2024"},"Max eigen bijdrage werknemer","Min eigen bijdrage werkgever",{"$f":"\"Jaarlijkse excedent opbouw\"& YEAR(Informatie!C1)&\" (keuze hoge opbouw)\"","v":"Jaarlijkse excedent opbouw2023 (keuze hoge opbouw)"},{"$f":"\"Premie \"&YEAR(Informatie!C1)&\" (huidige jaar)\"","v":"Premie 2023 (huidige jaar)"},"Max eigen bijdrage werknemer","Min bijdrage werkgever",{"$f":"\"Jaarlijkse excedent opbouw\"& YEAR(Informatie!C1) + 1&\" (keuze hoge opbouw)\"","v":"Jaarlijkse excedent opbouw2024 (keuze hoge opbouw)"},{"$f":"\"Premie \" &YEAR(Informatie!C1)+1& \" (hoog)\"","v":"Premie 2024 (hoog)"},"Max eigen bijdrage werknemer","Min bijdrage werkgever"]
[111111,"Persoon 1",150000,1,{"$f":"C2*D2","v":150000},{"$f":"IF(C2=\"\",0,IF(C2<=Parameters!$C$3,C2,Parameters!$C$3))","v":128810},{"$f":"IF(C2=\"\",\"\",IF(F2<Parameters!$C$4,\"\",(F2-Parameters!$C$4)*D2))","v":42608},"1965-05-09",{"$f":"IF(H2=\"\",\"\",YEAR(+Informatie!$C$1)-YEAR(H2))","v":58},{"$f":"IF(H2=\"\",\"\",I2+1)","v":59},{"$f":"IF(G2=\"\",\"\",ROUND(G2*Parameters!$C$12,2))","v":605.03},{"$f":"IF(G2=\"\",\"\",IF(YEAR(Informatie!$C$1)=2015,ROUND(G2*Parameters!$J$27,2),ROUND(G2*VLOOKUP('Overzicht deelnemers'!I2,Parameters!$E$4:$G$49,2,FALSE),2)))","v":11504.16},{"$f":"IF(G2=\"\",\"\",IF(YEAR(Informatie!$C$1)=2015,ROUND(L2*Parameters!$C$20,2),G2*Parameters!$J$27))","v":5326.8095519999997},{"$f":"IF(G2=\"\",\"\",ROUND(L2-M2,2))","v":6177.35},{"$f":"IF(G2=\"\",\"\",ROUND(G2*Parameters!$C$16,2))","v":605.03},{"$f":"IF(G2=\"\",\"\",ROUND(G2*VLOOKUP(J2,Parameters!$E$3:$F$49,2,FALSE),2))","v":11504.16},{"$f":"IF(G2=\"\",\"\",ROUND(G2*Parameters!$J$66,2))","v":5326.81},{"$f":"IF(G2=\"\",\"\",ROUND(P2-Q2,2))","v":6177.35},{"$f":"IF(G2=\"\",\"\",ROUND(G2*Parameters!$C$13,2))","v":749.9},{"$f":"IF(G2=\"\",\"\",IF(YEAR(Informatie!$C$1)=2015,ROUND(G2*Parameters!J$44,2),ROUND(G2*VLOOKUP('Overzicht deelnemers'!I2,Parameters!$E$4:$G$49,3,FALSE),2)))","v":14273.68},{"$f":"IF(G2=\"\",\"\",IF(YEAR(Informatie!$C$1)=2015,ROUND(T2*Parameters!$C$20,2),ROUND(G2*Parameters!$J$44,2)))","v":6609.91},{"$f":"IF(G2=\"\",\"\",ROUND(T2-U2,2))","v":7663.77},{"$f":"IF(G2=\"\",\"\",ROUND(G2*Parameters!C$17,2))","v":749.9},{"$f":"IF(G2=\"\",\"\",ROUND(G2*VLOOKUP(J2,Parameters!E$4:G$49,3),2))","v":14273.68},{"$f":"IF(G2=\"\",\"\",ROUND(G2*Parameters!J$83,2))","v":6609.91},{"$f":"IF(G2=\"\",\"\",ROUND(X2-Y2,2))","v":7663.77}]
[222222,"Persoon 2",90000,1,{"$f":"C3*D3","v":90000},{"$f":"IF(C3=\"\",0,IF(C3<=Parameters!$C$3,C3,Parameters!$C$3))","v":90000},{"$f":"IF(C3=\"\",\"\",IF(F3<Parameters!$C$4,\"\",(F3-Parameters!$C$4)*D3))","v":3798},"1971-02-09",{"$f":"IF(H3=\"\",\"\",YEAR(+Informatie!$C$1)-YEAR(H3))","v":52},53,{"$f":"IF(G3=\"\",\"\",ROUND(G3*Parameters!$C$12,2))","v":53.93},{"$f":"IF(G3=\"\",\"\",IF(YEAR(Informatie!$C$1)=2015,ROUND(G3*Parameters!$J$27,2),ROUND(G3*VLOOKUP('Overzicht deelnemers'!I3,Parameters!$E$4:$G$49,2,FALSE),2)))","v":892.53},{"$f":"IF(G3=\"\",\"\",IF(YEAR(Informatie!$C$1)=2015,ROUND(L3*Parameters!$C$20,2),G3*Parameters!$J$27))","v":474.82216199999999},{"$f":"IF(G3=\"\",\"\",ROUND(L3-M3,2))","v":417.71},{"$f":"IF(G3=\"\",\"\",ROUND(G3*Parameters!$C$16,2))","v":53.93},{"$f":"IF(G3=\"\",\"\",ROUND(G3*VLOOKUP(J3,Parameters!$E$3:$F$49,2,FALSE),2))","v":892.53},{"$f":"IF(G3=\"\",\"\",ROUND(G3*Parameters!$J$66,2))","v":474.82},{"$f":"IF(G3=\"\",\"\",ROUND(P3-Q3,2))","v":417.71},{"$f":"IF(G3=\"\",\"\",ROUND(G3*Parameters!$C$13,2))","v":66.84},{"$f":"IF(G3=\"\",\"\",IF(YEAR(Informatie!$C$1)=2015,ROUND(G3*Parameters!J$44,2),ROUND(G3*VLOOKUP('Overzicht deelnemers'!I3,Parameters!$E$4:$G$49,3,FALSE),2)))","v":1109.02},{"$f":"IF(G3=\"\",\"\",IF(YEAR(Informatie!$C$1)=2015,ROUND(T3*Parameters!$C$20,2),ROUND(G3*Parameters!$J$44,2)))","v":589.20000000000005},{"$f":"IF(G3=\"\",\"\",ROUND(T3-U3,2))","v":519.82000000000005},{"$f":"IF(G3=\"\",\"\",ROUND(G3*Parameters!C$17,2))","v":66.84},{"$f":"IF(G3=\"\",\"\",ROUND(G3*VLOOKUP(J3,Parameters!E$4:G$49,3),2))","v":1109.02},{"$f":"IF(G3=\"\",\"\",ROUND(G3*Parameters!J$83,2))","v":589.20000000000005},{"$f":"IF(G3=\"\",\"\",ROUND(X3-Y3,2))","v":519.82000000000005}]
[null,null,null,null,0,{"$f":"IF(C4=\"\",0,IF(C4<=Parameters!$C$3,C4,Parameters!$C$3))","v":0},{"$f":"IF(C4=\"\",\"\",IF(F4<Parameters!$C$4,\"\",(F4-Parameters!$C$4)*D4))","v":""},null,{"$f":"IF(H4=\"\",\"\",YEAR(+Informatie!$C$1)-YEAR(H4))","v":""},"",{"$f":"IF(G4=\"\",\"\",ROUND(G4*Parameters!$C$12,2))","v":""},{"$f":"IF(G4=\"\",\"\",IF(YEAR(Informatie!$C$1)=2015,ROUND(G4*Parameters!$J$27,2),ROUND(G4*VLOOKUP('Overzicht deelnemers'!I4,Parameters!$E$4:$G$49,2,FALSE),2)))","v":""},{"$f":"IF(G4=\"\",\"\",IF(YEAR(Informatie!$C$1)=2015,ROUND(L4*Parameters!$C$20,2),G4*Parameters!$J$27))","v":""},"",{"$f":"IF(G4=\"\",\"\",ROUND(G4*Parameters!$C$16,2))","v":""},{"$f":"IF(G4=\"\",\"\",ROUND(G4*VLOOKUP(J4,Parameters!$E$3:$F$49,2,FALSE),2))","v":""},{"$f":"IF(G4=\"\",\"\",ROUND(G4*Parameters!$J$66,2))","v":""},"",{"$f":"IF(G4=\"\",\"\",ROUND(G4*Parameters!$C$13,2))","v":""},{"$f":"IF(G4=\"\",\"\",IF(YEAR(Informatie!$C$1)=2015,ROUND(G4*Parameters!J$44,2),ROUND(G4*VLOOKUP('Overzicht deelnemers'!I4,Parameters!$E$4:$G$49,3,FALSE),2)))","v":""},{"$f":"IF(G4=\"\",\"\",IF(YEAR(Informatie!$C$1)=2015,ROUND(T4*Parameters!$C$20,2),ROUND(G4*Parameters!$J$44,2)))","v":""},"",{"$f":"IF(G4=\"\",\"\",ROUND(G4*Parameters!C$17,2))","v":""},{"$f":"IF(G4=\"\",\"\",ROUND(G4*VLOOKUP(J4,Parameters!E$4:G$49,3),2))","v":""},{"$f":"IF(G4=\"\",\"\",ROUND(G4*Parameters!J$83,2))","v":""},""]
[null,null,null,null,0,{"$f":"IF(C5=\"\",0,IF(C5<=Parameters!$C$3,C5,Parameters!$C$3))","v":0},{"$f":"IF(C5=\"\",\"\",IF(F5<Parameters!$C$4,\"\",(F5-Parameters!$C$4)*D5))","v":""},null,{"$f":"IF(H5=\"\",\"\",YEAR(+Informatie!$C$1)-YEAR(H5))","v":""},"",{"$f":"IF(G5=\"\",\"\",ROUND(G5*Parameters!$C$12,2))","v":""},{"$f":"IF(G5=\"\",\"\",IF(YEAR(Informatie!$C$1)=2015,ROUND(G5*Parameters!$J$27,2),ROUND(G5*VLOOKUP('Overzicht deelnemers'!I5,Parameters!$E$4:$G$49,2,FALSE),2)))","v":""},{"$f":"IF(G5=\"\",\"\",IF(YEAR(Informatie!$C$1)=2015,ROUND(L5*Parameters!$C$20,2),G5*Parameters!$J$27))","v":""},"",{"$f":"IF(G5=\"\",\"\",ROUND(G5*Parameters!$C$16,2))","v":""},{"$f":"IF(G5=\"\",\"\",ROUND(G5*VLOOKUP(J5,Parameters!$E$3:$F$49,2,FALSE),2))","v":""},{"$f":"IF(G5=\"\",\"\",ROUND(G5*Parameters!$J$66,2))","v":""},"",{"$f":"IF(G5=\"\",\"\",ROUND(G5*Parameters!$C$13,2))","v":""},{"$f":"IF(G5=\"\",\"\",IF(YEAR(Informatie!$C$1)=2015,ROUND(G5*Parameters!J$44,2),ROUND(G5*VLOOKUP('Overzicht deelnemers'!I5,Parameters!$E$4:$G$49,3,FALSE),2)))","v":""},{"$f":"IF(G5=\"\",\"\",IF(YEAR(Informatie!$C$1)=2015,ROUND(T5*Parameters!$C$20,2),ROUND(G5*Parameters!$J$44,2)))","v":""},"",{"$f":"IF(G5=\"\",\"\",ROUND(G5*Parameters!C$17,2))","v":""},{"$f":"IF(G5=\"\",\"\",ROUND(G5*VLOOKUP(J5,Parameters!E$4:G$49,3),2))","v":""},{"$f":"IF(G5=\"\",\"\",ROUND(G5*Parameters!J$83,2))","v":""},""]
[null,null,null,null,0,{"$f":"IF(C6=\"\",0,IF(C6<=Parameters!$C$3,C6,Parameters!$C$3))","v":0},{"$f":"IF(C6=\"\",\"\",IF(F6<Parameters!$C$4,\"\",(F6-Parameters!$C$4)*D6))","v":""},null,{"$f":"IF(H6=\"\",\"\",YEAR(+Informatie!$C$1)-YEAR(H6))","v":""},"",{"$f":"IF(G6=\"\",\"\",ROUND(G6*Parameters!$C$12,2))","v":""},{"$f":"IF(G6=\"\",\"\",IF(YEAR(Informatie!$C$1)=2015,ROUND(G6*Parameters!$J$27,2),ROUND(G6*VLOOKUP('Overzicht deelnemers'!I6,Parameters!$E$4:$G$49,2,FALSE),2)))","v":""},{"$f":"IF(G6=\"\",\"\",IF(YEAR(Informatie!$C$1)=2015,ROUND(L6*Parameters!$C$20,2),G6*Parameters!$J$27))","v":""},"",{"$f":"IF(G6=\"\",\"\",ROUND(G6*Parameters!$C$16,2))","v":""},{"$f":"IF(G6=\"\",\"\",ROUND(G6*VLOOKUP(J6,Parameters!$E$3:$F$49,2,FALSE),2))","v":""},{"$f":"IF(G6=\"\",\"\",ROUND(G6*Parameters!$J$66,2))","v":""},"",{"$f":"IF(G6=\"\",\"\",ROUND(G6*Parameters!$C$13,2))","v":""},{"$f":"IF(G6=\"\",\"\",IF(YEAR(Informatie!$C$1)=2015,ROUND(G6*Parameters!J$44,2),ROUND(G6*VLOOKUP('Overzicht deelnemers'!I6,Parameters!$E$4:$G$49,3,FALSE),2)))","v":""},{"$f":"IF(G6=\"\",\"\",IF(YEAR(Informatie!$C$1)=2015,ROUND(T6*Parameters!$C$20,2),ROUND(G6*Parameters!$J$44,2)))","v":""},"",{"$f":"IF(G6=\"\",\"\",ROUND(G6*Parameters!C$17,2))","v":""},{"$f":"IF(G6=\"\",\"\",ROUND(G6*VLOOKUP(J6,Parameters!E$4:G$49,3),2))","v":""},{"$f":"IF(G6=\"\",\"\",ROUND(G6*Parameters!J$83,2))","v":""},""]
[null,null,null,null,0,{"$f":"IF(C7=\"\",0,IF(C7<=Parameters!$C$3,C7,Parameters!$C$3))","v":0},{"$f":"IF(C7=\"\",\"\",IF(F7<Parameters!$C$4,\"\",(F7-Parameters!$C$4)*D7))","v":""},null,{"$f":"IF(H7=\"\",\"\",YEAR(+Informatie!$C$1)-YEAR(H7))","v":""},"",{"$f":"IF(G7=\"\",\"\",ROUND(G7*Parameters!$C$12,2))","v":""},{"$f":"IF(G7=\"\",\"\",IF(YEAR(Informatie!$C$1)=2015,ROUND(G7*Parameters!$J$27,2),ROUND(G7*VLOOKUP('Overzicht deelnemers'!I7,Parameters!$E$4:$G$49,2,FALSE),2)))","v":""},{"$f":"IF(G7=\"\",\"\",IF(YEAR(Informatie!$C$1)=2015,ROUND(L7*Parameters!$C$20,2),G7*Parameters!$J$27))","v":""},"",{"$f":"IF(G7=\"\",\"\",ROUND(G7*Parameters!$C$16,2))","v":""},{"$f":"IF(G7=\"\",\"\",ROUND(G7*VLOOKUP(J7,Parameters!$E$3:$F$49,2,FALSE),2))","v":""},{"$f":"IF(G7=\"\",\"\",ROUND(G7*Parameters!$J$66,2))","v":""},"",{"$f":"IF(G7=\"\",\"\",ROUND(G7*Parameters!$C$13,2))","v":""},{"$f":"IF(G7=\"\",\"\",IF(YEAR(Informatie!$C$1)=2015,ROUND(G7*Parameters!J$44,2),ROUND(G7*VLOOKUP('Overzicht deelnemers'!I7,Parameters!$E$4:$G$49,3,FALSE),2)))","v":""},{"$f":"IF(G7=\"\",\"\",IF(YEAR(Informatie!$C$1)=2015,ROUND(T7*Parameters!$C$20,2),ROUND(G7*Parameters!$J$44,2)))","v":""},"",{"$f":"IF(G7=\"\",\"\",ROUND(G7*Parameters!C$17,2))","v":""},{"$f":"IF(G7=\"\",\"\",ROUND(G7*VLOOKUP(J7,Parameters!E$4:G$49,3),2))","v":""},{"$f":"IF(G7=\"\",\"\",ROUND(G7*Parameters!J$83,2))","v":""},""]
[null,null,null,null,0,{"$f":"IF(C8=\"\",0,IF(C8<=Parameters!$C$3,C8,Parameters!$C$3))","v":0},{"$f":"IF(C8=\"\",\"\",IF(F8<Parameters!$C$4,\"\",(F8-Parameters!$C$4)*D8))","v":""},null,{"$f":"IF(H8=\"\",\"\",YEAR(+Informatie!$C$1)-YEAR(H8))","v":""},"",{"$f":"IF(G8=\"\",\"\",ROUND(G8*Parameters!$C$12,2))","v":""},{"$f":"IF(G8=\"\",\"\",IF(YEAR(Informatie!$C$1)=2015,ROUND(G8*Parameters!$J$27,2),ROUND(G8*VLOOKUP('Overzicht deelnemers'!I8,Parameters!$E$4:$G$49,2,FALSE),2)))","v":""},{"$f":"IF(G8=\"\",\"\",IF(YEAR(Informatie!$C$1)=2015,ROUND(L8*Parameters!$C$20,2),G8*Parameters!$J$27))","v":""},"",{"$f":"IF(G8=\"\",\"\",ROUND(G8*Parameters!$C$16,2))","v":""},{"$f":"IF(G8=\"\",\"\",ROUND(G8*VLOOKUP(J8,Parameters!$E$3:$F$49,2,FALSE),2))","v":""},{"$f":"IF(G8=\"\",\"\",ROUND(G8*Parameters!$J$66,2))","v":""},"",{"$f":"IF(G8=\"\",\"\",ROUND(G8*Parameters!$C$13,2))","v":""},{"$f":"IF(G8=\"\",\"\",IF(YEAR(Informatie!$C$1)=2015,ROUND(G8*Parameters!J$44,2),ROUND(G8*VLOOKUP('Overzicht deelnemers'!I8,Parameters!$E$4:$G$49,3,FALSE),2)))","v":""},{"$f":"IF(G8=\"\",\"\",IF(YEAR(Informatie!$C$1)=2015,ROUND(T8*Parameters!$C$20,2),ROUND(G8*Parameters!$J$44,2)))","v":""},"",{"$f":"IF(G8=\"\",\"\",ROUND(G8*Parameters!C$17,2))","v":""},{"$f":"IF(G8=\"\",\"\",ROUND(G8*VLOOKUP(J8,Parameters!E$4:G$49,3),2))","v":""},{"$f":"IF(G8=\"\",\"\",ROUND(G8*Parameters!J$83,2))","v":""},""]
[null,null,null,null,0,{"$f":"IF(C9=\"\",0,IF(C9<=Parameters!$C$3,C9,Parameters!$C$3))","v":0},{"$f":"IF(C9=\"\",\"\",IF(F9<Parameters!$C$4,\"\",(F9-Parameters!$C$4)*D9))","v":""},null,{"$f":"IF(H9=\"\",\"\",YEAR(+Informatie!$C$1)-YEAR(H9))","v":""},"",{"$f":"IF(G9=\"\",\"\",ROUND(G9*Parameters!$C$12,2))","v":""},{"$f":"IF(G9=\"\",\"\",IF(YEAR(Informatie!$C$1)=2015,ROUND(G9*Parameters!$J$27,2),ROUND(G9*VLOOKUP('Overzicht deelnemers'!I9,Parameters!$E$4:$G$49,2,FALSE),2)))","v":""},{"$f":"IF(G9=\"\",\"\",IF(YEAR(Informatie!$C$1)=2015,ROUND(L9*Parameters!$C$20,2),G9*Parameters!$J$27))","v":""},"",{"$f":"IF(G9=\"\",\"\",ROUND(G9*Parameters!$C$16,2))","v":""},{"$f":"IF(G9=\"\",\"\",ROUND(G9*VLOOKUP(J9,Parameters!$E$3:$F$49,2,FALSE),2))","v":""},{"$f":"IF(G9=\"\",\"\",ROUND(G9*Parameters!$J$66,2))","v":""},"",{"$f":"IF(G9=\"\",\"\",ROUND(G9*Parameters!$C$13,2))","v":""},{"$f":"IF(G9=\"\",\"\",IF(YEAR(Informatie!$C$1)=2015,ROUND(G9*Parameters!J$44,2),ROUND(G9*VLOOKUP('Overzicht deelnemers'!I9,Parameters!$E$4:$G$49,3,FALSE),2)))","v":""},{"$f":"IF(G9=\"\",\"\",IF(YEAR(Informatie!$C$1)=2015,ROUND(T9*Parameters!$C$20,2),ROUND(G9*Parameters!$J$44,2)))","v":""},"",{"$f":"IF(G9=\"\",\"\",ROUND(G9*Parameters!C$17,2))","v":""},{"$f":"IF(G9=\"\",\"\",ROUND(G9*VLOOKUP(J9,Parameters!E$4:G$49,3),2))","v":""},{"$f":"IF(G9=\"\",\"\",ROUND(G9*Parameters!J$83,2))","v":""},""]
[null,null,null,null,0,{"$f":"IF(C10=\"\",0,IF(C10<=Parameters!$C$3,C10,Parameters!$C$3))","v":0},{"$f":"IF(C10=\"\",\"\",IF(F10<Parameters!$C$4,\"\",(F10-Parameters!$C$4)*D10))","v":""},null,{"$f":"IF(H10=\"\",\"\",YEAR(+Informatie!$C$1)-YEAR(H10))","v":""},"",{"$f":"IF(G10=\"\",\"\",ROUND(G10*Parameters!$C$12,2))","v":""},{"$f":"IF(G10=\"\",\"\",IF(YEAR(Informatie!$C$1)=2015,ROUND(G10*Parameters!$J$27,2),ROUND(G10*VLOOKUP('Overzicht deelnemers'!I10,Parameters!$E$4:$G$49,2,FALSE),2)))","v":""},{"$f":"IF(G10=\"\",\"\",IF(YEAR(Informatie!$C$1)=2015,ROUND(L10*Parameters!$C$20,2),G10*Parameters!$J$27))","v":""},"",{"$f":"IF(G10=\"\",\"\",ROUND(G10*Parameters!$C$16,2))","v":""},{"$f":"IF(G10=\"\",\"\",ROUND(G10*VLOOKUP(J10,Parameters!$E$3:$F$49,2,FALSE),2))","v":""},{"$f":"IF(G10=\"\",\"\",ROUND(G10*Parameters!$J$66,2))","v":""},"",{"$f":"IF(G10=\"\",\"\",ROUND(G10*Parameters!$C$13,2))","v":""},{"$f":"IF(G10=\"\",\"\",IF(YEAR(Informatie!$C$1)=2015,ROUND(G10*Parameters!J$44,2),ROUND(G10*VLOOKUP('Overzicht deelnemers'!I10,Parameters!$E$4:$G$49,3,FALSE),2)))","v":""},{"$f":"IF(G10=\"\",\"\",IF(YEAR(Informatie!$C$1)=2015,ROUND(T10*Parameters!$C$20,2),ROUND(G10*Parameters!$J$44,2)))","v":""},"",{"$f":"IF(G10=\"\",\"\",ROUND(G10*Parameters!C$17,2))","v":""},{"$f":"IF(G10=\"\",\"\",ROUND(G10*VLOOKUP(J10,Parameters!E$4:G$49,3),2))","v":""},{"$f":"IF(G10=\"\",\"\",ROUND(G10*Parameters!J$83,2))","v":""},""]
[null,null,null,null,0,{"$f":"IF(C11=\"\",0,IF(C11<=Parameters!$C$3,C11,Parameters!$C$3))","v":0},{"$f":"IF(C11=\"\",\"\",IF(F11<Parameters!$C$4,\"\",(F11-Parameters!$C$4)*D11))","v":""},null,{"$f":"IF(H11=\"\",\"\",YEAR(+Informatie!$C$1)-YEAR(H11))","v":""},"",{"$f":"IF(G11=\"\",\"\",ROUND(G11*Parameters!$C$12,2))","v":""},{"$f":"IF(G11=\"\",\"\",IF(YEAR(Informatie!$C$1)=2015,ROUND(G11*Parameters!$J$27,2),ROUND(G11*VLOOKUP('Overzicht deelnemers'!I11,Parameters!$E$4:$G$49,2,FALSE),2)))","v":""},{"$f":"IF(G11=\"\",\"\",IF(YEAR(Informatie!$C$1)=2015,ROUND(L11*Parameters!$C$20,2),G11*Parameters!$J$27))","v":""},"",{"$f":"IF(G11=\"\",\"\",ROUND(G11*Parameters!$C$16,2))","v":""},{"$f":"IF(G11=\"\",\"\",ROUND(G11*VLOOKUP(J11,Parameters!$E$3:$F$49,2,FALSE),2))","v":""},{"$f":"IF(G11=\"\",\"\",ROUND(G11*Parameters!$J$66,2))","v":""},"",{"$f":"IF(G11=\"\",\"\",ROUND(G11*Parameters!$C$13,2))","v":""},{"$f":"IF(G11=\"\",\"\",IF(YEAR(Informatie!$C$1)=2015,ROUND(G11*Parameters!J$44,2),ROUND(G11*VLOOKUP('Overzicht deelnemers'!I11,Parameters!$E$4:$G$49,3,FALSE),2)))","v":""},{"$f":"IF(G11=\"\",\"\",IF(YEAR(Informatie!$C$1)=2015,ROUND(T11*Parameters!$C$20,2),ROUND(G11*Parameters!$J$44,2)))","v":""},"",{"$f":"IF(G11=\"\",\"\",ROUND(G11*Parameters!C$17,2))","v":""},{"$f":"IF(G11=\"\",\"\",ROUND(G11*VLOOKUP(J11,Parameters!E$4:G$49,3),2))","v":""},{"$f":"IF(G11=\"\",\"\",ROUND(G11*Parameters!J$83,2))","v":""},""]
[null,null,null,null,0,{"$f":"IF(C12=\"\",0,IF(C12<=Parameters!$C$3,C12,Parameters!$C$3))","v":0},{"$f":"IF(C12=\"\",\"\",IF(F12<Parameters!$C$4,\"\",(F12-Parameters!$C$4)*D12))","v":""},null,{"$f":"IF(H12=\"\",\"\",YEAR(+Informatie!$C$1)-YEAR(H12))","v":""},"",{"$f":"IF(G12=\"\",\"\",ROUND(G12*Parameters!$C$12,2))","v":""},{"$f":"IF(G12=\"\",\"\",IF(YEAR(Informatie!$C$1)=2015,ROUND(G12*Parameters!$J$27,2),ROUND(G12*VLOOKUP('Overzicht deelnemers'!I12,Parameters!$E$4:$G$49,2,FALSE),2)))","v":""},{"$f":"IF(G12=\"\",\"\",IF(YEAR(Informatie!$C$1)=2015,ROUND(L12*Parameters!$C$20,2),G12*Parameters!$J$27))","v":""},"",{"$f":"IF(G12=\"\",\"\",ROUND(G12*Parameters!$C$16,2))","v":""},{"$f":"IF(G12=\"\",\"\",ROUND(G12*VLOOKUP(J12,Parameters!$E$3:$F$49,2,FALSE),2))","v":""},{"$f":"IF(G12=\"\",\"\",ROUND(G12*Parameters!$J$66,2))","v":""},"",{"$f":"IF(G12=\"\",\"\",ROUND(G12*Parameters!$C$13,2))","v":""},{"$f":"IF(G12=\"\",\"\",IF(YEAR(Informatie!$C$1)=2015,ROUND(G12*Parameters!J$44,2),ROUND(G12*VLOOKUP('Overzicht deelnemers'!I12,Parameters!$E$4:$G$49,3,FALSE),2)))","v":""},{"$f":"IF(G12=\"\",\"\",IF(YEAR(Informatie!$C$1)=2015,ROUND(T12*Parameters!$C$20,2),ROUND(G12*Parameters!$J$44,2)))","v":""},"",{"$f":"IF(G12=\"\",\"\",ROUND(G12*Parameters!C$17,2))","v":""},{"$f":"IF(G12=\"\",\"\",ROUND(G12*VLOOKUP(J12,Parameters!E$4:G$49,3),2))","v":""},{"$f":"IF(G12=\"\",\"\",ROUND(G12*Parameters!J$83,2))","v":""},""]
[null,null,null,null,0,{"$f":"IF(C13=\"\",0,IF(C13<=Parameters!$C$3,C13,Parameters!$C$3))","v":0},{"$f":"IF(C13=\"\",\"\",IF(F13<Parameters!$C$4,\"\",(F13-Parameters!$C$4)*D13))","v":""},null,{"$f":"IF(H13=\"\",\"\",YEAR(+Informatie!$C$1)-YEAR(H13))","v":""},"",{"$f":"IF(G13=\"\",\"\",ROUND(G13*Parameters!$C$12,2))","v":""},{"$f":"IF(G13=\"\",\"\",IF(YEAR(Informatie!$C$1)=2015,ROUND(G13*Parameters!$J$27,2),ROUND(G13*VLOOKUP('Overzicht deelnemers'!I13,Parameters!$E$4:$G$49,2,FALSE),2)))","v":""},{"$f":"IF(G13=\"\",\"\",IF(YEAR(Informatie!$C$1)=2015,ROUND(L13*Parameters!$C$20,2),G13*Parameters!$J$27))","v":""},"",{"$f":"IF(G13=\"\",\"\",ROUND(G13*Parameters!$C$16,2))","v":""},{"$f":"IF(G13=\"\",\"\",ROUND(G13*VLOOKUP(J13,Parameters!$E$3:$F$49,2,FALSE),2))","v":""},{"$f":"IF(G13=\"\",\"\",ROUND(G13*Parameters!$J$66,2))","v":""},"",{"$f":"IF(G13=\"\",\"\",ROUND(G13*Parameters!$C$13,2))","v":""},{"$f":"IF(G13=\"\",\"\",IF(YEAR(Informatie!$C$1)=2015,ROUND(G13*Parameters!J$44,2),ROUND(G13*VLOOKUP('Overzicht deelnemers'!I13,Parameters!$E$4:$G$49,3,FALSE),2)))","v":""},{"$f":"IF(G13=\"\",\"\",IF(YEAR(Informatie!$C$1)=2015,ROUND(T13*Parameters!$C$20,2),ROUND(G13*Parameters!$J$44,2)))","v":""},"",{"$f":"IF(G13=\"\",\"\",ROUND(G13*Parameters!C$17,2))","v":""},{"$f":"IF(G13=\"\",\"\",ROUND(G13*VLOOKUP(J13,Parameters!E$4:G$49,3),2))","v":""},{"$f":"IF(G13=\"\",\"\",ROUND(G13*Parameters!J$83,2))","v":""},""]
[null,null,null,null,0,{"$f":"IF(C14=\"\",0,IF(C14<=Parameters!$C$3,C14,Parameters!$C$3))","v":0},{"$f":"IF(C14=\"\",\"\",IF(F14<Parameters!$C$4,\"\",(F14-Parameters!$C$4)*D14))","v":""},null,{"$f":"IF(H14=\"\",\"\",YEAR(+Informatie!$C$1)-YEAR(H14))","v":""},"",{"$f":"IF(G14=\"\",\"\",ROUND(G14*Parameters!$C$12,2))","v":""},{"$f":"IF(G14=\"\",\"\",IF(YEAR(Informatie!$C$1)=2015,ROUND(G14*Parameters!$J$27,2),ROUND(G14*VLOOKUP('Overzicht deelnemers'!I14,Parameters!$E$4:$G$49,2,FALSE),2)))","v":""},{"$f":"IF(G14=\"\",\"\",IF(YEAR(Informatie!$C$1)=2015,ROUND(L14*Parameters!$C$20,2),G14*Parameters!$J$27))","v":""},"",{"$f":"IF(G14=\"\",\"\",ROUND(G14*Parameters!$C$16,2))","v":""},{"$f":"IF(G14=\"\",\"\",ROUND(G14*VLOOKUP(J14,Parameters!$E$3:$F$49,2,FALSE),2))","v":""},{"$f":"IF(G14=\"\",\"\",ROUND(G14*Parameters!$J$66,2))","v":""},"",{"$f":"IF(G14=\"\",\"\",ROUND(G14*Parameters!$C$13,2))","v":""},{"$f":"IF(G14=\"\",\"\",IF(YEAR(Informatie!$C$1)=2015,ROUND(G14*Parameters!J$44,2),ROUND(G14*VLOOKUP('Overzicht deelnemers'!I14,Parameters!$E$4:$G$49,3,FALSE),2)))","v":""},{"$f":"IF(G14=\"\",\"\",IF(YEAR(Informatie!$C$1)=2015,ROUND(T14*Parameters!$C$20,2),ROUND(G14*Parameters!$J$44,2)))","v":""},"",{"$f":"IF(G14=\"\",\"\",ROUND(G14*Parameters!C$17,2))","v":""},{"$f":"IF(G14=\"\",\"\",ROUND(G14*VLOOKUP(J14,Parameters!E$4:G$49,3),2))","v":""},{"$f":"IF(G14=\"\",\"\",ROUND(G14*Parameters!J$83,2))","v":""},""]
[null,null,null,null,0,{"$f":"IF(C15=\"\",0,IF(C15<=Parameters!$C$3,C15,Parameters!$C$3))","v":0},{"$f":"IF(C15=\"\",\"\",IF(F15<Parameters!$C$4,\"\",(F15-Parameters!$C$4)*D15))","v":""},null,{"$f":"IF(H15=\"\",\"\",YEAR(+Informatie!$C$1)-YEAR(H15))","v":""},"",{"$f":"IF(G15=\"\",\"\",ROUND(G15*Parameters!$C$12,2))","v":""},{"$f":"IF(G15=\"\",\"\",IF(YEAR(Informatie!$C$1)=2015,ROUND(G15*Parameters!$J$27,2),ROUND(G15*VLOOKUP('Overzicht deelnemers'!I15,Parameters!$E$4:$G$49,2,FALSE),2)))","v":""},{"$f":"IF(G15=\"\",\"\",IF(YEAR(Informatie!$C$1)=2015,ROUND(L15*Parameters!$C$20,2),G15*Parameters!$J$27))","v":""},"",{"$f":"IF(G15=\"\",\"\",ROUND(G15*Parameters!$C$16,2))","v":""},{"$f":"IF(G15=\"\",\"\",ROUND(G15*VLOOKUP(J15,Parameters!$E$3:$F$49,2,FALSE),2))","v":""},{"$f":"IF(G15=\"\",\"\",ROUND(G15*Parameters!$J$66,2))","v":""},"",{"$f":"IF(G15=\"\",\"\",ROUND(G15*Parameters!$C$13,2))","v":""},{"$f":"IF(G15=\"\",\"\",IF(YEAR(Informatie!$C$1)=2015,ROUND(G15*Parameters!J$44,2),ROUND(G15*VLOOKUP('Overzicht deelnemers'!I15,Parameters!$E$4:$G$49,3,FALSE),2)))","v":""},{"$f":"IF(G15=\"\",\"\",IF(YEAR(Informatie!$C$1)=2015,ROUND(T15*Parameters!$C$20,2),ROUND(G15*Parameters!$J$44,2)))","v":""},"",{"$f":"IF(G15=\"\",\"\",ROUND(G15*Parameters!C$17,2))","v":""},{"$f":"IF(G15=\"\",\"\",ROUND(G15*VLOOKUP(J15,Parameters!E$4:G$49,3),2))","v":""},{"$f":"IF(G15=\"\",\"\",ROUND(G15*Parameters!J$83,2))","v":""},""]
[null,null,null,null,0,{"$f":"IF(C16=\"\",0,IF(C16<=Parameters!$C$3,C16,Parameters!$C$3))","v":0},{"$f":"IF(C16=\"\",\"\",IF(F16<Parameters!$C$4,\"\",(F16-Parameters!$C$4)*D16))","v":""},null,{"$f":"IF(H16=\"\",\"\",YEAR(+Informatie!$C$1)-YEAR(H16))","v":""},"",{"$f":"IF(G16=\"\",\"\",ROUND(G16*Parameters!$C$12,2))","v":""},{"$f":"IF(G16=\"\",\"\",IF(YEAR(Informatie!$C$1)=2015,ROUND(G16*Parameters!$J$27,2),ROUND(G16*VLOOKUP('Overzicht deelnemers'!I16,Parameters!$E$4:$G$49,2,FALSE),2)))","v":""},{"$f":"IF(G16=\"\",\"\",IF(YEAR(Informatie!$C$1)=2015,ROUND(L16*Parameters!$C$20,2),G16*Parameters!$J$27))","v":""},"",{"$f":"IF(G16=\"\",\"\",ROUND(G16*Parameters!$C$16,2))","v":""},{"$f":"IF(G16=\"\",\"\",ROUND(G16*VLOOKUP(J16,Parameters!$E$3:$F$49,2,FALSE),2))","v":""},{"$f":"IF(G16=\"\",\"\",ROUND(G16*Parameters!$J$66,2))","v":""},"",{"$f":"IF(G16=\"\",\"\",ROUND(G16*Parameters!$C$13,2))","v":""},{"$f":"IF(G16=\"\",\"\",IF(YEAR(Informatie!$C$1)=2015,ROUND(G16*Parameters!J$44,2),ROUND(G16*VLOOKUP('Overzicht deelnemers'!I16,Parameters!$E$4:$G$49,3,FALSE),2)))","v":""},{"$f":"IF(G16=\"\",\"\",IF(YEAR(Informatie!$C$1)=2015,ROUND(T16*Parameters!$C$20,2),ROUND(G16*Parameters!$J$44,2)))","v":""},"",{"$f":"IF(G16=\"\",\"\",ROUND(G16*Parameters!C$17,2))","v":""},{"$f":"IF(G16=\"\",\"\",ROUND(G16*VLOOKUP(J16,Parameters!E$4:G$49,3),2))","v":""},{"$f":"IF(G16=\"\",\"\",ROUND(G16*Parameters!J$83,2))","v":""},""]
[null,null,null,null,0,{"$f":"IF(C17=\"\",0,IF(C17<=Parameters!$C$3,C17,Parameters!$C$3))","v":0},{"$f":"IF(C17=\"\",\"\",IF(F17<Parameters!$C$4,\"\",(F17-Parameters!$C$4)*D17))","v":""},null,{"$f":"IF(H17=\"\",\"\",YEAR(+Informatie!$C$1)-YEAR(H17))","v":""},"",{"$f":"IF(G17=\"\",\"\",ROUND(G17*Parameters!$C$12,2))","v":""},{"$f":"IF(G17=\"\",\"\",IF(YEAR(Informatie!$C$1)=2015,ROUND(G17*Parameters!$J$27,2),ROUND(G17*VLOOKUP('Overzicht deelnemers'!I17,Parameters!$E$4:$G$49,2,FALSE),2)))","v":""},{"$f":"IF(G17=\"\",\"\",IF(YEAR(Informatie!$C$1)=2015,ROUND(L17*Parameters!$C$20,2),G17*Parameters!$J$27))","v":""},"",{"$f":"IF(G17=\"\",\"\",ROUND(G17*Parameters!$C$16,2))","v":""},{"$f":"IF(G17=\"\",\"\",ROUND(G17*VLOOKUP(J17,Parameters!$E$3:$F$49,2,FALSE),2))","v":""},{"$f":"IF(G17=\"\",\"\",ROUND(G17*Parameters!$J$66,2))","v":""},"",{"$f":"IF(G17=\"\",\"\",ROUND(G17*Parameters!$C$13,2))","v":""},{"$f":"IF(G17=\"\",\"\",IF(YEAR(Informatie!$C$1)=2015,ROUND(G17*Parameters!J$44,2),ROUND(G17*VLOOKUP('Overzicht deelnemers'!I17,Parameters!$E$4:$G$49,3,FALSE),2)))","v":""},{"$f":"IF(G17=\"\",\"\",IF(YEAR(Informatie!$C$1)=2015,ROUND(T17*Parameters!$C$20,2),ROUND(G17*Parameters!$J$44,2)))","v":""},"",{"$f":"IF(G17=\"\",\"\",ROUND(G17*Parameters!C$17,2))","v":""},{"$f":"IF(G17=\"\",\"\",ROUND(G17*VLOOKUP(J17,Parameters!E$4:G$49,3),2))","v":""},{"$f":"IF(G17=\"\",\"\",ROUND(G17*Parameters!J$83,2))","v":""},""]
[null,null,null,null,0,{"$f":"IF(C18=\"\",0,IF(C18<=Parameters!$C$3,C18,Parameters!$C$3))","v":0},{"$f":"IF(C18=\"\",\"\",IF(F18<Parameters!$C$4,\"\",(F18-Parameters!$C$4)*D18))","v":""},null,{"$f":"IF(H18=\"\",\"\",YEAR(+Informatie!$C$1)-YEAR(H18))","v":""},"",{"$f":"IF(G18=\"\",\"\",ROUND(G18*Parameters!$C$12,2))","v":""},{"$f":"IF(G18=\"\",\"\",IF(YEAR(Informatie!$C$1)=2015,ROUND(G18*Parameters!$J$27,2),ROUND(G18*VLOOKUP('Overzicht deelnemers'!I18,Parameters!$E$4:$G$49,2,FALSE),2)))","v":""},{"$f":"IF(G18=\"\",\"\",IF(YEAR(Informatie!$C$1)=2015,ROUND(L18*Parameters!$C$20,2),G18*Parameters!$J$27))","v":""},"",{"$f":"IF(G18=\"\",\"\",ROUND(G18*Parameters!$C$16,2))","v":""},{"$f":"IF(G18=\"\",\"\",ROUND(G18*VLOOKUP(J18,Parameters!$E$3:$F$49,2,FALSE),2))","v":""},{"$f":"IF(G18=\"\",\"\",ROUND(G18*Parameters!$J$66,2))","v":""},"",{"$f":"IF(G18=\"\",\"\",ROUND(G18*Parameters!$C$13,2))","v":""},{"$f":"IF(G18=\"\",\"\",IF(YEAR(Informatie!$C$1)=2015,ROUND(G18*Parameters!J$44,2),ROUND(G18*VLOOKUP('Overzicht deelnemers'!I18,Parameters!$E$4:$G$49,3,FALSE),2)))","v":""},{"$f":"IF(G18=\"\",\"\",IF(YEAR(Informatie!$C$1)=2015,ROUND(T18*Parameters!$C$20,2),ROUND(G18*Parameters!$J$44,2)))","v":""},"",{"$f":"IF(G18=\"\",\"\",ROUND(G18*Parameters!C$17,2))","v":""},{"$f":"IF(G18=\"\",\"\",ROUND(G18*VLOOKUP(J18,Parameters!E$4:G$49,3),2))","v":""},{"$f":"IF(G18=\"\",\"\",ROUND(G18*Parameters!J$83,2))","v":""},""]
[null,null,null,null,0,{"$f":"IF(C19=\"\",0,IF(C19<=Parameters!$C$3,C19,Parameters!$C$3))","v":0},{"$f":"IF(C19=\"\",\"\",IF(F19<Parameters!$C$4,\"\",(F19-Parameters!$C$4)*D19))","v":""},null,{"$f":"IF(H19=\"\",\"\",YEAR(+Informatie!$C$1)-YEAR(H19))","v":""},"",{"$f":"IF(G19=\"\",\"\",ROUND(G19*Parameters!$C$12,2))","v":""},{"$f":"IF(G19=\"\",\"\",IF(YEAR(Informatie!$C$1)=2015,ROUND(G19*Parameters!$J$27,2),ROUND(G19*VLOOKUP('Overzicht deelnemers'!I19,Parameters!$E$4:$G$49,2,FALSE),2)))","v":""},{"$f":"IF(G19=\"\",\"\",IF(YEAR(Informatie!$C$1)=2015,ROUND(L19*Parameters!$C$20,2),G19*Parameters!$J$27))","v":""},"",{"$f":"IF(G19=\"\",\"\",ROUND(G19*Parameters!$C$16,2))","v":""},{"$f":"IF(G19=\"\",\"\",ROUND(G19*VLOOKUP(J19,Parameters!$E$3:$F$49,2,FALSE),2))","v":""},{"$f":"IF(G19=\"\",\"\",ROUND(G19*Parameters!$J$66,2))","v":""},"",{"$f":"IF(G19=\"\",\"\",ROUND(G19*Parameters!$C$13,2))","v":""},{"$f":"IF(G19=\"\",\"\",IF(YEAR(Informatie!$C$1)=2015,ROUND(G19*Parameters!J$44,2),ROUND(G19*VLOOKUP('Overzicht deelnemers'!I19,Parameters!$E$4:$G$49,3,FALSE),2)))","v":""},{"$f":"IF(G19=\"\",\"\",IF(YEAR(Informatie!$C$1)=2015,ROUND(T19*Parameters!$C$20,2),ROUND(G19*Parameters!$J$44,2)))","v":""},"",{"$f":"IF(G19=\"\",\"\",ROUND(G19*Parameters!C$17,2))","v":""},{"$f":"IF(G19=\"\",\"\",ROUND(G19*VLOOKUP(J19,Parameters!E$4:G$49,3),2))","v":""},{"$f":"IF(G19=\"\",\"\",ROUND(G19*Parameters!J$83,2))","v":""},""]
[null,null,null,null,0,{"$f":"IF(C20=\"\",0,IF(C20<=Parameters!$C$3,C20,Parameters!$C$3))","v":0},{"$f":"IF(C20=\"\",\"\",IF(F20<Parameters!$C$4,\"\",(F20-Parameters!$C$4)*D20))","v":""},null,{"$f":"IF(H20=\"\",\"\",YEAR(+Informatie!$C$1)-YEAR(H20))","v":""},"",{"$f":"IF(G20=\"\",\"\",ROUND(G20*Parameters!$C$12,2))","v":""},{"$f":"IF(G20=\"\",\"\",IF(YEAR(Informatie!$C$1)=2015,ROUND(G20*Parameters!$J$27,2),ROUND(G20*VLOOKUP('Overzicht deelnemers'!I20,Parameters!$E$4:$G$49,2,FALSE),2)))","v":""},{"$f":"IF(G20=\"\",\"\",IF(YEAR(Informatie!$C$1)=2015,ROUND(L20*Parameters!$C$20,2),G20*Parameters!$J$27))","v":""},"",{"$f":"IF(G20=\"\",\"\",ROUND(G20*Parameters!$C$16,2))","v":""},{"$f":"IF(G20=\"\",\"\",ROUND(G20*VLOOKUP(J20,Parameters!$E$3:$F$49,2,FALSE),2))","v":""},{"$f":"IF(G20=\"\",\"\",ROUND(G20*Parameters!$J$66,2))","v":""},"",{"$f":"IF(G20=\"\",\"\",ROUND(G20*Parameters!$C$13,2))","v":""},{"$f":"IF(G20=\"\",\"\",IF(YEAR(Informatie!$C$1)=2015,ROUND(G20*Parameters!J$44,2),ROUND(G20*VLOOKUP('Overzicht deelnemers'!I20,Parameters!$E$4:$G$49,3,FALSE),2)))","v":""},{"$f":"IF(G20=\"\",\"\",IF(YEAR(Informatie!$C$1)=2015,ROUND(T20*Parameters!$C$20,2),ROUND(G20*Parameters!$J$44,2)))","v":""},"",{"$f":"IF(G20=\"\",\"\",ROUND(G20*Parameters!C$17,2))","v":""},{"$f":"IF(G20=\"\",\"\",ROUND(G20*VLOOKUP(J20,Parameters!E$4:G$49,3),2))","v":""},{"$f":"IF(G20=\"\",\"\",ROUND(G20*Parameters!J$83,2))","v":""},""]
[null,null,null,null,0,{"$f":"IF(C21=\"\",0,IF(C21<=Parameters!$C$3,C21,Parameters!$C$3))","v":0},{"$f":"IF(C21=\"\",\"\",IF(F21<Parameters!$C$4,\"\",(F21-Parameters!$C$4)*D21))","v":""},null,{"$f":"IF(H21=\"\",\"\",YEAR(+Informatie!$C$1)-YEAR(H21))","v":""},"",{"$f":"IF(G21=\"\",\"\",ROUND(G21*Parameters!$C$12,2))","v":""},{"$f":"IF(G21=\"\",\"\",IF(YEAR(Informatie!$C$1)=2015,ROUND(G21*Parameters!$J$27,2),ROUND(G21*VLOOKUP('Overzicht deelnemers'!I21,Parameters!$E$4:$G$49,2,FALSE),2)))","v":""},{"$f":"IF(G21=\"\",\"\",IF(YEAR(Informatie!$C$1)=2015,ROUND(L21*Parameters!$C$20,2),G21*Parameters!$J$27))","v":""},"",{"$f":"IF(G21=\"\",\"\",ROUND(G21*Parameters!$C$16,2))","v":""},{"$f":"IF(G21=\"\",\"\",ROUND(G21*VLOOKUP(J21,Parameters!$E$3:$F$49,2,FALSE),2))","v":""},{"$f":"IF(G21=\"\",\"\",ROUND(G21*Parameters!$J$66,2))","v":""},"",{"$f":"IF(G21=\"\",\"\",ROUND(G21*Parameters!$C$13,2))","v":""},{"$f":"IF(G21=\"\",\"\",IF(YEAR(Informatie!$C$1)=2015,ROUND(G21*Parameters!J$44,2),ROUND(G21*VLOOKUP('Overzicht deelnemers'!I21,Parameters!$E$4:$G$49,3,FALSE),2)))","v":""},{"$f":"IF(G21=\"\",\"\",IF(YEAR(Informatie!$C$1)=2015,ROUND(T21*Parameters!$C$20,2),ROUND(G21*Parameters!$J$44,2)))","v":""},"",{"$f":"IF(G21=\"\",\"\",ROUND(G21*Parameters!C$17,2))","v":""},{"$f":"IF(G21=\"\",\"\",ROUND(G21*VLOOKUP(J21,Parameters!E$4:G$49,3),2))","v":""},{"$f":"IF(G21=\"\",\"\",ROUND(G21*Parameters!J$83,2))","v":""},""]
[null,null,null,null,0,{"$f":"IF(C22=\"\",0,IF(C22<=Parameters!$C$3,C22,Parameters!$C$3))","v":0},{"$f":"IF(C22=\"\",\"\",IF(F22<Parameters!$C$4,\"\",(F22-Parameters!$C$4)*D22))","v":""},null,{"$f":"IF(H22=\"\",\"\",YEAR(+Informatie!$C$1)-YEAR(H22))","v":""},"",{"$f":"IF(G22=\"\",\"\",ROUND(G22*Parameters!$C$12,2))","v":""},{"$f":"IF(G22=\"\",\"\",IF(YEAR(Informatie!$C$1)=2015,ROUND(G22*Parameters!$J$27,2),ROUND(G22*VLOOKUP('Overzicht deelnemers'!I22,Parameters!$E$4:$G$49,2,FALSE),2)))","v":""},{"$f":"IF(G22=\"\",\"\",IF(YEAR(Informatie!$C$1)=2015,ROUND(L22*Parameters!$C$20,2),G22*Parameters!$J$27))","v":""},"",{"$f":"IF(G22=\"\",\"\",ROUND(G22*Parameters!$C$16,2))","v":""},{"$f":"IF(G22=\"\",\"\",ROUND(G22*VLOOKUP(J22,Parameters!$E$3:$F$49,2,FALSE),2))","v":""},{"$f":"IF(G22=\"\",\"\",ROUND(G22*Parameters!$J$66,2))","v":""},"",{"$f":"IF(G22=\"\",\"\",ROUND(G22*Parameters!$C$13,2))","v":""},{"$f":"IF(G22=\"\",\"\",IF(YEAR(Informatie!$C$1)=2015,ROUND(G22*Parameters!J$44,2),ROUND(G22*VLOOKUP('Overzicht deelnemers'!I22,Parameters!$E$4:$G$49,3,FALSE),2)))","v":""},{"$f":"IF(G22=\"\",\"\",IF(YEAR(Informatie!$C$1)=2015,ROUND(T22*Parameters!$C$20,2),ROUND(G22*Parameters!$J$44,2)))","v":""},"",{"$f":"IF(G22=\"\",\"\",ROUND(G22*Parameters!C$17,2))","v":""},{"$f":"IF(G22=\"\",\"\",ROUND(G22*VLOOKUP(J22,Parameters!E$4:G$49,3),2))","v":""},{"$f":"IF(G22=\"\",\"\",ROUND(G22*Parameters!J$83,2))","v":""},""]
[null,null,null,null,0,{"$f":"IF(C23=\"\",0,IF(C23<=Parameters!$C$3,C23,Parameters!$C$3))","v":0},{"$f":"IF(C23=\"\",\"\",IF(F23<Parameters!$C$4,\"\",(F23-Parameters!$C$4)*D23))","v":""},null,{"$f":"IF(H23=\"\",\"\",YEAR(+Informatie!$C$1)-YEAR(H23))","v":""},"",{"$f":"IF(G23=\"\",\"\",ROUND(G23*Parameters!$C$12,2))","v":""},{"$f":"IF(G23=\"\",\"\",IF(YEAR(Informatie!$C$1)=2015,ROUND(G23*Parameters!$J$27,2),ROUND(G23*VLOOKUP('Overzicht deelnemers'!I23,Parameters!$E$4:$G$49,2,FALSE),2)))","v":""},{"$f":"IF(G23=\"\",\"\",IF(YEAR(Informatie!$C$1)=2015,ROUND(L23*Parameters!$C$20,2),G23*Parameters!$J$27))","v":""},"",{"$f":"IF(G23=\"\",\"\",ROUND(G23*Parameters!$C$16,2))","v":""},{"$f":"IF(G23=\"\",\"\",ROUND(G23*VLOOKUP(J23,Parameters!$E$3:$F$49,2,FALSE),2))","v":""},{"$f":"IF(G23=\"\",\"\",ROUND(G23*Parameters!$J$66,2))","v":""},"",{"$f":"IF(G23=\"\",\"\",ROUND(G23*Parameters!$C$13,2))","v":""},{"$f":"IF(G23=\"\",\"\",IF(YEAR(Informatie!$C$1)=2015,ROUND(G23*Parameters!J$44,2),ROUND(G23*VLOOKUP('Overzicht deelnemers'!I23,Parameters!$E$4:$G$49,3,FALSE),2)))","v":""},{"$f":"IF(G23=\"\",\"\",IF(YEAR(Informatie!$C$1)=2015,ROUND(T23*Parameters!$C$20,2),ROUND(G23*Parameters!$J$44,2)))","v":""},"",{"$f":"IF(G23=\"\",\"\",ROUND(G23*Parameters!C$17,2))","v":""},{"$f":"IF(G23=\"\",\"\",ROUND(G23*VLOOKUP(J23,Parameters!E$4:G$49,3),2))","v":""},{"$f":"IF(G23=\"\",\"\",ROUND(G23*Parameters!J$83,2))","v":""},""]
[null,null,null,null,0,{"$f":"IF(C24=\"\",0,IF(C24<=Parameters!$C$3,C24,Parameters!$C$3))","v":0},{"$f":"IF(C24=\"\",\"\",IF(F24<Parameters!$C$4,\"\",(F24-Parameters!$C$4)*D24))","v":""},null,{"$f":"IF(H24=\"\",\"\",YEAR(+Informatie!$C$1)-YEAR(H24))","v":""},"",{"$f":"IF(G24=\"\",\"\",ROUND(G24*Parameters!$C$12,2))","v":""},{"$f":"IF(G24=\"\",\"\",IF(YEAR(Informatie!$C$1)=2015,ROUND(G24*Parameters!$J$27,2),ROUND(G24*VLOOKUP('Overzicht deelnemers'!I24,Parameters!$E$4:$G$49,2,FALSE),2)))","v":""},{"$f":"IF(G24=\"\",\"\",IF(YEAR(Informatie!$C$1)=2015,ROUND(L24*Parameters!$C$20,2),G24*Parameters!$J$27))","v":""},"",{"$f":"IF(G24=\"\",\"\",ROUND(G24*Parameters!$C$16,2))","v":""},{"$f":"IF(G24=\"\",\"\",ROUND(G24*VLOOKUP(J24,Parameters!$E$3:$F$49,2,FALSE),2))","v":""},{"$f":"IF(G24=\"\",\"\",ROUND(G24*Parameters!$J$66,2))","v":""},"",{"$f":"IF(G24=\"\",\"\",ROUND(G24*Parameters!$C$13,2))","v":""},{"$f":"IF(G24=\"\",\"\",IF(YEAR(Informatie!$C$1)=2015,ROUND(G24*Parameters!J$44,2),ROUND(G24*VLOOKUP('Overzicht deelnemers'!I24,Parameters!$E$4:$G$49,3,FALSE),2)))","v":""},{"$f":"IF(G24=\"\",\"\",IF(YEAR(Informatie!$C$1)=2015,ROUND(T24*Parameters!$C$20,2),ROUND(G24*Parameters!$J$44,2)))","v":""},"",{"$f":"IF(G24=\"\",\"\",ROUND(G24*Parameters!C$17,2))","v":""},{"$f":"IF(G24=\"\",\"\",ROUND(G24*VLOOKUP(J24,Parameters!E$4:G$49,3),2))","v":""},{"$f":"IF(G24=\"\",\"\",ROUND(G24*Parameters!J$83,2))","v":""},""]
[null,null,null,null,0,{"$f":"IF(C25=\"\",0,IF(C25<=Parameters!$C$3,C25,Parameters!$C$3))","v":0},{"$f":"IF(C25=\"\",\"\",IF(F25<Parameters!$C$4,\"\",(F25-Parameters!$C$4)*D25))","v":""},null,{"$f":"IF(H25=\"\",\"\",YEAR(+Informatie!$C$1)-YEAR(H25))","v":""},"",{"$f":"IF(G25=\"\",\"\",ROUND(G25*Parameters!$C$12,2))","v":""},{"$f":"IF(G25=\"\",\"\",IF(YEAR(Informatie!$C$1)=2015,ROUND(G25*Parameters!$J$27,2),ROUND(G25*VLOOKUP('Overzicht deelnemers'!I25,Parameters!$E$4:$G$49,2,FALSE),2)))","v":""},{"$f":"IF(G25=\"\",\"\",IF(YEAR(Informatie!$C$1)=2015,ROUND(L25*Parameters!$C$20,2),G25*Parameters!$J$27))","v":""},"",{"$f":"IF(G25=\"\",\"\",ROUND(G25*Parameters!$C$16,2))","v":""},{"$f":"IF(G25=\"\",\"\",ROUND(G25*VLOOKUP(J25,Parameters!$E$3:$F$49,2,FALSE),2))","v":""},{"$f":"IF(G25=\"\",\"\",ROUND(G25*Parameters!$J$66,2))","v":""},"",{"$f":"IF(G25=\"\",\"\",ROUND(G25*Parameters!$C$13,2))","v":""},{"$f":"IF(G25=\"\",\"\",IF(YEAR(Informatie!$C$1)=2015,ROUND(G25*Parameters!J$44,2),ROUND(G25*VLOOKUP('Overzicht deelnemers'!I25,Parameters!$E$4:$G$49,3,FALSE),2)))","v":""},{"$f":"IF(G25=\"\",\"\",IF(YEAR(Informatie!$C$1)=2015,ROUND(T25*Parameters!$C$20,2),ROUND(G25*Parameters!$J$44,2)))","v":""},"",{"$f":"IF(G25=\"\",\"\",ROUND(G25*Parameters!C$17,2))","v":""},{"$f":"IF(G25=\"\",\"\",ROUND(G25*VLOOKUP(J25,Parameters!E$4:G$49,3),2))","v":""},{"$f":"IF(G25=\"\",\"\",ROUND(G25*Parameters!J$83,2))","v":""},""]
[null,null,null,null,0,{"$f":"IF(C26=\"\",0,IF(C26<=Parameters!$C$3,C26,Parameters!$C$3))","v":0},{"$f":"IF(C26=\"\",\"\",IF(F26<Parameters!$C$4,\"\",(F26-Parameters!$C$4)*D26))","v":""},null,{"$f":"IF(H26=\"\",\"\",YEAR(+Informatie!$C$1)-YEAR(H26))","v":""},"",{"$f":"IF(G26=\"\",\"\",ROUND(G26*Parameters!$C$12,2))","v":""},{"$f":"IF(G26=\"\",\"\",IF(YEAR(Informatie!$C$1)=2015,ROUND(G26*Parameters!$J$27,2),ROUND(G26*VLOOKUP('Overzicht deelnemers'!I26,Parameters!$E$4:$G$49,2,FALSE),2)))","v":""},{"$f":"IF(G26=\"\",\"\",IF(YEAR(Informatie!$C$1)=2015,ROUND(L26*Parameters!$C$20,2),G26*Parameters!$J$27))","v":""},"",{"$f":"IF(G26=\"\",\"\",ROUND(G26*Parameters!$C$16,2))","v":""},{"$f":"IF(G26=\"\",\"\",ROUND(G26*VLOOKUP(J26,Parameters!$E$3:$F$49,2,FALSE),2))","v":""},{"$f":"IF(G26=\"\",\"\",ROUND(G26*Parameters!$J$66,2))","v":""},"",{"$f":"IF(G26=\"\",\"\",ROUND(G26*Parameters!$C$13,2))","v":""},{"$f":"IF(G26=\"\",\"\",IF(YEAR(Informatie!$C$1)=2015,ROUND(G26*Parameters!J$44,2),ROUND(G26*VLOOKUP('Overzicht deelnemers'!I26,Parameters!$E$4:$G$49,3,FALSE),2)))","v":""},{"$f":"IF(G26=\"\",\"\",IF(YEAR(Informatie!$C$1)=2015,ROUND(T26*Parameters!$C$20,2),ROUND(G26*Parameters!$J$44,2)))","v":""},"",{"$f":"IF(G26=\"\",\"\",ROUND(G26*Parameters!C$17,2))","v":""},{"$f":"IF(G26=\"\",\"\",ROUND(G26*VLOOKUP(J26,Parameters!E$4:G$49,3),2))","v":""},{"$f":"IF(G26=\"\",\"\",ROUND(G26*Parameters!J$83,2))","v":""},""]
[null,null,null,null,0,{"$f":"IF(C27=\"\",0,IF(C27<=Parameters!$C$3,C27,Parameters!$C$3))","v":0},{"$f":"IF(C27=\"\",\"\",IF(F27<Parameters!$C$4,\"\",(F27-Parameters!$C$4)*D27))","v":""},null,{"$f":"IF(H27=\"\",\"\",YEAR(+Informatie!$C$1)-YEAR(H27))","v":""},"",{"$f":"IF(G27=\"\",\"\",ROUND(G27*Parameters!$C$12,2))","v":""},{"$f":"IF(G27=\"\",\"\",IF(YEAR(Informatie!$C$1)=2015,ROUND(G27*Parameters!$J$27,2),ROUND(G27*VLOOKUP('Overzicht deelnemers'!I27,Parameters!$E$4:$G$49,2,FALSE),2)))","v":""},{"$f":"IF(G27=\"\",\"\",IF(YEAR(Informatie!$C$1)=2015,ROUND(L27*Parameters!$C$20,2),G27*Parameters!$J$27))","v":""},"",{"$f":"IF(G27=\"\",\"\",ROUND(G27*Parameters!$C$16,2))","v":""},{"$f":"IF(G27=\"\",\"\",ROUND(G27*VLOOKUP(J27,Parameters!$E$3:$F$49,2,FALSE),2))","v":""},{"$f":"IF(G27=\"\",\"\",ROUND(G27*Parameters!$J$66,2))","v":""},"",{"$f":"IF(G27=\"\",\"\",ROUND(G27*Parameters!$C$13,2))","v":""},{"$f":"IF(G27=\"\",\"\",IF(YEAR(Informatie!$C$1)=2015,ROUND(G27*Parameters!J$44,2),ROUND(G27*VLOOKUP('Overzicht deelnemers'!I27,Parameters!$E$4:$G$49,3,FALSE),2)))","v":""},{"$f":"IF(G27=\"\",\"\",IF(YEAR(Informatie!$C$1)=2015,ROUND(T27*Parameters!$C$20,2),ROUND(G27*Parameters!$J$44,2)))","v":""},"",{"$f":"IF(G27=\"\",\"\",ROUND(G27*Parameters!C$17,2))","v":""},{"$f":"IF(G27=\"\",\"\",ROUND(G27*VLOOKUP(J27,Parameters!E$4:G$49,3),2))","v":""},{"$f":"IF(G27=\"\",\"\",ROUND(G27*Parameters!J$83,2))","v":""},""]
[null,null,null,null,0,{"$f":"IF(C28=\"\",0,IF(C28<=Parameters!$C$3,C28,Parameters!$C$3))","v":0},{"$f":"IF(C28=\"\",\"\",IF(F28<Parameters!$C$4,\"\",(F28-Parameters!$C$4)*D28))","v":""},null,{"$f":"IF(H28=\"\",\"\",YEAR(+Informatie!$C$1)-YEAR(H28))","v":""},"",{"$f":"IF(G28=\"\",\"\",ROUND(G28*Parameters!$C$12,2))","v":""},{"$f":"IF(G28=\"\",\"\",IF(YEAR(Informatie!$C$1)=2015,ROUND(G28*Parameters!$J$27,2),ROUND(G28*VLOOKUP('Overzicht deelnemers'!I28,Parameters!$E$4:$G$49,2,FALSE),2)))","v":""},{"$f":"IF(G28=\"\",\"\",IF(YEAR(Informatie!$C$1)=2015,ROUND(L28*Parameters!$C$20,2),G28*Parameters!$J$27))","v":""},"",{"$f":"IF(G28=\"\",\"\",ROUND(G28*Parameters!$C$16,2))","v":""},{"$f":"IF(G28=\"\",\"\",ROUND(G28*VLOOKUP(J28,Parameters!$E$3:$F$49,2,FALSE),2))","v":""},{"$f":"IF(G28=\"\",\"\",ROUND(G28*Parameters!$J$66,2))","v":""},"",{"$f":"IF(G28=\"\",\"\",ROUND(G28*Parameters!$C$13,2))","v":""},{"$f":"IF(G28=\"\",\"\",IF(YEAR(Informatie!$C$1)=2015,ROUND(G28*Parameters!J$44,2),ROUND(G28*VLOOKUP('Overzicht deelnemers'!I28,Parameters!$E$4:$G$49,3,FALSE),2)))","v":""},{"$f":"IF(G28=\"\",\"\",IF(YEAR(Informatie!$C$1)=2015,ROUND(T28*Parameters!$C$20,2),ROUND(G28*Parameters!$J$44,2)))","v":""},"",{"$f":"IF(G28=\"\",\"\",ROUND(G28*Parameters!C$17,2))","v":""},{"$f":"IF(G28=\"\",\"\",ROUND(G28*VLOOKUP(J28,Parameters!E$4:G$49,3),2))","v":""},{"$f":"IF(G28=\"\",\"\",ROUND(G28*Parameters!J$83,2))","v":""},""]
[null,null,null,null,0,{"$f":"IF(C29=\"\",0,IF(C29<=Parameters!$C$3,C29,Parameters!$C$3))","v":0},{"$f":"IF(C29=\"\",\"\",IF(F29<Parameters!$C$4,\"\",(F29-Parameters!$C$4)*D29))","v":""},null,{"$f":"IF(H29=\"\",\"\",YEAR(+Informatie!$C$1)-YEAR(H29))","v":""},"",{"$f":"IF(G29=\"\",\"\",ROUND(G29*Parameters!$C$12,2))","v":""},{"$f":"IF(G29=\"\",\"\",IF(YEAR(Informatie!$C$1)=2015,ROUND(G29*Parameters!$J$27,2),ROUND(G29*VLOOKUP('Overzicht deelnemers'!I29,Parameters!$E$4:$G$49,2,FALSE),2)))","v":""},{"$f":"IF(G29=\"\",\"\",IF(YEAR(Informatie!$C$1)=2015,ROUND(L29*Parameters!$C$20,2),G29*Parameters!$J$27))","v":""},"",{"$f":"IF(G29=\"\",\"\",ROUND(G29*Parameters!$C$16,2))","v":""},{"$f":"IF(G29=\"\",\"\",ROUND(G29*VLOOKUP(J29,Parameters!$E$3:$F$49,2,FALSE),2))","v":""},{"$f":"IF(G29=\"\",\"\",ROUND(G29*Parameters!$J$66,2))","v":""},"",{"$f":"IF(G29=\"\",\"\",ROUND(G29*Parameters!$C$13,2))","v":""},{"$f":"IF(G29=\"\",\"\",IF(YEAR(Informatie!$C$1)=2015,ROUND(G29*Parameters!J$44,2),ROUND(G29*VLOOKUP('Overzicht deelnemers'!I29,Parameters!$E$4:$G$49,3,FALSE),2)))","v":""},{"$f":"IF(G29=\"\",\"\",IF(YEAR(Informatie!$C$1)=2015,ROUND(T29*Parameters!$C$20,2),ROUND(G29*Parameters!$J$44,2)))","v":""},"",{"$f":"IF(G29=\"\",\"\",ROUND(G29*Parameters!C$17,2))","v":""},{"$f":"IF(G29=\"\",\"\",ROUND(G29*VLOOKUP(J29,Parameters!E$4:G$49,3),2))","v":""},{"$f":"IF(G29=\"\",\"\",ROUND(G29*Parameters!J$83,2))","v":""},""]
[null,null,null,null,0,{"$f":"IF(C30=\"\",0,IF(C30<=Parameters!$C$3,C30,Parameters!$C$3))","v":0},{"$f":"IF(C30=\"\",\"\",IF(F30<Parameters!$C$4,\"\",(F30-Parameters!$C$4)*D30))","v":""},null,{"$f":"IF(H30=\"\",\"\",YEAR(+Informatie!$C$1)-YEAR(H30))","v":""},"",{"$f":"IF(G30=\"\",\"\",ROUND(G30*Parameters!$C$12,2))","v":""},{"$f":"IF(G30=\"\",\"\",IF(YEAR(Informatie!$C$1)=2015,ROUND(G30*Parameters!$J$27,2),ROUND(G30*VLOOKUP('Overzicht deelnemers'!I30,Parameters!$E$4:$G$49,2,FALSE),2)))","v":""},{"$f":"IF(G30=\"\",\"\",IF(YEAR(Informatie!$C$1)=2015,ROUND(L30*Parameters!$C$20,2),G30*Parameters!$J$27))","v":""},"",{"$f":"IF(G30=\"\",\"\",ROUND(G30*Parameters!$C$16,2))","v":""},{"$f":"IF(G30=\"\",\"\",ROUND(G30*VLOOKUP(J30,Parameters!$E$3:$F$49,2,FALSE),2))","v":""},{"$f":"IF(G30=\"\",\"\",ROUND(G30*Parameters!$J$66,2))","v":""},"",{"$f":"IF(G30=\"\",\"\",ROUND(G30*Parameters!$C$13,2))","v":""},{"$f":"IF(G30=\"\",\"\",IF(YEAR(Informatie!$C$1)=2015,ROUND(G30*Parameters!J$44,2),ROUND(G30*VLOOKUP('Overzicht deelnemers'!I30,Parameters!$E$4:$G$49,3,FALSE),2)))","v":""},{"$f":"IF(G30=\"\",\"\",IF(YEAR(Informatie!$C$1)=2015,ROUND(T30*Parameters!$C$20,2),ROUND(G30*Parameters!$J$44,2)))","v":""},"",{"$f":"IF(G30=\"\",\"\",ROUND(G30*Parameters!C$17,2))","v":""},{"$f":"IF(G30=\"\",\"\",ROUND(G30*VLOOKUP(J30,Parameters!E$4:G$49,3),2))","v":""},{"$f":"IF(G30=\"\",\"\",ROUND(G30*Parameters!J$83,2))","v":""},""]
[null,null,null,null,0,{"$f":"IF(C31=\"\",0,IF(C31<=Parameters!$C$3,C31,Parameters!$C$3))","v":0},{"$f":"IF(C31=\"\",\"\",IF(F31<Parameters!$C$4,\"\",(F31-Parameters!$C$4)*D31))","v":""},null,{"$f":"IF(H31=\"\",\"\",YEAR(+Informatie!$C$1)-YEAR(H31))","v":""},"",{"$f":"IF(G31=\"\",\"\",ROUND(G31*Parameters!$C$12,2))","v":""},{"$f":"IF(G31=\"\",\"\",IF(YEAR(Informatie!$C$1)=2015,ROUND(G31*Parameters!$J$27,2),ROUND(G31*VLOOKUP('Overzicht deelnemers'!I31,Parameters!$E$4:$G$49,2,FALSE),2)))","v":""},{"$f":"IF(G31=\"\",\"\",IF(YEAR(Informatie!$C$1)=2015,ROUND(L31*Parameters!$C$20,2),G31*Parameters!$J$27))","v":""},"",{"$f":"IF(G31=\"\",\"\",ROUND(G31*Parameters!$C$16,2))","v":""},{"$f":"IF(G31=\"\",\"\",ROUND(G31*VLOOKUP(J31,Parameters!$E$3:$F$49,2,FALSE),2))","v":""},{"$f":"IF(G31=\"\",\"\",ROUND(G31*Parameters!$J$66,2))","v":""},"",{"$f":"IF(G31=\"\",\"\",ROUND(G31*Parameters!$C$13,2))","v":""},{"$f":"IF(G31=\"\",\"\",IF(YEAR(Informatie!$C$1)=2015,ROUND(G31*Parameters!J$44,2),ROUND(G31*VLOOKUP('Overzicht deelnemers'!I31,Parameters!$E$4:$G$49,3,FALSE),2)))","v":""},{"$f":"IF(G31=\"\",\"\",IF(YEAR(Informatie!$C$1)=2015,ROUND(T31*Parameters!$C$20,2),ROUND(G31*Parameters!$J$44,2)))","v":""},"",{"$f":"IF(G31=\"\",\"\",ROUND(G31*Parameters!C$17,2))","v":""},{"$f":"IF(G31=\"\",\"\",ROUND(G31*VLOOKUP(J31,Parameters!E$4:G$49,3),2))","v":""},{"$f":"IF(G31=\"\",\"\",ROUND(G31*Parameters!J$83,2))","v":""},""]
[null,null,null,null,0,{"$f":"IF(C32=\"\",0,IF(C32<=Parameters!$C$3,C32,Parameters!$C$3))","v":0},{"$f":"IF(C32=\"\",\"\",IF(F32<Parameters!$C$4,\"\",(F32-Parameters!$C$4)*D32))","v":""},null,{"$f":"IF(H32=\"\",\"\",YEAR(+Informatie!$C$1)-YEAR(H32))","v":""},"",{"$f":"IF(G32=\"\",\"\",ROUND(G32*Parameters!$C$12,2))","v":""},{"$f":"IF(G32=\"\",\"\",IF(YEAR(Informatie!$C$1)=2015,ROUND(G32*Parameters!$J$27,2),ROUND(G32*VLOOKUP('Overzicht deelnemers'!I32,Parameters!$E$4:$G$49,2,FALSE),2)))","v":""},{"$f":"IF(G32=\"\",\"\",IF(YEAR(Informatie!$C$1)=2015,ROUND(L32*Parameters!$C$20,2),G32*Parameters!$J$27))","v":""},"",{"$f":"IF(G32=\"\",\"\",ROUND(G32*Parameters!$C$16,2))","v":""},{"$f":"IF(G32=\"\",\"\",ROUND(G32*VLOOKUP(J32,Parameters!$E$3:$F$49,2,FALSE),2))","v":""},{"$f":"IF(G32=\"\",\"\",ROUND(G32*Parameters!$J$66,2))","v":""},"",{"$f":"IF(G32=\"\",\"\",ROUND(G32*Parameters!$C$13,2))","v":""},{"$f":"IF(G32=\"\",\"\",IF(YEAR(Informatie!$C$1)=2015,ROUND(G32*Parameters!J$44,2),ROUND(G32*VLOOKUP('Overzicht deelnemers'!I32,Parameters!$E$4:$G$49,3,FALSE),2)))","v":""},{"$f":"IF(G32=\"\",\"\",IF(YEAR(Informatie!$C$1)=2015,ROUND(T32*Parameters!$C$20,2),ROUND(G32*Parameters!$J$44,2)))","v":""},"",{"$f":"IF(G32=\"\",\"\",ROUND(G32*Parameters!C$17,2))","v":""},{"$f":"IF(G32=\"\",\"\",ROUND(G32*VLOOKUP(J32,Parameters!E$4:G$49,3),2))","v":""},{"$f":"IF(G32=\"\",\"\",ROUND(G32*Parameters!J$83,2))","v":""},""]
[null,null,null,null,0,{"$f":"IF(C33=\"\",0,IF(C33<=Parameters!$C$3,C33,Parameters!$C$3))","v":0},{"$f":"IF(C33=\"\",\"\",IF(F33<Parameters!$C$4,\"\",(F33-Parameters!$C$4)*D33))","v":""},null,{"$f":"IF(H33=\"\",\"\",YEAR(+Informatie!$C$1)-YEAR(H33))","v":""},"",{"$f":"IF(G33=\"\",\"\",ROUND(G33*Parameters!$C$12,2))","v":""},{"$f":"IF(G33=\"\",\"\",IF(YEAR(Informatie!$C$1)=2015,ROUND(G33*Parameters!$J$27,2),ROUND(G33*VLOOKUP('Overzicht deelnemers'!I33,Parameters!$E$4:$G$49,2,FALSE),2)))","v":""},{"$f":"IF(G33=\"\",\"\",IF(YEAR(Informatie!$C$1)=2015,ROUND(L33*Parameters!$C$20,2),G33*Parameters!$J$27))","v":""},"",{"$f":"IF(G33=\"\",\"\",ROUND(G33*Parameters!$C$16,2))","v":""},{"$f":"IF(G33=\"\",\"\",ROUND(G33*VLOOKUP(J33,Parameters!$E$3:$F$49,2,FALSE),2))","v":""},{"$f":"IF(G33=\"\",\"\",ROUND(G33*Parameters!$J$66,2))","v":""},"",{"$f":"IF(G33=\"\",\"\",ROUND(G33*Parameters!$C$13,2))","v":""},{"$f":"IF(G33=\"\",\"\",IF(YEAR(Informatie!$C$1)=2015,ROUND(G33*Parameters!J$44,2),ROUND(G33*VLOOKUP('Overzicht deelnemers'!I33,Parameters!$E$4:$G$49,3,FALSE),2)))","v":""},{"$f":"IF(G33=\"\",\"\",IF(YEAR(Informatie!$C$1)=2015,ROUND(T33*Parameters!$C$20,2),ROUND(G33*Parameters!$J$44,2)))","v":""},"",{"$f":"IF(G33=\"\",\"\",ROUND(G33*Parameters!C$17,2))","v":""},{"$f":"IF(G33=\"\",\"\",ROUND(G33*VLOOKUP(J33,Parameters!E$4:G$49,3),2))","v":""},{"$f":"IF(G33=\"\",\"\",ROUND(G33*Parameters!J$83,2))","v":""},""]
[null,null,null,null,0,{"$f":"IF(C34=\"\",0,IF(C34<=Parameters!$C$3,C34,Parameters!$C$3))","v":0},{"$f":"IF(C34=\"\",\"\",IF(F34<Parameters!$C$4,\"\",(F34-Parameters!$C$4)*D34))","v":""},null,{"$f":"IF(H34=\"\",\"\",YEAR(+Informatie!$C$1)-YEAR(H34))","v":""},"",{"$f":"IF(G34=\"\",\"\",ROUND(G34*Parameters!$C$12,2))","v":""},{"$f":"IF(G34=\"\",\"\",IF(YEAR(Informatie!$C$1)=2015,ROUND(G34*Parameters!$J$27,2),ROUND(G34*VLOOKUP('Overzicht deelnemers'!I34,Parameters!$E$4:$G$49,2,FALSE),2)))","v":""},{"$f":"IF(G34=\"\",\"\",IF(YEAR(Informatie!$C$1)=2015,ROUND(L34*Parameters!$C$20,2),G34*Parameters!$J$27))","v":""},"",{"$f":"IF(G34=\"\",\"\",ROUND(G34*Parameters!$C$16,2))","v":""},{"$f":"IF(G34=\"\",\"\",ROUND(G34*VLOOKUP(J34,Parameters!$E$3:$F$49,2,FALSE),2))","v":""},{"$f":"IF(G34=\"\",\"\",ROUND(G34*Parameters!$J$66,2))","v":""},"",{"$f":"IF(G34=\"\",\"\",ROUND(G34*Parameters!$C$13,2))","v":""},{"$f":"IF(G34=\"\",\"\",IF(YEAR(Informatie!$C$1)=2015,ROUND(G34*Parameters!J$44,2),ROUND(G34*VLOOKUP('Overzicht deelnemers'!I34,Parameters!$E$4:$G$49,3,FALSE),2)))","v":""},{"$f":"IF(G34=\"\",\"\",IF(YEAR(Informatie!$C$1)=2015,ROUND(T34*Parameters!$C$20,2),ROUND(G34*Parameters!$J$44,2)))","v":""},"",{"$f":"IF(G34=\"\",\"\",ROUND(G34*Parameters!C$17,2))","v":""},{"$f":"IF(G34=\"\",\"\",ROUND(G34*VLOOKUP(J34,Parameters!E$4:G$49,3),2))","v":""},{"$f":"IF(G34=\"\",\"\",ROUND(G34*Parameters!J$83,2))","v":""},""]
[null,null,null,null,0,{"$f":"IF(C35=\"\",0,IF(C35<=Parameters!$C$3,C35,Parameters!$C$3))","v":0},{"$f":"IF(C35=\"\",\"\",IF(F35<Parameters!$C$4,\"\",(F35-Parameters!$C$4)*D35))","v":""},null,{"$f":"IF(H35=\"\",\"\",YEAR(+Informatie!$C$1)-YEAR(H35))","v":""},"",{"$f":"IF(G35=\"\",\"\",ROUND(G35*Parameters!$C$12,2))","v":""},{"$f":"IF(G35=\"\",\"\",IF(YEAR(Informatie!$C$1)=2015,ROUND(G35*Parameters!$J$27,2),ROUND(G35*VLOOKUP('Overzicht deelnemers'!I35,Parameters!$E$4:$G$49,2,FALSE),2)))","v":""},{"$f":"IF(G35=\"\",\"\",IF(YEAR(Informatie!$C$1)=2015,ROUND(L35*Parameters!$C$20,2),G35*Parameters!$J$27))","v":""},"",{"$f":"IF(G35=\"\",\"\",ROUND(G35*Parameters!$C$16,2))","v":""},{"$f":"IF(G35=\"\",\"\",ROUND(G35*VLOOKUP(J35,Parameters!$E$3:$F$49,2,FALSE),2))","v":""},{"$f":"IF(G35=\"\",\"\",ROUND(G35*Parameters!$J$66,2))","v":""},"",{"$f":"IF(G35=\"\",\"\",ROUND(G35*Parameters!$C$13,2))","v":""},{"$f":"IF(G35=\"\",\"\",IF(YEAR(Informatie!$C$1)=2015,ROUND(G35*Parameters!J$44,2),ROUND(G35*VLOOKUP('Overzicht deelnemers'!I35,Parameters!$E$4:$G$49,3,FALSE),2)))","v":""},{"$f":"IF(G35=\"\",\"\",IF(YEAR(Informatie!$C$1)=2015,ROUND(T35*Parameters!$C$20,2),ROUND(G35*Parameters!$J$44,2)))","v":""},"",{"$f":"IF(G35=\"\",\"\",ROUND(G35*Parameters!C$17,2))","v":""},{"$f":"IF(G35=\"\",\"\",ROUND(G35*VLOOKUP(J35,Parameters!E$4:G$49,3),2))","v":""},{"$f":"IF(G35=\"\",\"\",ROUND(G35*Parameters!J$83,2))","v":""},""]
[null,null,null,null,0,{"$f":"IF(C36=\"\",0,IF(C36<=Parameters!$C$3,C36,Parameters!$C$3))","v":0},{"$f":"IF(C36=\"\",\"\",IF(F36<Parameters!$C$4,\"\",(F36-Parameters!$C$4)*D36))","v":""},null,{"$f":"IF(H36=\"\",\"\",YEAR(+Informatie!$C$1)-YEAR(H36))","v":""},"",{"$f":"IF(G36=\"\",\"\",ROUND(G36*Parameters!$C$12,2))","v":""},{"$f":"IF(G36=\"\",\"\",IF(YEAR(Informatie!$C$1)=2015,ROUND(G36*Parameters!$J$27,2),ROUND(G36*VLOOKUP('Overzicht deelnemers'!I36,Parameters!$E$4:$G$49,2,FALSE),2)))","v":""},{"$f":"IF(G36=\"\",\"\",IF(YEAR(Informatie!$C$1)=2015,ROUND(L36*Parameters!$C$20,2),G36*Parameters!$J$27))","v":""},"",{"$f":"IF(G36=\"\",\"\",ROUND(G36*Parameters!$C$16,2))","v":""},{"$f":"IF(G36=\"\",\"\",ROUND(G36*VLOOKUP(J36,Parameters!$E$3:$F$49,2,FALSE),2))","v":""},{"$f":"IF(G36=\"\",\"\",ROUND(G36*Parameters!$J$66,2))","v":""},"",{"$f":"IF(G36=\"\",\"\",ROUND(G36*Parameters!$C$13,2))","v":""},{"$f":"IF(G36=\"\",\"\",IF(YEAR(Informatie!$C$1)=2015,ROUND(G36*Parameters!J$44,2),ROUND(G36*VLOOKUP('Overzicht deelnemers'!I36,Parameters!$E$4:$G$49,3,FALSE),2)))","v":""},{"$f":"IF(G36=\"\",\"\",IF(YEAR(Informatie!$C$1)=2015,ROUND(T36*Parameters!$C$20,2),ROUND(G36*Parameters!$J$44,2)))","v":""},"",{"$f":"IF(G36=\"\",\"\",ROUND(G36*Parameters!C$17,2))","v":""},{"$f":"IF(G36=\"\",\"\",ROUND(G36*VLOOKUP(J36,Parameters!E$4:G$49,3),2))","v":""},{"$f":"IF(G36=\"\",\"\",ROUND(G36*Parameters!J$83,2))","v":""},""]
[null,null,null,null,0,{"$f":"IF(C37=\"\",0,IF(C37<=Parameters!$C$3,C37,Parameters!$C$3))","v":0},{"$f":"IF(C37=\"\",\"\",IF(F37<Parameters!$C$4,\"\",(F37-Parameters!$C$4)*D37))","v":""},null,{"$f":"IF(H37=\"\",\"\",YEAR(+Informatie!$C$1)-YEAR(H37))","v":""},"",{"$f":"IF(G37=\"\",\"\",ROUND(G37*Parameters!$C$12,2))","v":""},{"$f":"IF(G37=\"\",\"\",IF(YEAR(Informatie!$C$1)=2015,ROUND(G37*Parameters!$J$27,2),ROUND(G37*VLOOKUP('Overzicht deelnemers'!I37,Parameters!$E$4:$G$49,2,FALSE),2)))","v":""},{"$f":"IF(G37=\"\",\"\",IF(YEAR(Informatie!$C$1)=2015,ROUND(L37*Parameters!$C$20,2),G37*Parameters!$J$27))","v":""},"",{"$f":"IF(G37=\"\",\"\",ROUND(G37*Parameters!$C$16,2))","v":""},{"$f":"IF(G37=\"\",\"\",ROUND(G37*VLOOKUP(J37,Parameters!$E$3:$F$49,2,FALSE),2))","v":""},{"$f":"IF(G37=\"\",\"\",ROUND(G37*Parameters!$J$66,2))","v":""},"",{"$f":"IF(G37=\"\",\"\",ROUND(G37*Parameters!$C$13,2))","v":""},{"$f":"IF(G37=\"\",\"\",IF(YEAR(Informatie!$C$1)=2015,ROUND(G37*Parameters!J$44,2),ROUND(G37*VLOOKUP('Overzicht deelnemers'!I37,Parameters!$E$4:$G$49,3,FALSE),2)))","v":""},{"$f":"IF(G37=\"\",\"\",IF(YEAR(Informatie!$C$1)=2015,ROUND(T37*Parameters!$C$20,2),ROUND(G37*Parameters!$J$44,2)))","v":""},"",{"$f":"IF(G37=\"\",\"\",ROUND(G37*Parameters!C$17,2))","v":""},{"$f":"IF(G37=\"\",\"\",ROUND(G37*VLOOKUP(J37,Parameters!E$4:G$49,3),2))","v":""},{"$f":"IF(G37=\"\",\"\",ROUND(G37*Parameters!J$83,2))","v":""},""]
[null,null,null,null,0,{"$f":"IF(C38=\"\",0,IF(C38<=Parameters!$C$3,C38,Parameters!$C$3))","v":0},{"$f":"IF(C38=\"\",\"\",IF(F38<Parameters!$C$4,\"\",(F38-Parameters!$C$4)*D38))","v":""},null,{"$f":"IF(H38=\"\",\"\",YEAR(+Informatie!$C$1)-YEAR(H38))","v":""},"",{"$f":"IF(G38=\"\",\"\",ROUND(G38*Parameters!$C$12,2))","v":""},{"$f":"IF(G38=\"\",\"\",IF(YEAR(Informatie!$C$1)=2015,ROUND(G38*Parameters!$J$27,2),ROUND(G38*VLOOKUP('Overzicht deelnemers'!I38,Parameters!$E$4:$G$49,2,FALSE),2)))","v":""},{"$f":"IF(G38=\"\",\"\",IF(YEAR(Informatie!$C$1)=2015,ROUND(L38*Parameters!$C$20,2),G38*Parameters!$J$27))","v":""},"",{"$f":"IF(G38=\"\",\"\",ROUND(G38*Parameters!$C$16,2))","v":""},{"$f":"IF(G38=\"\",\"\",ROUND(G38*VLOOKUP(J38,Parameters!$E$3:$F$49,2,FALSE),2))","v":""},{"$f":"IF(G38=\"\",\"\",ROUND(G38*Parameters!$J$66,2))","v":""},"",{"$f":"IF(G38=\"\",\"\",ROUND(G38*Parameters!$C$13,2))","v":""},{"$f":"IF(G38=\"\",\"\",IF(YEAR(Informatie!$C$1)=2015,ROUND(G38*Parameters!J$44,2),ROUND(G38*VLOOKUP('Overzicht deelnemers'!I38,Parameters!$E$4:$G$49,3,FALSE),2)))","v":""},{"$f":"IF(G38=\"\",\"\",IF(YEAR(Informatie!$C$1)=2015,ROUND(T38*Parameters!$C$20,2),ROUND(G38*Parameters!$J$44,2)))","v":""},"",{"$f":"IF(G38=\"\",\"\",ROUND(G38*Parameters!C$17,2))","v":""},{"$f":"IF(G38=\"\",\"\",ROUND(G38*VLOOKUP(J38,Parameters!E$4:G$49,3),2))","v":""},{"$f":"IF(G38=\"\",\"\",ROUND(G38*Parameters!J$83,2))","v":""},""]
[null,null,null,null,0,{"$f":"IF(C39=\"\",0,IF(C39<=Parameters!$C$3,C39,Parameters!$C$3))","v":0},{"$f":"IF(C39=\"\",\"\",IF(F39<Parameters!$C$4,\"\",(F39-Parameters!$C$4)*D39))","v":""},null,{"$f":"IF(H39=\"\",\"\",YEAR(+Informatie!$C$1)-YEAR(H39))","v":""},"",{"$f":"IF(G39=\"\",\"\",ROUND(G39*Parameters!$C$12,2))","v":""},{"$f":"IF(G39=\"\",\"\",IF(YEAR(Informatie!$C$1)=2015,ROUND(G39*Parameters!$J$27,2),ROUND(G39*VLOOKUP('Overzicht deelnemers'!I39,Parameters!$E$4:$G$49,2,FALSE),2)))","v":""},{"$f":"IF(G39=\"\",\"\",IF(YEAR(Informatie!$C$1)=2015,ROUND(L39*Parameters!$C$20,2),G39*Parameters!$J$27))","v":""},"",{"$f":"IF(G39=\"\",\"\",ROUND(G39*Parameters!$C$16,2))","v":""},{"$f":"IF(G39=\"\",\"\",ROUND(G39*VLOOKUP(J39,Parameters!$E$3:$F$49,2,FALSE),2))","v":""},{"$f":"IF(G39=\"\",\"\",ROUND(G39*Parameters!$J$66,2))","v":""},"",{"$f":"IF(G39=\"\",\"\",ROUND(G39*Parameters!$C$13,2))","v":""},{"$f":"IF(G39=\"\",\"\",IF(YEAR(Informatie!$C$1)=2015,ROUND(G39*Parameters!J$44,2),ROUND(G39*VLOOKUP('Overzicht deelnemers'!I39,Parameters!$E$4:$G$49,3,FALSE),2)))","v":""},{"$f":"IF(G39=\"\",\"\",IF(YEAR(Informatie!$C$1)=2015,ROUND(T39*Parameters!$C$20,2),ROUND(G39*Parameters!$J$44,2)))","v":""},"",{"$f":"IF(G39=\"\",\"\",ROUND(G39*Parameters!C$17,2))","v":""},{"$f":"IF(G39=\"\",\"\",ROUND(G39*VLOOKUP(J39,Parameters!E$4:G$49,3),2))","v":""},{"$f":"IF(G39=\"\",\"\",ROUND(G39*Parameters!J$83,2))","v":""},""]
[null,null,null,null,0,{"$f":"IF(C40=\"\",0,IF(C40<=Parameters!$C$3,C40,Parameters!$C$3))","v":0},{"$f":"IF(C40=\"\",\"\",IF(F40<Parameters!$C$4,\"\",(F40-Parameters!$C$4)*D40))","v":""},null,{"$f":"IF(H40=\"\",\"\",YEAR(+Informatie!$C$1)-YEAR(H40))","v":""},"",{"$f":"IF(G40=\"\",\"\",ROUND(G40*Parameters!$C$12,2))","v":""},{"$f":"IF(G40=\"\",\"\",IF(YEAR(Informatie!$C$1)=2015,ROUND(G40*Parameters!$J$27,2),ROUND(G40*VLOOKUP('Overzicht deelnemers'!I40,Parameters!$E$4:$G$49,2,FALSE),2)))","v":""},{"$f":"IF(G40=\"\",\"\",IF(YEAR(Informatie!$C$1)=2015,ROUND(L40*Parameters!$C$20,2),G40*Parameters!$J$27))","v":""},"",{"$f":"IF(G40=\"\",\"\",ROUND(G40*Parameters!$C$16,2))","v":""},{"$f":"IF(G40=\"\",\"\",ROUND(G40*VLOOKUP(J40,Parameters!$E$3:$F$49,2,FALSE),2))","v":""},{"$f":"IF(G40=\"\",\"\",ROUND(G40*Parameters!$J$66,2))","v":""},"",{"$f":"IF(G40=\"\",\"\",ROUND(G40*Parameters!$C$13,2))","v":""},{"$f":"IF(G40=\"\",\"\",IF(YEAR(Informatie!$C$1)=2015,ROUND(G40*Parameters!J$44,2),ROUND(G40*VLOOKUP('Overzicht deelnemers'!I40,Parameters!$E$4:$G$49,3,FALSE),2)))","v":""},{"$f":"IF(G40=\"\",\"\",IF(YEAR(Informatie!$C$1)=2015,ROUND(T40*Parameters!$C$20,2),ROUND(G40*Parameters!$J$44,2)))","v":""},"",{"$f":"IF(G40=\"\",\"\",ROUND(G40*Parameters!C$17,2))","v":""},{"$f":"IF(G40=\"\",\"\",ROUND(G40*VLOOKUP(J40,Parameters!E$4:G$49,3),2))","v":""},{"$f":"IF(G40=\"\",\"\",ROUND(G40*Parameters!J$83,2))","v":""},""]
[null,null,null,null,0,{"$f":"IF(C41=\"\",0,IF(C41<=Parameters!$C$3,C41,Parameters!$C$3))","v":0},{"$f":"IF(C41=\"\",\"\",IF(F41<Parameters!$C$4,\"\",(F41-Parameters!$C$4)*D41))","v":""},null,{"$f":"IF(H41=\"\",\"\",YEAR(+Informatie!$C$1)-YEAR(H41))","v":""},"",{"$f":"IF(G41=\"\",\"\",ROUND(G41*Parameters!$C$12,2))","v":""},{"$f":"IF(G41=\"\",\"\",IF(YEAR(Informatie!$C$1)=2015,ROUND(G41*Parameters!$J$27,2),ROUND(G41*VLOOKUP('Overzicht deelnemers'!I41,Parameters!$E$4:$G$49,2,FALSE),2)))","v":""},{"$f":"IF(G41=\"\",\"\",IF(YEAR(Informatie!$C$1)=2015,ROUND(L41*Parameters!$C$20,2),G41*Parameters!$J$27))","v":""},"",{"$f":"IF(G41=\"\",\"\",ROUND(G41*Parameters!$C$16,2))","v":""},{"$f":"IF(G41=\"\",\"\",ROUND(G41*VLOOKUP(J41,Parameters!$E$3:$F$49,2,FALSE),2))","v":""},{"$f":"IF(G41=\"\",\"\",ROUND(G41*Parameters!$J$66,2))","v":""},"",{"$f":"IF(G41=\"\",\"\",ROUND(G41*Parameters!$C$13,2))","v":""},{"$f":"IF(G41=\"\",\"\",IF(YEAR(Informatie!$C$1)=2015,ROUND(G41*Parameters!J$44,2),ROUND(G41*VLOOKUP('Overzicht deelnemers'!I41,Parameters!$E$4:$G$49,3,FALSE),2)))","v":""},{"$f":"IF(G41=\"\",\"\",IF(YEAR(Informatie!$C$1)=2015,ROUND(T41*Parameters!$C$20,2),ROUND(G41*Parameters!$J$44,2)))","v":""},"",{"$f":"IF(G41=\"\",\"\",ROUND(G41*Parameters!C$17,2))","v":""},{"$f":"IF(G41=\"\",\"\",ROUND(G41*VLOOKUP(J41,Parameters!E$4:G$49,3),2))","v":""},{"$f":"IF(G41=\"\",\"\",ROUND(G41*Parameters!J$83,2))","v":""},""]
[null,null,null,null,0,{"$f":"IF(C42=\"\",0,IF(C42<=Parameters!$C$3,C42,Parameters!$C$3))","v":0},{"$f":"IF(C42=\"\",\"\",IF(F42<Parameters!$C$4,\"\",(F42-Parameters!$C$4)*D42))","v":""},null,{"$f":"IF(H42=\"\",\"\",YEAR(+Informatie!$C$1)-YEAR(H42))","v":""},"",{"$f":"IF(G42=\"\",\"\",ROUND(G42*Parameters!$C$12,2))","v":""},{"$f":"IF(G42=\"\",\"\",IF(YEAR(Informatie!$C$1)=2015,ROUND(G42*Parameters!$J$27,2),ROUND(G42*VLOOKUP('Overzicht deelnemers'!I42,Parameters!$E$4:$G$49,2,FALSE),2)))","v":""},{"$f":"IF(G42=\"\",\"\",IF(YEAR(Informatie!$C$1)=2015,ROUND(L42*Parameters!$C$20,2),G42*Parameters!$J$27))","v":""},"",{"$f":"IF(G42=\"\",\"\",ROUND(G42*Parameters!$C$16,2))","v":""},{"$f":"IF(G42=\"\",\"\",ROUND(G42*VLOOKUP(J42,Parameters!$E$3:$F$49,2,FALSE),2))","v":""},{"$f":"IF(G42=\"\",\"\",ROUND(G42*Parameters!$J$66,2))","v":""},"",{"$f":"IF(G42=\"\",\"\",ROUND(G42*Parameters!$C$13,2))","v":""},{"$f":"IF(G42=\"\",\"\",IF(YEAR(Informatie!$C$1)=2015,ROUND(G42*Parameters!J$44,2),ROUND(G42*VLOOKUP('Overzicht deelnemers'!I42,Parameters!$E$4:$G$49,3,FALSE),2)))","v":""},{"$f":"IF(G42=\"\",\"\",IF(YEAR(Informatie!$C$1)=2015,ROUND(T42*Parameters!$C$20,2),ROUND(G42*Parameters!$J$44,2)))","v":""},"",{"$f":"IF(G42=\"\",\"\",ROUND(G42*Parameters!C$17,2))","v":""},{"$f":"IF(G42=\"\",\"\",ROUND(G42*VLOOKUP(J42,Parameters!E$4:G$49,3),2))","v":""},{"$f":"IF(G42=\"\",\"\",ROUND(G42*Parameters!J$83,2))","v":""},""]
[null,null,null,null,0,{"$f":"IF(C43=\"\",0,IF(C43<=Parameters!$C$3,C43,Parameters!$C$3))","v":0},{"$f":"IF(C43=\"\",\"\",IF(F43<Parameters!$C$4,\"\",(F43-Parameters!$C$4)*D43))","v":""},null,{"$f":"IF(H43=\"\",\"\",YEAR(+Informatie!$C$1)-YEAR(H43))","v":""},"",{"$f":"IF(G43=\"\",\"\",ROUND(G43*Parameters!$C$12,2))","v":""},{"$f":"IF(G43=\"\",\"\",IF(YEAR(Informatie!$C$1)=2015,ROUND(G43*Parameters!$J$27,2),ROUND(G43*VLOOKUP('Overzicht deelnemers'!I43,Parameters!$E$4:$G$49,2,FALSE),2)))","v":""},{"$f":"IF(G43=\"\",\"\",IF(YEAR(Informatie!$C$1)=2015,ROUND(L43*Parameters!$C$20,2),G43*Parameters!$J$27))","v":""},"",{"$f":"IF(G43=\"\",\"\",ROUND(G43*Parameters!$C$16,2))","v":""},{"$f":"IF(G43=\"\",\"\",ROUND(G43*VLOOKUP(J43,Parameters!$E$3:$F$49,2,FALSE),2))","v":""},{"$f":"IF(G43=\"\",\"\",ROUND(G43*Parameters!$J$66,2))","v":""},"",{"$f":"IF(G43=\"\",\"\",ROUND(G43*Parameters!$C$13,2))","v":""},{"$f":"IF(G43=\"\",\"\",IF(YEAR(Informatie!$C$1)=2015,ROUND(G43*Parameters!J$44,2),ROUND(G43*VLOOKUP('Overzicht deelnemers'!I43,Parameters!$E$4:$G$49,3,FALSE),2)))","v":""},{"$f":"IF(G43=\"\",\"\",IF(YEAR(Informatie!$C$1)=2015,ROUND(T43*Parameters!$C$20,2),ROUND(G43*Parameters!$J$44,2)))","v":""},"",{"$f":"IF(G43=\"\",\"\",ROUND(G43*Parameters!C$17,2))","v":""},{"$f":"IF(G43=\"\",\"\",ROUND(G43*VLOOKUP(J43,Parameters!E$4:G$49,3),2))","v":""},{"$f":"IF(G43=\"\",\"\",ROUND(G43*Parameters!J$83,2))","v":""},""]
[null,null,null,null,0,{"$f":"IF(C44=\"\",0,IF(C44<=Parameters!$C$3,C44,Parameters!$C$3))","v":0},{"$f":"IF(C44=\"\",\"\",IF(F44<Parameters!$C$4,\"\",(F44-Parameters!$C$4)*D44))","v":""},null,{"$f":"IF(H44=\"\",\"\",YEAR(+Informatie!$C$1)-YEAR(H44))","v":""},"",{"$f":"IF(G44=\"\",\"\",ROUND(G44*Parameters!$C$12,2))","v":""},{"$f":"IF(G44=\"\",\"\",IF(YEAR(Informatie!$C$1)=2015,ROUND(G44*Parameters!$J$27,2),ROUND(G44*VLOOKUP('Overzicht deelnemers'!I44,Parameters!$E$4:$G$49,2,FALSE),2)))","v":""},{"$f":"IF(G44=\"\",\"\",IF(YEAR(Informatie!$C$1)=2015,ROUND(L44*Parameters!$C$20,2),G44*Parameters!$J$27))","v":""},"",{"$f":"IF(G44=\"\",\"\",ROUND(G44*Parameters!$C$16,2))","v":""},{"$f":"IF(G44=\"\",\"\",ROUND(G44*VLOOKUP(J44,Parameters!$E$3:$F$49,2,FALSE),2))","v":""},{"$f":"IF(G44=\"\",\"\",ROUND(G44*Parameters!$J$66,2))","v":""},"",{"$f":"IF(G44=\"\",\"\",ROUND(G44*Parameters!$C$13,2))","v":""},{"$f":"IF(G44=\"\",\"\",IF(YEAR(Informatie!$C$1)=2015,ROUND(G44*Parameters!J$44,2),ROUND(G44*VLOOKUP('Overzicht deelnemers'!I44,Parameters!$E$4:$G$49,3,FALSE),2)))","v":""},{"$f":"IF(G44=\"\",\"\",IF(YEAR(Informatie!$C$1)=2015,ROUND(T44*Parameters!$C$20,2),ROUND(G44*Parameters!$J$44,2)))","v":""},"",{"$f":"IF(G44=\"\",\"\",ROUND(G44*Parameters!C$17,2))","v":""},{"$f":"IF(G44=\"\",\"\",ROUND(G44*VLOOKUP(J44,Parameters!E$4:G$49,3),2))","v":""},{"$f":"IF(G44=\"\",\"\",ROUND(G44*Parameters!J$83,2))","v":""},""]
[null,null,null,null,0,{"$f":"IF(C45=\"\",0,IF(C45<=Parameters!$C$3,C45,Parameters!$C$3))","v":0},{"$f":"IF(C45=\"\",\"\",IF(F45<Parameters!$C$4,\"\",(F45-Parameters!$C$4)*D45))","v":""},null,{"$f":"IF(H45=\"\",\"\",YEAR(+Informatie!$C$1)-YEAR(H45))","v":""},"",{"$f":"IF(G45=\"\",\"\",ROUND(G45*Parameters!$C$12,2))","v":""},{"$f":"IF(G45=\"\",\"\",IF(YEAR(Informatie!$C$1)=2015,ROUND(G45*Parameters!$J$27,2),ROUND(G45*VLOOKUP('Overzicht deelnemers'!I45,Parameters!$E$4:$G$49,2,FALSE),2)))","v":""},{"$f":"IF(G45=\"\",\"\",IF(YEAR(Informatie!$C$1)=2015,ROUND(L45*Parameters!$C$20,2),G45*Parameters!$J$27))","v":""},"",{"$f":"IF(G45=\"\",\"\",ROUND(G45*Parameters!$C$16,2))","v":""},{"$f":"IF(G45=\"\",\"\",ROUND(G45*VLOOKUP(J45,Parameters!$E$3:$F$49,2,FALSE),2))","v":""},{"$f":"IF(G45=\"\",\"\",ROUND(G45*Parameters!$J$66,2))","v":""},"",{"$f":"IF(G45=\"\",\"\",ROUND(G45*Parameters!$C$13,2))","v":""},{"$f":"IF(G45=\"\",\"\",IF(YEAR(Informatie!$C$1)=2015,ROUND(G45*Parameters!J$44,2),ROUND(G45*VLOOKUP('Overzicht deelnemers'!I45,Parameters!$E$4:$G$49,3,FALSE),2)))","v":""},{"$f":"IF(G45=\"\",\"\",IF(YEAR(Informatie!$C$1)=2015,ROUND(T45*Parameters!$C$20,2),ROUND(G45*Parameters!$J$44,2)))","v":""},"",{"$f":"IF(G45=\"\",\"\",ROUND(G45*Parameters!C$17,2))","v":""},{"$f":"IF(G45=\"\",\"\",ROUND(G45*VLOOKUP(J45,Parameters!E$4:G$49,3),2))","v":""},{"$f":"IF(G45=\"\",\"\",ROUND(G45*Parameters!J$83,2))","v":""},""]
[null,null,null,null,0,{"$f":"IF(C46=\"\",0,IF(C46<=Parameters!$C$3,C46,Parameters!$C$3))","v":0},{"$f":"IF(C46=\"\",\"\",IF(F46<Parameters!$C$4,\"\",(F46-Parameters!$C$4)*D46))","v":""},null,{"$f":"IF(H46=\"\",\"\",YEAR(+Informatie!$C$1)-YEAR(H46))","v":""},"",{"$f":"IF(G46=\"\",\"\",ROUND(G46*Parameters!$C$12,2))","v":""},{"$f":"IF(G46=\"\",\"\",IF(YEAR(Informatie!$C$1)=2015,ROUND(G46*Parameters!$J$27,2),ROUND(G46*VLOOKUP('Overzicht deelnemers'!I46,Parameters!$E$4:$G$49,2,FALSE),2)))","v":""},{"$f":"IF(G46=\"\",\"\",IF(YEAR(Informatie!$C$1)=2015,ROUND(L46*Parameters!$C$20,2),G46*Parameters!$J$27))","v":""},"",{"$f":"IF(G46=\"\",\"\",ROUND(G46*Parameters!$C$16,2))","v":""},{"$f":"IF(G46=\"\",\"\",ROUND(G46*VLOOKUP(J46,Parameters!$E$3:$F$49,2,FALSE),2))","v":""},{"$f":"IF(G46=\"\",\"\",ROUND(G46*Parameters!$J$66,2))","v":""},"",{"$f":"IF(G46=\"\",\"\",ROUND(G46*Parameters!$C$13,2))","v":""},{"$f":"IF(G46=\"\",\"\",IF(YEAR(Informatie!$C$1)=2015,ROUND(G46*Parameters!J$44,2),ROUND(G46*VLOOKUP('Overzicht deelnemers'!I46,Parameters!$E$4:$G$49,3,FALSE),2)))","v":""},{"$f":"IF(G46=\"\",\"\",IF(YEAR(Informatie!$C$1)=2015,ROUND(T46*Parameters!$C$20,2),ROUND(G46*Parameters!$J$44,2)))","v":""},"",{"$f":"IF(G46=\"\",\"\",ROUND(G46*Parameters!C$17,2))","v":""},{"$f":"IF(G46=\"\",\"\",ROUND(G46*VLOOKUP(J46,Parameters!E$4:G$49,3),2))","v":""},{"$f":"IF(G46=\"\",\"\",ROUND(G46*Parameters!J$83,2))","v":""},""]
[null,null,null,null,0,{"$f":"IF(C47=\"\",0,IF(C47<=Parameters!$C$3,C47,Parameters!$C$3))","v":0},{"$f":"IF(C47=\"\",\"\",IF(F47<Parameters!$C$4,\"\",(F47-Parameters!$C$4)*D47))","v":""},null,{"$f":"IF(H47=\"\",\"\",YEAR(+Informatie!$C$1)-YEAR(H47))","v":""},"",{"$f":"IF(G47=\"\",\"\",ROUND(G47*Parameters!$C$12,2))","v":""},{"$f":"IF(G47=\"\",\"\",IF(YEAR(Informatie!$C$1)=2015,ROUND(G47*Parameters!$J$27,2),ROUND(G47*VLOOKUP('Overzicht deelnemers'!I47,Parameters!$E$4:$G$49,2,FALSE),2)))","v":""},{"$f":"IF(G47=\"\",\"\",IF(YEAR(Informatie!$C$1)=2015,ROUND(L47*Parameters!$C$20,2),G47*Parameters!$J$27))","v":""},"",{"$f":"IF(G47=\"\",\"\",ROUND(G47*Parameters!$C$16,2))","v":""},{"$f":"IF(G47=\"\",\"\",ROUND(G47*VLOOKUP(J47,Parameters!$E$3:$F$49,2,FALSE),2))","v":""},{"$f":"IF(G47=\"\",\"\",ROUND(G47*Parameters!$J$66,2))","v":""},"",{"$f":"IF(G47=\"\",\"\",ROUND(G47*Parameters!$C$13,2))","v":""},{"$f":"IF(G47=\"\",\"\",IF(YEAR(Informatie!$C$1)=2015,ROUND(G47*Parameters!J$44,2),ROUND(G47*VLOOKUP('Overzicht deelnemers'!I47,Parameters!$E$4:$G$49,3,FALSE),2)))","v":""},{"$f":"IF(G47=\"\",\"\",IF(YEAR(Informatie!$C$1)=2015,ROUND(T47*Parameters!$C$20,2),ROUND(G47*Parameters!$J$44,2)))","v":""},"",{"$f":"IF(G47=\"\",\"\",ROUND(G47*Parameters!C$17,2))","v":""},{"$f":"IF(G47=\"\",\"\",ROUND(G47*VLOOKUP(J47,Parameters!E$4:G$49,3),2))","v":""},{"$f":"IF(G47=\"\",\"\",ROUND(G47*Parameters!J$83,2))","v":""},""]
[null,null,null,null,0,{"$f":"IF(C48=\"\",0,IF(C48<=Parameters!$C$3,C48,Parameters!$C$3))","v":0},{"$f":"IF(C48=\"\",\"\",IF(F48<Parameters!$C$4,\"\",(F48-Parameters!$C$4)*D48))","v":""},null,{"$f":"IF(H48=\"\",\"\",YEAR(+Informatie!$C$1)-YEAR(H48))","v":""},"",{"$f":"IF(G48=\"\",\"\",ROUND(G48*Parameters!$C$12,2))","v":""},{"$f":"IF(G48=\"\",\"\",IF(YEAR(Informatie!$C$1)=2015,ROUND(G48*Parameters!$J$27,2),ROUND(G48*VLOOKUP('Overzicht deelnemers'!I48,Parameters!$E$4:$G$49,2,FALSE),2)))","v":""},{"$f":"IF(G48=\"\",\"\",IF(YEAR(Informatie!$C$1)=2015,ROUND(L48*Parameters!$C$20,2),G48*Parameters!$J$27))","v":""},"",{"$f":"IF(G48=\"\",\"\",ROUND(G48*Parameters!$C$16,2))","v":""},{"$f":"IF(G48=\"\",\"\",ROUND(G48*VLOOKUP(J48,Parameters!$E$3:$F$49,2,FALSE),2))","v":""},{"$f":"IF(G48=\"\",\"\",ROUND(G48*Parameters!$J$66,2))","v":""},"",{"$f":"IF(G48=\"\",\"\",ROUND(G48*Parameters!$C$13,2))","v":""},{"$f":"IF(G48=\"\",\"\",IF(YEAR(Informatie!$C$1)=2015,ROUND(G48*Parameters!J$44,2),ROUND(G48*VLOOKUP('Overzicht deelnemers'!I48,Parameters!$E$4:$G$49,3,FALSE),2)))","v":""},{"$f":"IF(G48=\"\",\"\",IF(YEAR(Informatie!$C$1)=2015,ROUND(T48*Parameters!$C$20,2),ROUND(G48*Parameters!$J$44,2)))","v":""},"",{"$f":"IF(G48=\"\",\"\",ROUND(G48*Parameters!C$17,2))","v":""},{"$f":"IF(G48=\"\",\"\",ROUND(G48*VLOOKUP(J48,Parameters!E$4:G$49,3),2))","v":""},{"$f":"IF(G48=\"\",\"\",ROUND(G48*Parameters!J$83,2))","v":""},""]
[null,null,null,null,0,{"$f":"IF(C49=\"\",0,IF(C49<=Parameters!$C$3,C49,Parameters!$C$3))","v":0},{"$f":"IF(C49=\"\",\"\",IF(F49<Parameters!$C$4,\"\",(F49-Parameters!$C$4)*D49))","v":""},null,{"$f":"IF(H49=\"\",\"\",YEAR(+Informatie!$C$1)-YEAR(H49))","v":""},"",{"$f":"IF(G49=\"\",\"\",ROUND(G49*Parameters!$C$12,2))","v":""},{"$f":"IF(G49=\"\",\"\",IF(YEAR(Informatie!$C$1)=2015,ROUND(G49*Parameters!$J$27,2),ROUND(G49*VLOOKUP('Overzicht deelnemers'!I49,Parameters!$E$4:$G$49,2,FALSE),2)))","v":""},{"$f":"IF(G49=\"\",\"\",IF(YEAR(Informatie!$C$1)=2015,ROUND(L49*Parameters!$C$20,2),G49*Parameters!$J$27))","v":""},"",{"$f":"IF(G49=\"\",\"\",ROUND(G49*Parameters!$C$16,2))","v":""},{"$f":"IF(G49=\"\",\"\",ROUND(G49*VLOOKUP(J49,Parameters!$E$3:$F$49,2,FALSE),2))","v":""},{"$f":"IF(G49=\"\",\"\",ROUND(G49*Parameters!$J$66,2))","v":""},"",{"$f":"IF(G49=\"\",\"\",ROUND(G49*Parameters!$C$13,2))","v":""},{"$f":"IF(G49=\"\",\"\",IF(YEAR(Informatie!$C$1)=2015,ROUND(G49*Parameters!J$44,2),ROUND(G49*VLOOKUP('Overzicht deelnemers'!I49,Parameters!$E$4:$G$49,3,FALSE),2)))","v":""},{"$f":"IF(G49=\"\",\"\",IF(YEAR(Informatie!$C$1)=2015,ROUND(T49*Parameters!$C$20,2),ROUND(G49*Parameters!$J$44,2)))","v":""},"",{"$f":"IF(G49=\"\",\"\",ROUND(G49*Parameters!C$17,2))","v":""},{"$f":"IF(G49=\"\",\"\",ROUND(G49*VLOOKUP(J49,Parameters!E$4:G$49,3),2))","v":""},{"$f":"IF(G49=\"\",\"\",ROUND(G49*Parameters!J$83,2))","v":""},""]
[null,null,null,null,0,{"$f":"IF(C50=\"\",0,IF(C50<=Parameters!$C$3,C50,Parameters!$C$3))","v":0},{"$f":"IF(C50=\"\",\"\",IF(F50<Parameters!$C$4,\"\",(F50-Parameters!$C$4)*D50))","v":""},null,{"$f":"IF(H50=\"\",\"\",YEAR(+Informatie!$C$1)-YEAR(H50))","v":""},"",{"$f":"IF(G50=\"\",\"\",ROUND(G50*Parameters!$C$12,2))","v":""},{"$f":"IF(G50=\"\",\"\",IF(YEAR(Informatie!$C$1)=2015,ROUND(G50*Parameters!$J$27,2),ROUND(G50*VLOOKUP('Overzicht deelnemers'!I50,Parameters!$E$4:$G$49,2,FALSE),2)))","v":""},{"$f":"IF(G50=\"\",\"\",IF(YEAR(Informatie!$C$1)=2015,ROUND(L50*Parameters!$C$20,2),G50*Parameters!$J$27))","v":""},"",{"$f":"IF(G50=\"\",\"\",ROUND(G50*Parameters!$C$16,2))","v":""},{"$f":"IF(G50=\"\",\"\",ROUND(G50*VLOOKUP(J50,Parameters!$E$3:$F$49,2,FALSE),2))","v":""},{"$f":"IF(G50=\"\",\"\",ROUND(G50*Parameters!$J$66,2))","v":""},"",{"$f":"IF(G50=\"\",\"\",ROUND(G50*Parameters!$C$13,2))","v":""},{"$f":"IF(G50=\"\",\"\",IF(YEAR(Informatie!$C$1)=2015,ROUND(G50*Parameters!J$44,2),ROUND(G50*VLOOKUP('Overzicht deelnemers'!I50,Parameters!$E$4:$G$49,3,FALSE),2)))","v":""},{"$f":"IF(G50=\"\",\"\",IF(YEAR(Informatie!$C$1)=2015,ROUND(T50*Parameters!$C$20,2),ROUND(G50*Parameters!$J$44,2)))","v":""},"",{"$f":"IF(G50=\"\",\"\",ROUND(G50*Parameters!C$17,2))","v":""},{"$f":"IF(G50=\"\",\"\",ROUND(G50*VLOOKUP(J50,Parameters!E$4:G$49,3),2))","v":""},{"$f":"IF(G50=\"\",\"\",ROUND(G50*Parameters!J$83,2))","v":""},""]
[null,null,null,null,0,{"$f":"IF(C51=\"\",0,IF(C51<=Parameters!$C$3,C51,Parameters!$C$3))","v":0},{"$f":"IF(C51=\"\",\"\",IF(F51<Parameters!$C$4,\"\",(F51-Parameters!$C$4)*D51))","v":""},null,{"$f":"IF(H51=\"\",\"\",YEAR(+Informatie!$C$1)-YEAR(H51))","v":""},"",{"$f":"IF(G51=\"\",\"\",ROUND(G51*Parameters!$C$12,2))","v":""},{"$f":"IF(G51=\"\",\"\",IF(YEAR(Informatie!$C$1)=2015,ROUND(G51*Parameters!$J$27,2),ROUND(G51*VLOOKUP('Overzicht deelnemers'!I51,Parameters!$E$4:$G$49,2,FALSE),2)))","v":""},{"$f":"IF(G51=\"\",\"\",IF(YEAR(Informatie!$C$1)=2015,ROUND(L51*Parameters!$C$20,2),G51*Parameters!$J$27))","v":""},"",{"$f":"IF(G51=\"\",\"\",ROUND(G51*Parameters!$C$16,2))","v":""},{"$f":"IF(G51=\"\",\"\",ROUND(G51*VLOOKUP(J51,Parameters!$E$3:$F$49,2,FALSE),2))","v":""},{"$f":"IF(G51=\"\",\"\",ROUND(G51*Parameters!$J$66,2))","v":""},"",{"$f":"IF(G51=\"\",\"\",ROUND(G51*Parameters!$C$13,2))","v":""},{"$f":"IF(G51=\"\",\"\",IF(YEAR(Informatie!$C$1)=2015,ROUND(G51*Parameters!J$44,2),ROUND(G51*VLOOKUP('Overzicht deelnemers'!I51,Parameters!$E$4:$G$49,3,FALSE),2)))","v":""},{"$f":"IF(G51=\"\",\"\",IF(YEAR(Informatie!$C$1)=2015,ROUND(T51*Parameters!$C$20,2),ROUND(G51*Parameters!$J$44,2)))","v":""},"",{"$f":"IF(G51=\"\",\"\",ROUND(G51*Parameters!C$17,2))","v":""},{"$f":"IF(G51=\"\",\"\",ROUND(G51*VLOOKUP(J51,Parameters!E$4:G$49,3),2))","v":""},{"$f":"IF(G51=\"\",\"\",ROUND(G51*Parameters!J$83,2))","v":""},""]
[null,null,null,null,0,{"$f":"IF(C52=\"\",0,IF(C52<=Parameters!$C$3,C52,Parameters!$C$3))","v":0},{"$f":"IF(C52=\"\",\"\",IF(F52<Parameters!$C$4,\"\",(F52-Parameters!$C$4)*D52))","v":""},null,{"$f":"IF(H52=\"\",\"\",YEAR(+Informatie!$C$1)-YEAR(H52))","v":""},"",{"$f":"IF(G52=\"\",\"\",ROUND(G52*Parameters!$C$12,2))","v":""},{"$f":"IF(G52=\"\",\"\",IF(YEAR(Informatie!$C$1)=2015,ROUND(G52*Parameters!$J$27,2),ROUND(G52*VLOOKUP('Overzicht deelnemers'!I52,Parameters!$E$4:$G$49,2,FALSE),2)))","v":""},{"$f":"IF(G52=\"\",\"\",IF(YEAR(Informatie!$C$1)=2015,ROUND(L52*Parameters!$C$20,2),G52*Parameters!$J$27))","v":""},"",{"$f":"IF(G52=\"\",\"\",ROUND(G52*Parameters!$C$16,2))","v":""},{"$f":"IF(G52=\"\",\"\",ROUND(G52*VLOOKUP(J52,Parameters!$E$3:$F$49,2,FALSE),2))","v":""},{"$f":"IF(G52=\"\",\"\",ROUND(G52*Parameters!$J$66,2))","v":""},"",{"$f":"IF(G52=\"\",\"\",ROUND(G52*Parameters!$C$13,2))","v":""},{"$f":"IF(G52=\"\",\"\",IF(YEAR(Informatie!$C$1)=2015,ROUND(G52*Parameters!J$44,2),ROUND(G52*VLOOKUP('Overzicht deelnemers'!I52,Parameters!$E$4:$G$49,3,FALSE),2)))","v":""},{"$f":"IF(G52=\"\",\"\",IF(YEAR(Informatie!$C$1)=2015,ROUND(T52*Parameters!$C$20,2),ROUND(G52*Parameters!$J$44,2)))","v":""},"",{"$f":"IF(G52=\"\",\"\",ROUND(G52*Parameters!C$17,2))","v":""},{"$f":"IF(G52=\"\",\"\",ROUND(G52*VLOOKUP(J52,Parameters!E$4:G$49,3),2))","v":""},{"$f":"IF(G52=\"\",\"\",ROUND(G52*Parameters!J$83,2))","v":""},""]
[null,null,null,null,0,{"$f":"IF(C53=\"\",0,IF(C53<=Parameters!$C$3,C53,Parameters!$C$3))","v":0},{"$f":"IF(C53=\"\",\"\",IF(F53<Parameters!$C$4,\"\",(F53-Parameters!$C$4)*D53))","v":""},null,{"$f":"IF(H53=\"\",\"\",YEAR(+Informatie!$C$1)-YEAR(H53))","v":""},"",{"$f":"IF(G53=\"\",\"\",ROUND(G53*Parameters!$C$12,2))","v":""},{"$f":"IF(G53=\"\",\"\",IF(YEAR(Informatie!$C$1)=2015,ROUND(G53*Parameters!$J$27,2),ROUND(G53*VLOOKUP('Overzicht deelnemers'!I53,Parameters!$E$4:$G$49,2,FALSE),2)))","v":""},{"$f":"IF(G53=\"\",\"\",IF(YEAR(Informatie!$C$1)=2015,ROUND(L53*Parameters!$C$20,2),G53*Parameters!$J$27))","v":""},"",{"$f":"IF(G53=\"\",\"\",ROUND(G53*Parameters!$C$16,2))","v":""},{"$f":"IF(G53=\"\",\"\",ROUND(G53*VLOOKUP(J53,Parameters!$E$3:$F$49,2,FALSE),2))","v":""},{"$f":"IF(G53=\"\",\"\",ROUND(G53*Parameters!$J$66,2))","v":""},"",{"$f":"IF(G53=\"\",\"\",ROUND(G53*Parameters!$C$13,2))","v":""},{"$f":"IF(G53=\"\",\"\",IF(YEAR(Informatie!$C$1)=2015,ROUND(G53*Parameters!J$44,2),ROUND(G53*VLOOKUP('Overzicht deelnemers'!I53,Parameters!$E$4:$G$49,3,FALSE),2)))","v":""},{"$f":"IF(G53=\"\",\"\",IF(YEAR(Informatie!$C$1)=2015,ROUND(T53*Parameters!$C$20,2),ROUND(G53*Parameters!$J$44,2)))","v":""},"",{"$f":"IF(G53=\"\",\"\",ROUND(G53*Parameters!C$17,2))","v":""},{"$f":"IF(G53=\"\",\"\",ROUND(G53*VLOOKUP(J53,Parameters!E$4:G$49,3),2))","v":""},{"$f":"IF(G53=\"\",\"\",ROUND(G53*Parameters!J$83,2))","v":""},""]
[null,null,null,null,0,{"$f":"IF(C54=\"\",0,IF(C54<=Parameters!$C$3,C54,Parameters!$C$3))","v":0},{"$f":"IF(C54=\"\",\"\",IF(F54<Parameters!$C$4,\"\",(F54-Parameters!$C$4)*D54))","v":""},null,{"$f":"IF(H54=\"\",\"\",YEAR(+Informatie!$C$1)-YEAR(H54))","v":""},"",{"$f":"IF(G54=\"\",\"\",ROUND(G54*Parameters!$C$12,2))","v":""},{"$f":"IF(G54=\"\",\"\",IF(YEAR(Informatie!$C$1)=2015,ROUND(G54*Parameters!$J$27,2),ROUND(G54*VLOOKUP('Overzicht deelnemers'!I54,Parameters!$E$4:$G$49,2,FALSE),2)))","v":""},{"$f":"IF(G54=\"\",\"\",IF(YEAR(Informatie!$C$1)=2015,ROUND(L54*Parameters!$C$20,2),G54*Parameters!$J$27))","v":""},"",{"$f":"IF(G54=\"\",\"\",ROUND(G54*Parameters!$C$16,2))","v":""},{"$f":"IF(G54=\"\",\"\",ROUND(G54*VLOOKUP(J54,Parameters!$E$3:$F$49,2,FALSE),2))","v":""},{"$f":"IF(G54=\"\",\"\",ROUND(G54*Parameters!$J$66,2))","v":""},"",{"$f":"IF(G54=\"\",\"\",ROUND(G54*Parameters!$C$13,2))","v":""},{"$f":"IF(G54=\"\",\"\",IF(YEAR(Informatie!$C$1)=2015,ROUND(G54*Parameters!J$44,2),ROUND(G54*VLOOKUP('Overzicht deelnemers'!I54,Parameters!$E$4:$G$49,3,FALSE),2)))","v":""},{"$f":"IF(G54=\"\",\"\",IF(YEAR(Informatie!$C$1)=2015,ROUND(T54*Parameters!$C$20,2),ROUND(G54*Parameters!$J$44,2)))","v":""},"",{"$f":"IF(G54=\"\",\"\",ROUND(G54*Parameters!C$17,2))","v":""},{"$f":"IF(G54=\"\",\"\",ROUND(G54*VLOOKUP(J54,Parameters!E$4:G$49,3),2))","v":""},{"$f":"IF(G54=\"\",\"\",ROUND(G54*Parameters!J$83,2))","v":""},""]
[null,null,null,null,0,{"$f":"IF(C55=\"\",0,IF(C55<=Parameters!$C$3,C55,Parameters!$C$3))","v":0},{"$f":"IF(C55=\"\",\"\",IF(F55<Parameters!$C$4,\"\",(F55-Parameters!$C$4)*D55))","v":""},null,{"$f":"IF(H55=\"\",\"\",YEAR(+Informatie!$C$1)-YEAR(H55))","v":""},"",{"$f":"IF(G55=\"\",\"\",ROUND(G55*Parameters!$C$12,2))","v":""},{"$f":"IF(G55=\"\",\"\",IF(YEAR(Informatie!$C$1)=2015,ROUND(G55*Parameters!$J$27,2),ROUND(G55*VLOOKUP('Overzicht deelnemers'!I55,Parameters!$E$4:$G$49,2,FALSE),2)))","v":""},{"$f":"IF(G55=\"\",\"\",IF(YEAR(Informatie!$C$1)=2015,ROUND(L55*Parameters!$C$20,2),G55*Parameters!$J$27))","v":""},"",{"$f":"IF(G55=\"\",\"\",ROUND(G55*Parameters!$C$16,2))","v":""},{"$f":"IF(G55=\"\",\"\",ROUND(G55*VLOOKUP(J55,Parameters!$E$3:$F$49,2,FALSE),2))","v":""},{"$f":"IF(G55=\"\",\"\",ROUND(G55*Parameters!$J$66,2))","v":""},"",{"$f":"IF(G55=\"\",\"\",ROUND(G55*Parameters!$C$13,2))","v":""},{"$f":"IF(G55=\"\",\"\",IF(YEAR(Informatie!$C$1)=2015,ROUND(G55*Parameters!J$44,2),ROUND(G55*VLOOKUP('Overzicht deelnemers'!I55,Parameters!$E$4:$G$49,3,FALSE),2)))","v":""},{"$f":"IF(G55=\"\",\"\",IF(YEAR(Informatie!$C$1)=2015,ROUND(T55*Parameters!$C$20,2),ROUND(G55*Parameters!$J$44,2)))","v":""},"",{"$f":"IF(G55=\"\",\"\",ROUND(G55*Parameters!C$17,2))","v":""},{"$f":"IF(G55=\"\",\"\",ROUND(G55*VLOOKUP(J55,Parameters!E$4:G$49,3),2))","v":""},{"$f":"IF(G55=\"\",\"\",ROUND(G55*Parameters!J$83,2))","v":""},""]
[null,null,null,null,0,{"$f":"IF(C56=\"\",0,IF(C56<=Parameters!$C$3,C56,Parameters!$C$3))","v":0},{"$f":"IF(C56=\"\",\"\",IF(F56<Parameters!$C$4,\"\",(F56-Parameters!$C$4)*D56))","v":""},null,{"$f":"IF(H56=\"\",\"\",YEAR(+Informatie!$C$1)-YEAR(H56))","v":""},"",{"$f":"IF(G56=\"\",\"\",ROUND(G56*Parameters!$C$12,2))","v":""},{"$f":"IF(G56=\"\",\"\",IF(YEAR(Informatie!$C$1)=2015,ROUND(G56*Parameters!$J$27,2),ROUND(G56*VLOOKUP('Overzicht deelnemers'!I56,Parameters!$E$4:$G$49,2,FALSE),2)))","v":""},{"$f":"IF(G56=\"\",\"\",IF(YEAR(Informatie!$C$1)=2015,ROUND(L56*Parameters!$C$20,2),G56*Parameters!$J$27))","v":""},"",{"$f":"IF(G56=\"\",\"\",ROUND(G56*Parameters!$C$16,2))","v":""},{"$f":"IF(G56=\"\",\"\",ROUND(G56*VLOOKUP(J56,Parameters!$E$3:$F$49,2,FALSE),2))","v":""},{"$f":"IF(G56=\"\",\"\",ROUND(G56*Parameters!$J$66,2))","v":""},"",{"$f":"IF(G56=\"\",\"\",ROUND(G56*Parameters!$C$13,2))","v":""},{"$f":"IF(G56=\"\",\"\",IF(YEAR(Informatie!$C$1)=2015,ROUND(G56*Parameters!J$44,2),ROUND(G56*VLOOKUP('Overzicht deelnemers'!I56,Parameters!$E$4:$G$49,3,FALSE),2)))","v":""},{"$f":"IF(G56=\"\",\"\",IF(YEAR(Informatie!$C$1)=2015,ROUND(T56*Parameters!$C$20,2),ROUND(G56*Parameters!$J$44,2)))","v":""},"",{"$f":"IF(G56=\"\",\"\",ROUND(G56*Parameters!C$17,2))","v":""},{"$f":"IF(G56=\"\",\"\",ROUND(G56*VLOOKUP(J56,Parameters!E$4:G$49,3),2))","v":""},{"$f":"IF(G56=\"\",\"\",ROUND(G56*Parameters!J$83,2))","v":""},""]
[null,null,null,null,0,{"$f":"IF(C57=\"\",0,IF(C57<=Parameters!$C$3,C57,Parameters!$C$3))","v":0},{"$f":"IF(C57=\"\",\"\",IF(F57<Parameters!$C$4,\"\",(F57-Parameters!$C$4)*D57))","v":""},null,{"$f":"IF(H57=\"\",\"\",YEAR(+Informatie!$C$1)-YEAR(H57))","v":""},"",{"$f":"IF(G57=\"\",\"\",ROUND(G57*Parameters!$C$12,2))","v":""},{"$f":"IF(G57=\"\",\"\",IF(YEAR(Informatie!$C$1)=2015,ROUND(G57*Parameters!$J$27,2),ROUND(G57*VLOOKUP('Overzicht deelnemers'!I57,Parameters!$E$4:$G$49,2,FALSE),2)))","v":""},{"$f":"IF(G57=\"\",\"\",IF(YEAR(Informatie!$C$1)=2015,ROUND(L57*Parameters!$C$20,2),G57*Parameters!$J$27))","v":""},"",{"$f":"IF(G57=\"\",\"\",ROUND(G57*Parameters!$C$16,2))","v":""},{"$f":"IF(G57=\"\",\"\",ROUND(G57*VLOOKUP(J57,Parameters!$E$3:$F$49,2,FALSE),2))","v":""},{"$f":"IF(G57=\"\",\"\",ROUND(G57*Parameters!$J$66,2))","v":""},"",{"$f":"IF(G57=\"\",\"\",ROUND(G57*Parameters!$C$13,2))","v":""},{"$f":"IF(G57=\"\",\"\",IF(YEAR(Informatie!$C$1)=2015,ROUND(G57*Parameters!J$44,2),ROUND(G57*VLOOKUP('Overzicht deelnemers'!I57,Parameters!$E$4:$G$49,3,FALSE),2)))","v":""},{"$f":"IF(G57=\"\",\"\",IF(YEAR(Informatie!$C$1)=2015,ROUND(T57*Parameters!$C$20,2),ROUND(G57*Parameters!$J$44,2)))","v":""},"",{"$f":"IF(G57=\"\",\"\",ROUND(G57*Parameters!C$17,2))","v":""},{"$f":"IF(G57=\"\",\"\",ROUND(G57*VLOOKUP(J57,Parameters!E$4:G$49,3),2))","v":""},{"$f":"IF(G57=\"\",\"\",ROUND(G57*Parameters!J$83,2))","v":""},""]
[null,null,null,null,0,{"$f":"IF(C58=\"\",0,IF(C58<=Parameters!$C$3,C58,Parameters!$C$3))","v":0},{"$f":"IF(C58=\"\",\"\",IF(F58<Parameters!$C$4,\"\",(F58-Parameters!$C$4)*D58))","v":""},null,{"$f":"IF(H58=\"\",\"\",YEAR(+Informatie!$C$1)-YEAR(H58))","v":""},"",{"$f":"IF(G58=\"\",\"\",ROUND(G58*Parameters!$C$12,2))","v":""},{"$f":"IF(G58=\"\",\"\",IF(YEAR(Informatie!$C$1)=2015,ROUND(G58*Parameters!$J$27,2),ROUND(G58*VLOOKUP('Overzicht deelnemers'!I58,Parameters!$E$4:$G$49,2,FALSE),2)))","v":""},{"$f":"IF(G58=\"\",\"\",IF(YEAR(Informatie!$C$1)=2015,ROUND(L58*Parameters!$C$20,2),G58*Parameters!$J$27))","v":""},"",{"$f":"IF(G58=\"\",\"\",ROUND(G58*Parameters!$C$16,2))","v":""},{"$f":"IF(G58=\"\",\"\",ROUND(G58*VLOOKUP(J58,Parameters!$E$3:$F$49,2,FALSE),2))","v":""},{"$f":"IF(G58=\"\",\"\",ROUND(G58*Parameters!$J$66,2))","v":""},"",{"$f":"IF(G58=\"\",\"\",ROUND(G58*Parameters!$C$13,2))","v":""},{"$f":"IF(G58=\"\",\"\",IF(YEAR(Informatie!$C$1)=2015,ROUND(G58*Parameters!J$44,2),ROUND(G58*VLOOKUP('Overzicht deelnemers'!I58,Parameters!$E$4:$G$49,3,FALSE),2)))","v":""},{"$f":"IF(G58=\"\",\"\",IF(YEAR(Informatie!$C$1)=2015,ROUND(T58*Parameters!$C$20,2),ROUND(G58*Parameters!$J$44,2)))","v":""},"",{"$f":"IF(G58=\"\",\"\",ROUND(G58*Parameters!C$17,2))","v":""},{"$f":"IF(G58=\"\",\"\",ROUND(G58*VLOOKUP(J58,Parameters!E$4:G$49,3),2))","v":""},{"$f":"IF(G58=\"\",\"\",ROUND(G58*Parameters!J$83,2))","v":""},""]
[null,null,null,null,0,{"$f":"IF(C59=\"\",0,IF(C59<=Parameters!$C$3,C59,Parameters!$C$3))","v":0},{"$f":"IF(C59=\"\",\"\",IF(F59<Parameters!$C$4,\"\",(F59-Parameters!$C$4)*D59))","v":""},null,{"$f":"IF(H59=\"\",\"\",YEAR(+Informatie!$C$1)-YEAR(H59))","v":""},"",{"$f":"IF(G59=\"\",\"\",ROUND(G59*Parameters!$C$12,2))","v":""},{"$f":"IF(G59=\"\",\"\",IF(YEAR(Informatie!$C$1)=2015,ROUND(G59*Parameters!$J$27,2),ROUND(G59*VLOOKUP('Overzicht deelnemers'!I59,Parameters!$E$4:$G$49,2,FALSE),2)))","v":""},{"$f":"IF(G59=\"\",\"\",IF(YEAR(Informatie!$C$1)=2015,ROUND(L59*Parameters!$C$20,2),G59*Parameters!$J$27))","v":""},"",{"$f":"IF(G59=\"\",\"\",ROUND(G59*Parameters!$C$16,2))","v":""},{"$f":"IF(G59=\"\",\"\",ROUND(G59*VLOOKUP(J59,Parameters!$E$3:$F$49,2,FALSE),2))","v":""},{"$f":"IF(G59=\"\",\"\",ROUND(G59*Parameters!$J$66,2))","v":""},"",{"$f":"IF(G59=\"\",\"\",ROUND(G59*Parameters!$C$13,2))","v":""},{"$f":"IF(G59=\"\",\"\",IF(YEAR(Informatie!$C$1)=2015,ROUND(G59*Parameters!J$44,2),ROUND(G59*VLOOKUP('Overzicht deelnemers'!I59,Parameters!$E$4:$G$49,3,FALSE),2)))","v":""},{"$f":"IF(G59=\"\",\"\",IF(YEAR(Informatie!$C$1)=2015,ROUND(T59*Parameters!$C$20,2),ROUND(G59*Parameters!$J$44,2)))","v":""},"",{"$f":"IF(G59=\"\",\"\",ROUND(G59*Parameters!C$17,2))","v":""},{"$f":"IF(G59=\"\",\"\",ROUND(G59*VLOOKUP(J59,Parameters!E$4:G$49,3),2))","v":""},{"$f":"IF(G59=\"\",\"\",ROUND(G59*Parameters!J$83,2))","v":""},""]
[null,null,null,null,0,{"$f":"IF(C60=\"\",0,IF(C60<=Parameters!$C$3,C60,Parameters!$C$3))","v":0},{"$f":"IF(C60=\"\",\"\",IF(F60<Parameters!$C$4,\"\",(F60-Parameters!$C$4)*D60))","v":""},null,{"$f":"IF(H60=\"\",\"\",YEAR(+Informatie!$C$1)-YEAR(H60))","v":""},"",{"$f":"IF(G60=\"\",\"\",ROUND(G60*Parameters!$C$12,2))","v":""},{"$f":"IF(G60=\"\",\"\",IF(YEAR(Informatie!$C$1)=2015,ROUND(G60*Parameters!$J$27,2),ROUND(G60*VLOOKUP('Overzicht deelnemers'!I60,Parameters!$E$4:$G$49,2,FALSE),2)))","v":""},{"$f":"IF(G60=\"\",\"\",IF(YEAR(Informatie!$C$1)=2015,ROUND(L60*Parameters!$C$20,2),G60*Parameters!$J$27))","v":""},"",{"$f":"IF(G60=\"\",\"\",ROUND(G60*Parameters!$C$16,2))","v":""},{"$f":"IF(G60=\"\",\"\",ROUND(G60*VLOOKUP(J60,Parameters!$E$3:$F$49,2,FALSE),2))","v":""},{"$f":"IF(G60=\"\",\"\",ROUND(G60*Parameters!$J$66,2))","v":""},"",{"$f":"IF(G60=\"\",\"\",ROUND(G60*Parameters!$C$13,2))","v":""},{"$f":"IF(G60=\"\",\"\",IF(YEAR(Informatie!$C$1)=2015,ROUND(G60*Parameters!J$44,2),ROUND(G60*VLOOKUP('Overzicht deelnemers'!I60,Parameters!$E$4:$G$49,3,FALSE),2)))","v":""},{"$f":"IF(G60=\"\",\"\",IF(YEAR(Informatie!$C$1)=2015,ROUND(T60*Parameters!$C$20,2),ROUND(G60*Parameters!$J$44,2)))","v":""},"",{"$f":"IF(G60=\"\",\"\",ROUND(G60*Parameters!C$17,2))","v":""},{"$f":"IF(G60=\"\",\"\",ROUND(G60*VLOOKUP(J60,Parameters!E$4:G$49,3),2))","v":""},{"$f":"IF(G60=\"\",\"\",ROUND(G60*Parameters!J$83,2))","v":""},""]
[null,null,null,null,0,{"$f":"IF(C61=\"\",0,IF(C61<=Parameters!$C$3,C61,Parameters!$C$3))","v":0},{"$f":"IF(C61=\"\",\"\",IF(F61<Parameters!$C$4,\"\",(F61-Parameters!$C$4)*D61))","v":""},null,{"$f":"IF(H61=\"\",\"\",YEAR(+Informatie!$C$1)-YEAR(H61))","v":""},"",{"$f":"IF(G61=\"\",\"\",ROUND(G61*Parameters!$C$12,2))","v":""},{"$f":"IF(G61=\"\",\"\",IF(YEAR(Informatie!$C$1)=2015,ROUND(G61*Parameters!$J$27,2),ROUND(G61*VLOOKUP('Overzicht deelnemers'!I61,Parameters!$E$4:$G$49,2,FALSE),2)))","v":""},{"$f":"IF(G61=\"\",\"\",IF(YEAR(Informatie!$C$1)=2015,ROUND(L61*Parameters!$C$20,2),G61*Parameters!$J$27))","v":""},"",{"$f":"IF(G61=\"\",\"\",ROUND(G61*Parameters!$C$16,2))","v":""},{"$f":"IF(G61=\"\",\"\",ROUND(G61*VLOOKUP(J61,Parameters!$E$3:$F$49,2,FALSE),2))","v":""},{"$f":"IF(G61=\"\",\"\",ROUND(G61*Parameters!$J$66,2))","v":""},"",{"$f":"IF(G61=\"\",\"\",ROUND(G61*Parameters!$C$13,2))","v":""},{"$f":"IF(G61=\"\",\"\",IF(YEAR(Informatie!$C$1)=2015,ROUND(G61*Parameters!J$44,2),ROUND(G61*VLOOKUP('Overzicht deelnemers'!I61,Parameters!$E$4:$G$49,3,FALSE),2)))","v":""},{"$f":"IF(G61=\"\",\"\",IF(YEAR(Informatie!$C$1)=2015,ROUND(T61*Parameters!$C$20,2),ROUND(G61*Parameters!$J$44,2)))","v":""},"",{"$f":"IF(G61=\"\",\"\",ROUND(G61*Parameters!C$17,2))","v":""},{"$f":"IF(G61=\"\",\"\",ROUND(G61*VLOOKUP(J61,Parameters!E$4:G$49,3),2))","v":""},{"$f":"IF(G61=\"\",\"\",ROUND(G61*Parameters!J$83,2))","v":""},""]
[null,null,null,null,0,{"$f":"IF(C62=\"\",0,IF(C62<=Parameters!$C$3,C62,Parameters!$C$3))","v":0},{"$f":"IF(C62=\"\",\"\",IF(F62<Parameters!$C$4,\"\",(F62-Parameters!$C$4)*D62))","v":""},null,{"$f":"IF(H62=\"\",\"\",YEAR(+Informatie!$C$1)-YEAR(H62))","v":""},"",{"$f":"IF(G62=\"\",\"\",ROUND(G62*Parameters!$C$12,2))","v":""},{"$f":"IF(G62=\"\",\"\",IF(YEAR(Informatie!$C$1)=2015,ROUND(G62*Parameters!$J$27,2),ROUND(G62*VLOOKUP('Overzicht deelnemers'!I62,Parameters!$E$4:$G$49,2,FALSE),2)))","v":""},{"$f":"IF(G62=\"\",\"\",IF(YEAR(Informatie!$C$1)=2015,ROUND(L62*Parameters!$C$20,2),G62*Parameters!$J$27))","v":""},"",{"$f":"IF(G62=\"\",\"\",ROUND(G62*Parameters!$C$16,2))","v":""},{"$f":"IF(G62=\"\",\"\",ROUND(G62*VLOOKUP(J62,Parameters!$E$3:$F$49,2,FALSE),2))","v":""},{"$f":"IF(G62=\"\",\"\",ROUND(G62*Parameters!$J$66,2))","v":""},"",{"$f":"IF(G62=\"\",\"\",ROUND(G62*Parameters!$C$13,2))","v":""},{"$f":"IF(G62=\"\",\"\",IF(YEAR(Informatie!$C$1)=2015,ROUND(G62*Parameters!J$44,2),ROUND(G62*VLOOKUP('Overzicht deelnemers'!I62,Parameters!$E$4:$G$49,3,FALSE),2)))","v":""},{"$f":"IF(G62=\"\",\"\",IF(YEAR(Informatie!$C$1)=2015,ROUND(T62*Parameters!$C$20,2),ROUND(G62*Parameters!$J$44,2)))","v":""},"",{"$f":"IF(G62=\"\",\"\",ROUND(G62*Parameters!C$17,2))","v":""},{"$f":"IF(G62=\"\",\"\",ROUND(G62*VLOOKUP(J62,Parameters!E$4:G$49,3),2))","v":""},{"$f":"IF(G62=\"\",\"\",ROUND(G62*Parameters!J$83,2))","v":""},""]
[null,null,null,null,0,{"$f":"IF(C63=\"\",0,IF(C63<=Parameters!$C$3,C63,Parameters!$C$3))","v":0},{"$f":"IF(C63=\"\",\"\",IF(F63<Parameters!$C$4,\"\",(F63-Parameters!$C$4)*D63))","v":""},null,{"$f":"IF(H63=\"\",\"\",YEAR(+Informatie!$C$1)-YEAR(H63))","v":""},"",{"$f":"IF(G63=\"\",\"\",ROUND(G63*Parameters!$C$12,2))","v":""},{"$f":"IF(G63=\"\",\"\",IF(YEAR(Informatie!$C$1)=2015,ROUND(G63*Parameters!$J$27,2),ROUND(G63*VLOOKUP('Overzicht deelnemers'!I63,Parameters!$E$4:$G$49,2,FALSE),2)))","v":""},{"$f":"IF(G63=\"\",\"\",IF(YEAR(Informatie!$C$1)=2015,ROUND(L63*Parameters!$C$20,2),G63*Parameters!$J$27))","v":""},"",{"$f":"IF(G63=\"\",\"\",ROUND(G63*Parameters!$C$16,2))","v":""},{"$f":"IF(G63=\"\",\"\",ROUND(G63*VLOOKUP(J63,Parameters!$E$3:$F$49,2,FALSE),2))","v":""},{"$f":"IF(G63=\"\",\"\",ROUND(G63*Parameters!$J$66,2))","v":""},"",{"$f":"IF(G63=\"\",\"\",ROUND(G63*Parameters!$C$13,2))","v":""},{"$f":"IF(G63=\"\",\"\",IF(YEAR(Informatie!$C$1)=2015,ROUND(G63*Parameters!J$44,2),ROUND(G63*VLOOKUP('Overzicht deelnemers'!I63,Parameters!$E$4:$G$49,3,FALSE),2)))","v":""},{"$f":"IF(G63=\"\",\"\",IF(YEAR(Informatie!$C$1)=2015,ROUND(T63*Parameters!$C$20,2),ROUND(G63*Parameters!$J$44,2)))","v":""},"",{"$f":"IF(G63=\"\",\"\",ROUND(G63*Parameters!C$17,2))","v":""},{"$f":"IF(G63=\"\",\"\",ROUND(G63*VLOOKUP(J63,Parameters!E$4:G$49,3),2))","v":""},{"$f":"IF(G63=\"\",\"\",ROUND(G63*Parameters!J$83,2))","v":""},""]
[null,null,null,null,0,{"$f":"IF(C64=\"\",0,IF(C64<=Parameters!$C$3,C64,Parameters!$C$3))","v":0},{"$f":"IF(C64=\"\",\"\",IF(F64<Parameters!$C$4,\"\",(F64-Parameters!$C$4)*D64))","v":""},null,{"$f":"IF(H64=\"\",\"\",YEAR(+Informatie!$C$1)-YEAR(H64))","v":""},"",{"$f":"IF(G64=\"\",\"\",ROUND(G64*Parameters!$C$12,2))","v":""},{"$f":"IF(G64=\"\",\"\",IF(YEAR(Informatie!$C$1)=2015,ROUND(G64*Parameters!$J$27,2),ROUND(G64*VLOOKUP('Overzicht deelnemers'!I64,Parameters!$E$4:$G$49,2,FALSE),2)))","v":""},{"$f":"IF(G64=\"\",\"\",IF(YEAR(Informatie!$C$1)=2015,ROUND(L64*Parameters!$C$20,2),G64*Parameters!$J$27))","v":""},"",{"$f":"IF(G64=\"\",\"\",ROUND(G64*Parameters!$C$16,2))","v":""},{"$f":"IF(G64=\"\",\"\",ROUND(G64*VLOOKUP(J64,Parameters!$E$3:$F$49,2,FALSE),2))","v":""},{"$f":"IF(G64=\"\",\"\",ROUND(G64*Parameters!$J$66,2))","v":""},"",{"$f":"IF(G64=\"\",\"\",ROUND(G64*Parameters!$C$13,2))","v":""},{"$f":"IF(G64=\"\",\"\",IF(YEAR(Informatie!$C$1)=2015,ROUND(G64*Parameters!J$44,2),ROUND(G64*VLOOKUP('Overzicht deelnemers'!I64,Parameters!$E$4:$G$49,3,FALSE),2)))","v":""},{"$f":"IF(G64=\"\",\"\",IF(YEAR(Informatie!$C$1)=2015,ROUND(T64*Parameters!$C$20,2),ROUND(G64*Parameters!$J$44,2)))","v":""},"",{"$f":"IF(G64=\"\",\"\",ROUND(G64*Parameters!C$17,2))","v":""},{"$f":"IF(G64=\"\",\"\",ROUND(G64*VLOOKUP(J64,Parameters!E$4:G$49,3),2))","v":""},{"$f":"IF(G64=\"\",\"\",ROUND(G64*Parameters!J$83,2))","v":""},""]
[null,null,null,null,0,{"$f":"IF(C65=\"\",0,IF(C65<=Parameters!$C$3,C65,Parameters!$C$3))","v":0},{"$f":"IF(C65=\"\",\"\",IF(F65<Parameters!$C$4,\"\",(F65-Parameters!$C$4)*D65))","v":""},null,{"$f":"IF(H65=\"\",\"\",YEAR(+Informatie!$C$1)-YEAR(H65))","v":""},"",{"$f":"IF(G65=\"\",\"\",ROUND(G65*Parameters!$C$12,2))","v":""},{"$f":"IF(G65=\"\",\"\",IF(YEAR(Informatie!$C$1)=2015,ROUND(G65*Parameters!$J$27,2),ROUND(G65*VLOOKUP('Overzicht deelnemers'!I65,Parameters!$E$4:$G$49,2,FALSE),2)))","v":""},{"$f":"IF(G65=\"\",\"\",IF(YEAR(Informatie!$C$1)=2015,ROUND(L65*Parameters!$C$20,2),G65*Parameters!$J$27))","v":""},"",{"$f":"IF(G65=\"\",\"\",ROUND(G65*Parameters!$C$16,2))","v":""},{"$f":"IF(G65=\"\",\"\",ROUND(G65*VLOOKUP(J65,Parameters!$E$3:$F$49,2,FALSE),2))","v":""},{"$f":"IF(G65=\"\",\"\",ROUND(G65*Parameters!$J$66,2))","v":""},"",{"$f":"IF(G65=\"\",\"\",ROUND(G65*Parameters!$C$13,2))","v":""},{"$f":"IF(G65=\"\",\"\",IF(YEAR(Informatie!$C$1)=2015,ROUND(G65*Parameters!J$44,2),ROUND(G65*VLOOKUP('Overzicht deelnemers'!I65,Parameters!$E$4:$G$49,3,FALSE),2)))","v":""},{"$f":"IF(G65=\"\",\"\",IF(YEAR(Informatie!$C$1)=2015,ROUND(T65*Parameters!$C$20,2),ROUND(G65*Parameters!$J$44,2)))","v":""},"",{"$f":"IF(G65=\"\",\"\",ROUND(G65*Parameters!C$17,2))","v":""},{"$f":"IF(G65=\"\",\"\",ROUND(G65*VLOOKUP(J65,Parameters!E$4:G$49,3),2))","v":""},{"$f":"IF(G65=\"\",\"\",ROUND(G65*Parameters!J$83,2))","v":""},""]
[null,null,null,null,0,{"$f":"IF(C66=\"\",0,IF(C66<=Parameters!$C$3,C66,Parameters!$C$3))","v":0},{"$f":"IF(C66=\"\",\"\",IF(F66<Parameters!$C$4,\"\",(F66-Parameters!$C$4)*D66))","v":""},null,{"$f":"IF(H66=\"\",\"\",YEAR(+Informatie!$C$1)-YEAR(H66))","v":""},{"$f":"IF(H66=\"\",\"\",I66+1)","v":""},{"$f":"IF(G66=\"\",\"\",ROUND(G66*Parameters!$C$12,2))","v":""},{"$f":"IF(G66=\"\",\"\",IF(YEAR(Informatie!$C$1)=2015,ROUND(G66*Parameters!$J$27,2),ROUND(G66*VLOOKUP('Overzicht deelnemers'!I66,Parameters!$E$4:$G$49,2,FALSE),2)))","v":""},{"$f":"IF(G66=\"\",\"\",IF(YEAR(Informatie!$C$1)=2015,ROUND(L66*Parameters!$C$20,2),G66*Parameters!$J$27))","v":""},"",{"$f":"IF(G66=\"\",\"\",ROUND(G66*Parameters!$C$16,2))","v":""},{"$f":"IF(G66=\"\",\"\",ROUND(G66*VLOOKUP(J66,Parameters!$E$3:$F$49,2,FALSE),2))","v":""},{"$f":"IF(G66=\"\",\"\",ROUND(G66*Parameters!$J$66,2))","v":""},"",{"$f":"IF(G66=\"\",\"\",ROUND(G66*Parameters!$C$13,2))","v":""},{"$f":"IF(G66=\"\",\"\",IF(YEAR(Informatie!$C$1)=2015,ROUND(G66*Parameters!J$44,2),ROUND(G66*VLOOKUP('Overzicht deelnemers'!I66,Parameters!$E$4:$G$49,3,FALSE),2)))","v":""},{"$f":"IF(G66=\"\",\"\",IF(YEAR(Informatie!$C$1)=2015,ROUND(T66*Parameters!$C$20,2),ROUND(G66*Parameters!$J$44,2)))","v":""},"",{"$f":"IF(G66=\"\",\"\",ROUND(G66*Parameters!C$17,2))","v":""},{"$f":"IF(G66=\"\",\"\",ROUND(G66*VLOOKUP(J66,Parameters!E$4:G$49,3),2))","v":""},{"$f":"IF(G66=\"\",\"\",ROUND(G66*Parameters!J$83,2))","v":""},""]
[null,null,null,null,{"$f":"C67*D67","v":0},{"$f":"IF(C67=\"\",0,IF(C67<=Parameters!$C$3,C67,Parameters!$C$3))","v":0},{"$f":"IF(C67=\"\",\"\",IF(F67<Parameters!$C$4,\"\",(F67-Parameters!$C$4)*D67))","v":""},null,{"$f":"IF(H67=\"\",\"\",YEAR(+Informatie!$C$1)-YEAR(H67))","v":""},"",{"$f":"IF(G67=\"\",\"\",ROUND(G67*Parameters!$C$12,2))","v":""},{"$f":"IF(G67=\"\",\"\",IF(YEAR(Informatie!$C$1)=2015,ROUND(G67*Parameters!$J$27,2),ROUND(G67*VLOOKUP('Overzicht deelnemers'!I67,Parameters!$E$4:$G$49,2,FALSE),2)))","v":""},{"$f":"IF(G67=\"\",\"\",IF(YEAR(Informatie!$C$1)=2015,ROUND(L67*Parameters!$C$20,2),G67*Parameters!$J$27))","v":""},{"$f":"IF(G67=\"\",\"\",ROUND(L67-M67,2))","v":""},{"$f":"IF(G67=\"\",\"\",ROUND(G67*Parameters!$C$16,2))","v":""},{"$f":"IF(G67=\"\",\"\",ROUND(G67*VLOOKUP(J67,Parameters!$E$3:$F$49,2,FALSE),2))","v":""},{"$f":"IF(G67=\"\",\"\",ROUND(G67*Parameters!$J$66,2))","v":""},{"$f":"IF(G67=\"\",\"\",ROUND(P67-Q67,2))","v":""},{"$f":"IF(G67=\"\",\"\",ROUND(G67*Parameters!$C$13,2))","v":""},{"$f":"IF(G67=\"\",\"\",IF(YEAR(Informatie!$C$1)=2015,ROUND(G67*Parameters!J$44,2),ROUND(G67*VLOOKUP('Overzicht deelnemers'!I67,Parameters!$E$4:$G$49,3,FALSE),2)))","v":""},{"$f":"IF(G67=\"\",\"\",IF(YEAR(Informatie!$C$1)=2015,ROUND(T67*Parameters!$C$20,2),ROUND(G67*Parameters!$J$44,2)))","v":""},{"$f":"IF(G67=\"\",\"\",ROUND(T67-U67,2))","v":""},{"$f":"IF(G67=\"\",\"\",ROUND(G67*Parameters!C$17,2))","v":""},{"$f":"IF(G67=\"\",\"\",ROUND(G67*VLOOKUP(J67,Parameters!E$4:G$49,3),2))","v":""},{"$f":"IF(G67=\"\",\"\",ROUND(G67*Parameters!J$83,2))","v":""},{"$f":"IF(G67=\"\",\"\",ROUND(X67-Y67,2))","v":""}]
[null,null,null,null,0,{"$f":"IF(C68=\"\",0,IF(C68<=Parameters!$C$3,C68,Parameters!$C$3))","v":0},{"$f":"IF(C68=\"\",\"\",IF(F68<Parameters!$C$4,\"\",(F68-Parameters!$C$4)*D68))","v":""},null,{"$f":"IF(H68=\"\",\"\",YEAR(+Informatie!$C$1)-YEAR(H68))","v":""},"",{"$f":"IF(G68=\"\",\"\",ROUND(G68*Parameters!$C$12,2))","v":""},{"$f":"IF(G68=\"\",\"\",IF(YEAR(Informatie!$C$1)=2015,ROUND(G68*Parameters!$J$27,2),ROUND(G68*VLOOKUP('Overzicht deelnemers'!I68,Parameters!$E$4:$G$49,2,FALSE),2)))","v":""},{"$f":"IF(G68=\"\",\"\",IF(YEAR(Informatie!$C$1)=2015,ROUND(L68*Parameters!$C$20,2),G68*Parameters!$J$27))","v":""},"",{"$f":"IF(G68=\"\",\"\",ROUND(G68*Parameters!$C$16,2))","v":""},{"$f":"IF(G68=\"\",\"\",ROUND(G68*VLOOKUP(J68,Parameters!$E$3:$F$49,2,FALSE),2))","v":""},{"$f":"IF(G68=\"\",\"\",ROUND(G68*Parameters!$J$66,2))","v":""},"",{"$f":"IF(G68=\"\",\"\",ROUND(G68*Parameters!$C$13,2))","v":""},{"$f":"IF(G68=\"\",\"\",IF(YEAR(Informatie!$C$1)=2015,ROUND(G68*Parameters!J$44,2),ROUND(G68*VLOOKUP('Overzicht deelnemers'!I68,Parameters!$E$4:$G$49,3,FALSE),2)))","v":""},{"$f":"IF(G68=\"\",\"\",IF(YEAR(Informatie!$C$1)=2015,ROUND(T68*Parameters!$C$20,2),ROUND(G68*Parameters!$J$44,2)))","v":""},"",{"$f":"IF(G68=\"\",\"\",ROUND(G68*Parameters!C$17,2))","v":""},{"$f":"IF(G68=\"\",\"\",ROUND(G68*VLOOKUP(J68,Parameters!E$4:G$49,3),2))","v":""},{"$f":"IF(G68=\"\",\"\",ROUND(G68*Parameters!J$83,2))","v":""},""]
[null,null,null,null,0,{"$f":"IF(C69=\"\",0,IF(C69<=Parameters!$C$3,C69,Parameters!$C$3))","v":0},{"$f":"IF(C69=\"\",\"\",IF(F69<Parameters!$C$4,\"\",(F69-Parameters!$C$4)*D69))","v":""},null,{"$f":"IF(H69=\"\",\"\",YEAR(+Informatie!$C$1)-YEAR(H69))","v":""},"",{"$f":"IF(G69=\"\",\"\",ROUND(G69*Parameters!$C$12,2))","v":""},{"$f":"IF(G69=\"\",\"\",IF(YEAR(Informatie!$C$1)=2015,ROUND(G69*Parameters!$J$27,2),ROUND(G69*VLOOKUP('Overzicht deelnemers'!I69,Parameters!$E$4:$G$49,2,FALSE),2)))","v":""},{"$f":"IF(G69=\"\",\"\",IF(YEAR(Informatie!$C$1)=2015,ROUND(L69*Parameters!$C$20,2),G69*Parameters!$J$27))","v":""},"",{"$f":"IF(G69=\"\",\"\",ROUND(G69*Parameters!$C$16,2))","v":""},{"$f":"IF(G69=\"\",\"\",ROUND(G69*VLOOKUP(J69,Parameters!$E$3:$F$49,2,FALSE),2))","v":""},{"$f":"IF(G69=\"\",\"\",ROUND(G69*Parameters!$J$66,2))","v":""},"",{"$f":"IF(G69=\"\",\"\",ROUND(G69*Parameters!$C$13,2))","v":""},{"$f":"IF(G69=\"\",\"\",IF(YEAR(Informatie!$C$1)=2015,ROUND(G69*Parameters!J$44,2),ROUND(G69*VLOOKUP('Overzicht deelnemers'!I69,Parameters!$E$4:$G$49,3,FALSE),2)))","v":""},{"$f":"IF(G69=\"\",\"\",IF(YEAR(Informatie!$C$1)=2015,ROUND(T69*Parameters!$C$20,2),ROUND(G69*Parameters!$J$44,2)))","v":""},"",{"$f":"IF(G69=\"\",\"\",ROUND(G69*Parameters!C$17,2))","v":""},{"$f":"IF(G69=\"\",\"\",ROUND(G69*VLOOKUP(J69,Parameters!E$4:G$49,3),2))","v":""},{"$f":"IF(G69=\"\",\"\",ROUND(G69*Parameters!J$83,2))","v":""},""]
[null,null,null,null,0,{"$f":"IF(C70=\"\",0,IF(C70<=Parameters!$C$3,C70,Parameters!$C$3))","v":0},{"$f":"IF(C70=\"\",\"\",IF(F70<Parameters!$C$4,\"\",(F70-Parameters!$C$4)*D70))","v":""},null,{"$f":"IF(H70=\"\",\"\",YEAR(+Informatie!$C$1)-YEAR(H70))","v":""},"",{"$f":"IF(G70=\"\",\"\",ROUND(G70*Parameters!$C$12,2))","v":""},{"$f":"IF(G70=\"\",\"\",IF(YEAR(Informatie!$C$1)=2015,ROUND(G70*Parameters!$J$27,2),ROUND(G70*VLOOKUP('Overzicht deelnemers'!I70,Parameters!$E$4:$G$49,2,FALSE),2)))","v":""},{"$f":"IF(G70=\"\",\"\",IF(YEAR(Informatie!$C$1)=2015,ROUND(L70*Parameters!$C$20,2),G70*Parameters!$J$27))","v":""},"",{"$f":"IF(G70=\"\",\"\",ROUND(G70*Parameters!$C$16,2))","v":""},{"$f":"IF(G70=\"\",\"\",ROUND(G70*VLOOKUP(J70,Parameters!$E$3:$F$49,2,FALSE),2))","v":""},{"$f":"IF(G70=\"\",\"\",ROUND(G70*Parameters!$J$66,2))","v":""},"",{"$f":"IF(G70=\"\",\"\",ROUND(G70*Parameters!$C$13,2))","v":""},{"$f":"IF(G70=\"\",\"\",IF(YEAR(Informatie!$C$1)=2015,ROUND(G70*Parameters!J$44,2),ROUND(G70*VLOOKUP('Overzicht deelnemers'!I70,Parameters!$E$4:$G$49,3,FALSE),2)))","v":""},{"$f":"IF(G70=\"\",\"\",IF(YEAR(Informatie!$C$1)=2015,ROUND(T70*Parameters!$C$20,2),ROUND(G70*Parameters!$J$44,2)))","v":""},"",{"$f":"IF(G70=\"\",\"\",ROUND(G70*Parameters!C$17,2))","v":""},{"$f":"IF(G70=\"\",\"\",ROUND(G70*VLOOKUP(J70,Parameters!E$4:G$49,3),2))","v":""},{"$f":"IF(G70=\"\",\"\",ROUND(G70*Parameters!J$83,2))","v":""},""]
[null,null,null,null,0,{"$f":"IF(C71=\"\",0,IF(C71<=Parameters!$C$3,C71,Parameters!$C$3))","v":0},{"$f":"IF(C71=\"\",\"\",IF(F71<Parameters!$C$4,\"\",(F71-Parameters!$C$4)*D71))","v":""},null,{"$f":"IF(H71=\"\",\"\",YEAR(+Informatie!$C$1)-YEAR(H71))","v":""},"",{"$f":"IF(G71=\"\",\"\",ROUND(G71*Parameters!$C$12,2))","v":""},{"$f":"IF(G71=\"\",\"\",IF(YEAR(Informatie!$C$1)=2015,ROUND(G71*Parameters!$J$27,2),ROUND(G71*VLOOKUP('Overzicht deelnemers'!I71,Parameters!$E$4:$G$49,2,FALSE),2)))","v":""},{"$f":"IF(G71=\"\",\"\",IF(YEAR(Informatie!$C$1)=2015,ROUND(L71*Parameters!$C$20,2),G71*Parameters!$J$27))","v":""},"",{"$f":"IF(G71=\"\",\"\",ROUND(G71*Parameters!$C$16,2))","v":""},{"$f":"IF(G71=\"\",\"\",ROUND(G71*VLOOKUP(J71,Parameters!$E$3:$F$49,2,FALSE),2))","v":""},{"$f":"IF(G71=\"\",\"\",ROUND(G71*Parameters!$J$66,2))","v":""},"",{"$f":"IF(G71=\"\",\"\",ROUND(G71*Parameters!$C$13,2))","v":""},{"$f":"IF(G71=\"\",\"\",IF(YEAR(Informatie!$C$1)=2015,ROUND(G71*Parameters!J$44,2),ROUND(G71*VLOOKUP('Overzicht deelnemers'!I71,Parameters!$E$4:$G$49,3,FALSE),2)))","v":""},{"$f":"IF(G71=\"\",\"\",IF(YEAR(Informatie!$C$1)=2015,ROUND(T71*Parameters!$C$20,2),ROUND(G71*Parameters!$J$44,2)))","v":""},"",{"$f":"IF(G71=\"\",\"\",ROUND(G71*Parameters!C$17,2))","v":""},{"$f":"IF(G71=\"\",\"\",ROUND(G71*VLOOKUP(J71,Parameters!E$4:G$49,3),2))","v":""},{"$f":"IF(G71=\"\",\"\",ROUND(G71*Parameters!J$83,2))","v":""},""]
[null,null,null,null,0,{"$f":"IF(C72=\"\",0,IF(C72<=Parameters!$C$3,C72,Parameters!$C$3))","v":0},{"$f":"IF(C72=\"\",\"\",IF(F72<Parameters!$C$4,\"\",(F72-Parameters!$C$4)*D72))","v":""},null,{"$f":"IF(H72=\"\",\"\",YEAR(+Informatie!$C$1)-YEAR(H72))","v":""},"",{"$f":"IF(G72=\"\",\"\",ROUND(G72*Parameters!$C$12,2))","v":""},{"$f":"IF(G72=\"\",\"\",IF(YEAR(Informatie!$C$1)=2015,ROUND(G72*Parameters!$J$27,2),ROUND(G72*VLOOKUP('Overzicht deelnemers'!I72,Parameters!$E$4:$G$49,2,FALSE),2)))","v":""},{"$f":"IF(G72=\"\",\"\",IF(YEAR(Informatie!$C$1)=2015,ROUND(L72*Parameters!$C$20,2),G72*Parameters!$J$27))","v":""},"",{"$f":"IF(G72=\"\",\"\",ROUND(G72*Parameters!$C$16,2))","v":""},{"$f":"IF(G72=\"\",\"\",ROUND(G72*VLOOKUP(J72,Parameters!$E$3:$F$49,2,FALSE),2))","v":""},{"$f":"IF(G72=\"\",\"\",ROUND(G72*Parameters!$J$66,2))","v":""},"",{"$f":"IF(G72=\"\",\"\",ROUND(G72*Parameters!$C$13,2))","v":""},{"$f":"IF(G72=\"\",\"\",IF(YEAR(Informatie!$C$1)=2015,ROUND(G72*Parameters!J$44,2),ROUND(G72*VLOOKUP('Overzicht deelnemers'!I72,Parameters!$E$4:$G$49,3,FALSE),2)))","v":""},{"$f":"IF(G72=\"\",\"\",IF(YEAR(Informatie!$C$1)=2015,ROUND(T72*Parameters!$C$20,2),ROUND(G72*Parameters!$J$44,2)))","v":""},"",{"$f":"IF(G72=\"\",\"\",ROUND(G72*Parameters!C$17,2))","v":""},{"$f":"IF(G72=\"\",\"\",ROUND(G72*VLOOKUP(J72,Parameters!E$4:G$49,3),2))","v":""},{"$f":"IF(G72=\"\",\"\",ROUND(G72*Parameters!J$83,2))","v":""},""]
[null,null,null,null,0,{"$f":"IF(C73=\"\",0,IF(C73<=Parameters!$C$3,C73,Parameters!$C$3))","v":0},{"$f":"IF(C73=\"\",\"\",IF(F73<Parameters!$C$4,\"\",(F73-Parameters!$C$4)*D73))","v":""},null,{"$f":"IF(H73=\"\",\"\",YEAR(+Informatie!$C$1)-YEAR(H73))","v":""},"",{"$f":"IF(G73=\"\",\"\",ROUND(G73*Parameters!$C$12,2))","v":""},{"$f":"IF(G73=\"\",\"\",IF(YEAR(Informatie!$C$1)=2015,ROUND(G73*Parameters!$J$27,2),ROUND(G73*VLOOKUP('Overzicht deelnemers'!I73,Parameters!$E$4:$G$49,2,FALSE),2)))","v":""},{"$f":"IF(G73=\"\",\"\",IF(YEAR(Informatie!$C$1)=2015,ROUND(L73*Parameters!$C$20,2),G73*Parameters!$J$27))","v":""},"",{"$f":"IF(G73=\"\",\"\",ROUND(G73*Parameters!$C$16,2))","v":""},{"$f":"IF(G73=\"\",\"\",ROUND(G73*VLOOKUP(J73,Parameters!$E$3:$F$49,2,FALSE),2))","v":""},{"$f":"IF(G73=\"\",\"\",ROUND(G73*Parameters!$J$66,2))","v":""},"",{"$f":"IF(G73=\"\",\"\",ROUND(G73*Parameters!$C$13,2))","v":""},{"$f":"IF(G73=\"\",\"\",IF(YEAR(Informatie!$C$1)=2015,ROUND(G73*Parameters!J$44,2),ROUND(G73*VLOOKUP('Overzicht deelnemers'!I73,Parameters!$E$4:$G$49,3,FALSE),2)))","v":""},{"$f":"IF(G73=\"\",\"\",IF(YEAR(Informatie!$C$1)=2015,ROUND(T73*Parameters!$C$20,2),ROUND(G73*Parameters!$J$44,2)))","v":""},"",{"$f":"IF(G73=\"\",\"\",ROUND(G73*Parameters!C$17,2))","v":""},{"$f":"IF(G73=\"\",\"\",ROUND(G73*VLOOKUP(J73,Parameters!E$4:G$49,3),2))","v":""},{"$f":"IF(G73=\"\",\"\",ROUND(G73*Parameters!J$83,2))","v":""},""]
[null,null,null,null,0,{"$f":"IF(C74=\"\",0,IF(C74<=Parameters!$C$3,C74,Parameters!$C$3))","v":0},{"$f":"IF(C74=\"\",\"\",IF(F74<Parameters!$C$4,\"\",(F74-Parameters!$C$4)*D74))","v":""},null,{"$f":"IF(H74=\"\",\"\",YEAR(+Informatie!$C$1)-YEAR(H74))","v":""},"",{"$f":"IF(G74=\"\",\"\",ROUND(G74*Parameters!$C$12,2))","v":""},{"$f":"IF(G74=\"\",\"\",IF(YEAR(Informatie!$C$1)=2015,ROUND(G74*Parameters!$J$27,2),ROUND(G74*VLOOKUP('Overzicht deelnemers'!I74,Parameters!$E$4:$G$49,2,FALSE),2)))","v":""},{"$f":"IF(G74=\"\",\"\",IF(YEAR(Informatie!$C$1)=2015,ROUND(L74*Parameters!$C$20,2),G74*Parameters!$J$27))","v":""},"",{"$f":"IF(G74=\"\",\"\",ROUND(G74*Parameters!$C$16,2))","v":""},{"$f":"IF(G74=\"\",\"\",ROUND(G74*VLOOKUP(J74,Parameters!$E$3:$F$49,2,FALSE),2))","v":""},{"$f":"IF(G74=\"\",\"\",ROUND(G74*Parameters!$J$66,2))","v":""},"",{"$f":"IF(G74=\"\",\"\",ROUND(G74*Parameters!$C$13,2))","v":""},{"$f":"IF(G74=\"\",\"\",IF(YEAR(Informatie!$C$1)=2015,ROUND(G74*Parameters!J$44,2),ROUND(G74*VLOOKUP('Overzicht deelnemers'!I74,Parameters!$E$4:$G$49,3,FALSE),2)))","v":""},{"$f":"IF(G74=\"\",\"\",IF(YEAR(Informatie!$C$1)=2015,ROUND(T74*Parameters!$C$20,2),ROUND(G74*Parameters!$J$44,2)))","v":""},"",{"$f":"IF(G74=\"\",\"\",ROUND(G74*Parameters!C$17,2))","v":""},{"$f":"IF(G74=\"\",\"\",ROUND(G74*VLOOKUP(J74,Parameters!E$4:G$49,3),2))","v":""},{"$f":"IF(G74=\"\",\"\",ROUND(G74*Parameters!J$83,2))","v":""},""]
[null,null,null,null,0,{"$f":"IF(C75=\"\",0,IF(C75<=Parameters!$C$3,C75,Parameters!$C$3))","v":0},{"$f":"IF(C75=\"\",\"\",IF(F75<Parameters!$C$4,\"\",(F75-Parameters!$C$4)*D75))","v":""},null,{"$f":"IF(H75=\"\",\"\",YEAR(+Informatie!$C$1)-YEAR(H75))","v":""},"",{"$f":"IF(G75=\"\",\"\",ROUND(G75*Parameters!$C$12,2))","v":""},{"$f":"IF(G75=\"\",\"\",IF(YEAR(Informatie!$C$1)=2015,ROUND(G75*Parameters!$J$27,2),ROUND(G75*VLOOKUP('Overzicht deelnemers'!I75,Parameters!$E$4:$G$49,2,FALSE),2)))","v":""},{"$f":"IF(G75=\"\",\"\",IF(YEAR(Informatie!$C$1)=2015,ROUND(L75*Parameters!$C$20,2),G75*Parameters!$J$27))","v":""},"",{"$f":"IF(G75=\"\",\"\",ROUND(G75*Parameters!$C$16,2))","v":""},{"$f":"IF(G75=\"\",\"\",ROUND(G75*VLOOKUP(J75,Parameters!$E$3:$F$49,2,FALSE),2))","v":""},{"$f":"IF(G75=\"\",\"\",ROUND(G75*Parameters!$J$66,2))","v":""},"",{"$f":"IF(G75=\"\",\"\",ROUND(G75*Parameters!$C$13,2))","v":""},{"$f":"IF(G75=\"\",\"\",IF(YEAR(Informatie!$C$1)=2015,ROUND(G75*Parameters!J$44,2),ROUND(G75*VLOOKUP('Overzicht deelnemers'!I75,Parameters!$E$4:$G$49,3,FALSE),2)))","v":""},{"$f":"IF(G75=\"\",\"\",IF(YEAR(Informatie!$C$1)=2015,ROUND(T75*Parameters!$C$20,2),ROUND(G75*Parameters!$J$44,2)))","v":""},"",{"$f":"IF(G75=\"\",\"\",ROUND(G75*Parameters!C$17,2))","v":""},{"$f":"IF(G75=\"\",\"\",ROUND(G75*VLOOKUP(J75,Parameters!E$4:G$49,3),2))","v":""},{"$f":"IF(G75=\"\",\"\",ROUND(G75*Parameters!J$83,2))","v":""},""]
[null,null,null,null,0,{"$f":"IF(C76=\"\",0,IF(C76<=Parameters!$C$3,C76,Parameters!$C$3))","v":0},{"$f":"IF(C76=\"\",\"\",IF(F76<Parameters!$C$4,\"\",(F76-Parameters!$C$4)*D76))","v":""},null,{"$f":"IF(H76=\"\",\"\",YEAR(+Informatie!$C$1)-YEAR(H76))","v":""},"",{"$f":"IF(G76=\"\",\"\",ROUND(G76*Parameters!$C$12,2))","v":""},{"$f":"IF(G76=\"\",\"\",IF(YEAR(Informatie!$C$1)=2015,ROUND(G76*Parameters!$J$27,2),ROUND(G76*VLOOKUP('Overzicht deelnemers'!I76,Parameters!$E$4:$G$49,2,FALSE),2)))","v":""},{"$f":"IF(G76=\"\",\"\",IF(YEAR(Informatie!$C$1)=2015,ROUND(L76*Parameters!$C$20,2),G76*Parameters!$J$27))","v":""},"",{"$f":"IF(G76=\"\",\"\",ROUND(G76*Parameters!$C$16,2))","v":""},{"$f":"IF(G76=\"\",\"\",ROUND(G76*VLOOKUP(J76,Parameters!$E$3:$F$49,2,FALSE),2))","v":""},{"$f":"IF(G76=\"\",\"\",ROUND(G76*Parameters!$J$66,2))","v":""},"",{"$f":"IF(G76=\"\",\"\",ROUND(G76*Parameters!$C$13,2))","v":""},{"$f":"IF(G76=\"\",\"\",IF(YEAR(Informatie!$C$1)=2015,ROUND(G76*Parameters!J$44,2),ROUND(G76*VLOOKUP('Overzicht deelnemers'!I76,Parameters!$E$4:$G$49,3,FALSE),2)))","v":""},{"$f":"IF(G76=\"\",\"\",IF(YEAR(Informatie!$C$1)=2015,ROUND(T76*Parameters!$C$20,2),ROUND(G76*Parameters!$J$44,2)))","v":""},"",{"$f":"IF(G76=\"\",\"\",ROUND(G76*Parameters!C$17,2))","v":""},{"$f":"IF(G76=\"\",\"\",ROUND(G76*VLOOKUP(J76,Parameters!E$4:G$49,3),2))","v":""},{"$f":"IF(G76=\"\",\"\",ROUND(G76*Parameters!J$83,2))","v":""},""]
[null,null,null,null,0,{"$f":"IF(C77=\"\",0,IF(C77<=Parameters!$C$3,C77,Parameters!$C$3))","v":0},{"$f":"IF(C77=\"\",\"\",IF(F77<Parameters!$C$4,\"\",(F77-Parameters!$C$4)*D77))","v":""},null,{"$f":"IF(H77=\"\",\"\",YEAR(+Informatie!$C$1)-YEAR(H77))","v":""},"",{"$f":"IF(G77=\"\",\"\",ROUND(G77*Parameters!$C$12,2))","v":""},{"$f":"IF(G77=\"\",\"\",IF(YEAR(Informatie!$C$1)=2015,ROUND(G77*Parameters!$J$27,2),ROUND(G77*VLOOKUP('Overzicht deelnemers'!I77,Parameters!$E$4:$G$49,2,FALSE),2)))","v":""},{"$f":"IF(G77=\"\",\"\",IF(YEAR(Informatie!$C$1)=2015,ROUND(L77*Parameters!$C$20,2),G77*Parameters!$J$27))","v":""},"",{"$f":"IF(G77=\"\",\"\",ROUND(G77*Parameters!$C$16,2))","v":""},{"$f":"IF(G77=\"\",\"\",ROUND(G77*VLOOKUP(J77,Parameters!$E$3:$F$49,2,FALSE),2))","v":""},{"$f":"IF(G77=\"\",\"\",ROUND(G77*Parameters!$J$66,2))","v":""},"",{"$f":"IF(G77=\"\",\"\",ROUND(G77*Parameters!$C$13,2))","v":""},{"$f":"IF(G77=\"\",\"\",IF(YEAR(Informatie!$C$1)=2015,ROUND(G77*Parameters!J$44,2),ROUND(G77*VLOOKUP('Overzicht deelnemers'!I77,Parameters!$E$4:$G$49,3,FALSE),2)))","v":""},{"$f":"IF(G77=\"\",\"\",IF(YEAR(Informatie!$C$1)=2015,ROUND(T77*Parameters!$C$20,2),ROUND(G77*Parameters!$J$44,2)))","v":""},"",{"$f":"IF(G77=\"\",\"\",ROUND(G77*Parameters!C$17,2))","v":""},{"$f":"IF(G77=\"\",\"\",ROUND(G77*VLOOKUP(J77,Parameters!E$4:G$49,3),2))","v":""},{"$f":"IF(G77=\"\",\"\",ROUND(G77*Parameters!J$83,2))","v":""},""]
[null,null,null,null,0,{"$f":"IF(C78=\"\",0,IF(C78<=Parameters!$C$3,C78,Parameters!$C$3))","v":0},{"$f":"IF(C78=\"\",\"\",IF(F78<Parameters!$C$4,\"\",(F78-Parameters!$C$4)*D78))","v":""},null,{"$f":"IF(H78=\"\",\"\",YEAR(+Informatie!$C$1)-YEAR(H78))","v":""},"",{"$f":"IF(G78=\"\",\"\",ROUND(G78*Parameters!$C$12,2))","v":""},{"$f":"IF(G78=\"\",\"\",IF(YEAR(Informatie!$C$1)=2015,ROUND(G78*Parameters!$J$27,2),ROUND(G78*VLOOKUP('Overzicht deelnemers'!I78,Parameters!$E$4:$G$49,2,FALSE),2)))","v":""},{"$f":"IF(G78=\"\",\"\",IF(YEAR(Informatie!$C$1)=2015,ROUND(L78*Parameters!$C$20,2),G78*Parameters!$J$27))","v":""},"",{"$f":"IF(G78=\"\",\"\",ROUND(G78*Parameters!$C$16,2))","v":""},{"$f":"IF(G78=\"\",\"\",ROUND(G78*VLOOKUP(J78,Parameters!$E$3:$F$49,2,FALSE),2))","v":""},{"$f":"IF(G78=\"\",\"\",ROUND(G78*Parameters!$J$66,2))","v":""},"",{"$f":"IF(G78=\"\",\"\",ROUND(G78*Parameters!$C$13,2))","v":""},{"$f":"IF(G78=\"\",\"\",IF(YEAR(Informatie!$C$1)=2015,ROUND(G78*Parameters!J$44,2),ROUND(G78*VLOOKUP('Overzicht deelnemers'!I78,Parameters!$E$4:$G$49,3,FALSE),2)))","v":""},{"$f":"IF(G78=\"\",\"\",IF(YEAR(Informatie!$C$1)=2015,ROUND(T78*Parameters!$C$20,2),ROUND(G78*Parameters!$J$44,2)))","v":""},"",{"$f":"IF(G78=\"\",\"\",ROUND(G78*Parameters!C$17,2))","v":""},{"$f":"IF(G78=\"\",\"\",ROUND(G78*VLOOKUP(J78,Parameters!E$4:G$49,3),2))","v":""},{"$f":"IF(G78=\"\",\"\",ROUND(G78*Parameters!J$83,2))","v":""},""]
[null,null,null,null,0,{"$f":"IF(C79=\"\",0,IF(C79<=Parameters!$C$3,C79,Parameters!$C$3))","v":0},{"$f":"IF(C79=\"\",\"\",IF(F79<Parameters!$C$4,\"\",(F79-Parameters!$C$4)*D79))","v":""},null,{"$f":"IF(H79=\"\",\"\",YEAR(+Informatie!$C$1)-YEAR(H79))","v":""},"",{"$f":"IF(G79=\"\",\"\",ROUND(G79*Parameters!$C$12,2))","v":""},{"$f":"IF(G79=\"\",\"\",IF(YEAR(Informatie!$C$1)=2015,ROUND(G79*Parameters!$J$27,2),ROUND(G79*VLOOKUP('Overzicht deelnemers'!I79,Parameters!$E$4:$G$49,2,FALSE),2)))","v":""},{"$f":"IF(G79=\"\",\"\",IF(YEAR(Informatie!$C$1)=2015,ROUND(L79*Parameters!$C$20,2),G79*Parameters!$J$27))","v":""},"",{"$f":"IF(G79=\"\",\"\",ROUND(G79*Parameters!$C$16,2))","v":""},{"$f":"IF(G79=\"\",\"\",ROUND(G79*VLOOKUP(J79,Parameters!$E$3:$F$49,2,FALSE),2))","v":""},{"$f":"IF(G79=\"\",\"\",ROUND(G79*Parameters!$J$66,2))","v":""},"",{"$f":"IF(G79=\"\",\"\",ROUND(G79*Parameters!$C$13,2))","v":""},{"$f":"IF(G79=\"\",\"\",IF(YEAR(Informatie!$C$1)=2015,ROUND(G79*Parameters!J$44,2),ROUND(G79*VLOOKUP('Overzicht deelnemers'!I79,Parameters!$E$4:$G$49,3,FALSE),2)))","v":""},{"$f":"IF(G79=\"\",\"\",IF(YEAR(Informatie!$C$1)=2015,ROUND(T79*Parameters!$C$20,2),ROUND(G79*Parameters!$J$44,2)))","v":""},"",{"$f":"IF(G79=\"\",\"\",ROUND(G79*Parameters!C$17,2))","v":""},{"$f":"IF(G79=\"\",\"\",ROUND(G79*VLOOKUP(J79,Parameters!E$4:G$49,3),2))","v":""},{"$f":"IF(G79=\"\",\"\",ROUND(G79*Parameters!J$83,2))","v":""},""]
[null,null,null,null,0,{"$f":"IF(C80=\"\",0,IF(C80<=Parameters!$C$3,C80,Parameters!$C$3))","v":0},{"$f":"IF(C80=\"\",\"\",IF(F80<Parameters!$C$4,\"\",(F80-Parameters!$C$4)*D80))","v":""},null,{"$f":"IF(H80=\"\",\"\",YEAR(+Informatie!$C$1)-YEAR(H80))","v":""},"",{"$f":"IF(G80=\"\",\"\",ROUND(G80*Parameters!$C$12,2))","v":""},{"$f":"IF(G80=\"\",\"\",IF(YEAR(Informatie!$C$1)=2015,ROUND(G80*Parameters!$J$27,2),ROUND(G80*VLOOKUP('Overzicht deelnemers'!I80,Parameters!$E$4:$G$49,2,FALSE),2)))","v":""},{"$f":"IF(G80=\"\",\"\",IF(YEAR(Informatie!$C$1)=2015,ROUND(L80*Parameters!$C$20,2),G80*Parameters!$J$27))","v":""},"",{"$f":"IF(G80=\"\",\"\",ROUND(G80*Parameters!$C$16,2))","v":""},{"$f":"IF(G80=\"\",\"\",ROUND(G80*VLOOKUP(J80,Parameters!$E$3:$F$49,2,FALSE),2))","v":""},{"$f":"IF(G80=\"\",\"\",ROUND(G80*Parameters!$J$66,2))","v":""},"",{"$f":"IF(G80=\"\",\"\",ROUND(G80*Parameters!$C$13,2))","v":""},{"$f":"IF(G80=\"\",\"\",IF(YEAR(Informatie!$C$1)=2015,ROUND(G80*Parameters!J$44,2),ROUND(G80*VLOOKUP('Overzicht deelnemers'!I80,Parameters!$E$4:$G$49,3,FALSE),2)))","v":""},{"$f":"IF(G80=\"\",\"\",IF(YEAR(Informatie!$C$1)=2015,ROUND(T80*Parameters!$C$20,2),ROUND(G80*Parameters!$J$44,2)))","v":""},"",{"$f":"IF(G80=\"\",\"\",ROUND(G80*Parameters!C$17,2))","v":""},{"$f":"IF(G80=\"\",\"\",ROUND(G80*VLOOKUP(J80,Parameters!E$4:G$49,3),2))","v":""},{"$f":"IF(G80=\"\",\"\",ROUND(G80*Parameters!J$83,2))","v":""},""]
[null,null,null,null,0,{"$f":"IF(C81=\"\",0,IF(C81<=Parameters!$C$3,C81,Parameters!$C$3))","v":0},{"$f":"IF(C81=\"\",\"\",IF(F81<Parameters!$C$4,\"\",(F81-Parameters!$C$4)*D81))","v":""},null,{"$f":"IF(H81=\"\",\"\",YEAR(+Informatie!$C$1)-YEAR(H81))","v":""},"",{"$f":"IF(G81=\"\",\"\",ROUND(G81*Parameters!$C$12,2))","v":""},{"$f":"IF(G81=\"\",\"\",IF(YEAR(Informatie!$C$1)=2015,ROUND(G81*Parameters!$J$27,2),ROUND(G81*VLOOKUP('Overzicht deelnemers'!I81,Parameters!$E$4:$G$49,2,FALSE),2)))","v":""},{"$f":"IF(G81=\"\",\"\",IF(YEAR(Informatie!$C$1)=2015,ROUND(L81*Parameters!$C$20,2),G81*Parameters!$J$27))","v":""},"",{"$f":"IF(G81=\"\",\"\",ROUND(G81*Parameters!$C$16,2))","v":""},{"$f":"IF(G81=\"\",\"\",ROUND(G81*VLOOKUP(J81,Parameters!$E$3:$F$49,2,FALSE),2))","v":""},{"$f":"IF(G81=\"\",\"\",ROUND(G81*Parameters!$J$66,2))","v":""},"",{"$f":"IF(G81=\"\",\"\",ROUND(G81*Parameters!$C$13,2))","v":""},{"$f":"IF(G81=\"\",\"\",IF(YEAR(Informatie!$C$1)=2015,ROUND(G81*Parameters!J$44,2),ROUND(G81*VLOOKUP('Overzicht deelnemers'!I81,Parameters!$E$4:$G$49,3,FALSE),2)))","v":""},{"$f":"IF(G81=\"\",\"\",IF(YEAR(Informatie!$C$1)=2015,ROUND(T81*Parameters!$C$20,2),ROUND(G81*Parameters!$J$44,2)))","v":""},"",{"$f":"IF(G81=\"\",\"\",ROUND(G81*Parameters!C$17,2))","v":""},{"$f":"IF(G81=\"\",\"\",ROUND(G81*VLOOKUP(J81,Parameters!E$4:G$49,3),2))","v":""},{"$f":"IF(G81=\"\",\"\",ROUND(G81*Parameters!J$83,2))","v":""},""]
[null,null,null,null,0,{"$f":"IF(C82=\"\",0,IF(C82<=Parameters!$C$3,C82,Parameters!$C$3))","v":0},{"$f":"IF(C82=\"\",\"\",IF(F82<Parameters!$C$4,\"\",(F82-Parameters!$C$4)*D82))","v":""},null,{"$f":"IF(H82=\"\",\"\",YEAR(+Informatie!$C$1)-YEAR(H82))","v":""},"",{"$f":"IF(G82=\"\",\"\",ROUND(G82*Parameters!$C$12,2))","v":""},{"$f":"IF(G82=\"\",\"\",IF(YEAR(Informatie!$C$1)=2015,ROUND(G82*Parameters!$J$27,2),ROUND(G82*VLOOKUP('Overzicht deelnemers'!I82,Parameters!$E$4:$G$49,2,FALSE),2)))","v":""},{"$f":"IF(G82=\"\",\"\",IF(YEAR(Informatie!$C$1)=2015,ROUND(L82*Parameters!$C$20,2),G82*Parameters!$J$27))","v":""},"",{"$f":"IF(G82=\"\",\"\",ROUND(G82*Parameters!$C$16,2))","v":""},{"$f":"IF(G82=\"\",\"\",ROUND(G82*VLOOKUP(J82,Parameters!$E$3:$F$49,2,FALSE),2))","v":""},{"$f":"IF(G82=\"\",\"\",ROUND(G82*Parameters!$J$66,2))","v":""},"",{"$f":"IF(G82=\"\",\"\",ROUND(G82*Parameters!$C$13,2))","v":""},{"$f":"IF(G82=\"\",\"\",IF(YEAR(Informatie!$C$1)=2015,ROUND(G82*Parameters!J$44,2),ROUND(G82*VLOOKUP('Overzicht deelnemers'!I82,Parameters!$E$4:$G$49,3,FALSE),2)))","v":""},{"$f":"IF(G82=\"\",\"\",IF(YEAR(Informatie!$C$1)=2015,ROUND(T82*Parameters!$C$20,2),ROUND(G82*Parameters!$J$44,2)))","v":""},"",{"$f":"IF(G82=\"\",\"\",ROUND(G82*Parameters!C$17,2))","v":""},{"$f":"IF(G82=\"\",\"\",ROUND(G82*VLOOKUP(J82,Parameters!E$4:G$49,3),2))","v":""},{"$f":"IF(G82=\"\",\"\",ROUND(G82*Parameters!J$83,2))","v":""},""]
[null,null,null,null,0,{"$f":"IF(C83=\"\",0,IF(C83<=Parameters!$C$3,C83,Parameters!$C$3))","v":0},{"$f":"IF(C83=\"\",\"\",IF(F83<Parameters!$C$4,\"\",(F83-Parameters!$C$4)*D83))","v":""},null,{"$f":"IF(H83=\"\",\"\",YEAR(+Informatie!$C$1)-YEAR(H83))","v":""},"",{"$f":"IF(G83=\"\",\"\",ROUND(G83*Parameters!$C$12,2))","v":""},{"$f":"IF(G83=\"\",\"\",IF(YEAR(Informatie!$C$1)=2015,ROUND(G83*Parameters!$J$27,2),ROUND(G83*VLOOKUP('Overzicht deelnemers'!I83,Parameters!$E$4:$G$49,2,FALSE),2)))","v":""},{"$f":"IF(G83=\"\",\"\",IF(YEAR(Informatie!$C$1)=2015,ROUND(L83*Parameters!$C$20,2),G83*Parameters!$J$27))","v":""},"",{"$f":"IF(G83=\"\",\"\",ROUND(G83*Parameters!$C$16,2))","v":""},{"$f":"IF(G83=\"\",\"\",ROUND(G83*VLOOKUP(J83,Parameters!$E$3:$F$49,2,FALSE),2))","v":""},{"$f":"IF(G83=\"\",\"\",ROUND(G83*Parameters!$J$66,2))","v":""},"",{"$f":"IF(G83=\"\",\"\",ROUND(G83*Parameters!$C$13,2))","v":""},{"$f":"IF(G83=\"\",\"\",IF(YEAR(Informatie!$C$1)=2015,ROUND(G83*Parameters!J$44,2),ROUND(G83*VLOOKUP('Overzicht deelnemers'!I83,Parameters!$E$4:$G$49,3,FALSE),2)))","v":""},{"$f":"IF(G83=\"\",\"\",IF(YEAR(Informatie!$C$1)=2015,ROUND(T83*Parameters!$C$20,2),ROUND(G83*Parameters!$J$44,2)))","v":""},"",{"$f":"IF(G83=\"\",\"\",ROUND(G83*Parameters!C$17,2))","v":""},{"$f":"IF(G83=\"\",\"\",ROUND(G83*VLOOKUP(J83,Parameters!E$4:G$49,3),2))","v":""},{"$f":"IF(G83=\"\",\"\",ROUND(G83*Parameters!J$83,2))","v":""},""]
[null,null,null,null,0,{"$f":"IF(C84=\"\",0,IF(C84<=Parameters!$C$3,C84,Parameters!$C$3))","v":0},{"$f":"IF(C84=\"\",\"\",IF(F84<Parameters!$C$4,\"\",(F84-Parameters!$C$4)*D84))","v":""},null,{"$f":"IF(H84=\"\",\"\",YEAR(+Informatie!$C$1)-YEAR(H84))","v":""},"",{"$f":"IF(G84=\"\",\"\",ROUND(G84*Parameters!$C$12,2))","v":""},{"$f":"IF(G84=\"\",\"\",IF(YEAR(Informatie!$C$1)=2015,ROUND(G84*Parameters!$J$27,2),ROUND(G84*VLOOKUP('Overzicht deelnemers'!I84,Parameters!$E$4:$G$49,2,FALSE),2)))","v":""},{"$f":"IF(G84=\"\",\"\",IF(YEAR(Informatie!$C$1)=2015,ROUND(L84*Parameters!$C$20,2),G84*Parameters!$J$27))","v":""},"",{"$f":"IF(G84=\"\",\"\",ROUND(G84*Parameters!$C$16,2))","v":""},{"$f":"IF(G84=\"\",\"\",ROUND(G84*VLOOKUP(J84,Parameters!$E$3:$F$49,2,FALSE),2))","v":""},{"$f":"IF(G84=\"\",\"\",ROUND(G84*Parameters!$J$66,2))","v":""},"",{"$f":"IF(G84=\"\",\"\",ROUND(G84*Parameters!$C$13,2))","v":""},{"$f":"IF(G84=\"\",\"\",IF(YEAR(Informatie!$C$1)=2015,ROUND(G84*Parameters!J$44,2),ROUND(G84*VLOOKUP('Overzicht deelnemers'!I84,Parameters!$E$4:$G$49,3,FALSE),2)))","v":""},{"$f":"IF(G84=\"\",\"\",IF(YEAR(Informatie!$C$1)=2015,ROUND(T84*Parameters!$C$20,2),ROUND(G84*Parameters!$J$44,2)))","v":""},"",{"$f":"IF(G84=\"\",\"\",ROUND(G84*Parameters!C$17,2))","v":""},{"$f":"IF(G84=\"\",\"\",ROUND(G84*VLOOKUP(J84,Parameters!E$4:G$49,3),2))","v":""},{"$f":"IF(G84=\"\",\"\",ROUND(G84*Parameters!J$83,2))","v":""},""]
[null,null,null,null,0,{"$f":"IF(C85=\"\",0,IF(C85<=Parameters!$C$3,C85,Parameters!$C$3))","v":0},{"$f":"IF(C85=\"\",\"\",IF(F85<Parameters!$C$4,\"\",(F85-Parameters!$C$4)*D85))","v":""},null,{"$f":"IF(H85=\"\",\"\",YEAR(+Informatie!$C$1)-YEAR(H85))","v":""},"",{"$f":"IF(G85=\"\",\"\",ROUND(G85*Parameters!$C$12,2))","v":""},{"$f":"IF(G85=\"\",\"\",IF(YEAR(Informatie!$C$1)=2015,ROUND(G85*Parameters!$J$27,2),ROUND(G85*VLOOKUP('Overzicht deelnemers'!I85,Parameters!$E$4:$G$49,2,FALSE),2)))","v":""},{"$f":"IF(G85=\"\",\"\",IF(YEAR(Informatie!$C$1)=2015,ROUND(L85*Parameters!$C$20,2),G85*Parameters!$J$27))","v":""},"",{"$f":"IF(G85=\"\",\"\",ROUND(G85*Parameters!$C$16,2))","v":""},{"$f":"IF(G85=\"\",\"\",ROUND(G85*VLOOKUP(J85,Parameters!$E$3:$F$49,2,FALSE),2))","v":""},{"$f":"IF(G85=\"\",\"\",ROUND(G85*Parameters!$J$66,2))","v":""},"",{"$f":"IF(G85=\"\",\"\",ROUND(G85*Parameters!$C$13,2))","v":""},{"$f":"IF(G85=\"\",\"\",IF(YEAR(Informatie!$C$1)=2015,ROUND(G85*Parameters!J$44,2),ROUND(G85*VLOOKUP('Overzicht deelnemers'!I85,Parameters!$E$4:$G$49,3,FALSE),2)))","v":""},{"$f":"IF(G85=\"\",\"\",IF(YEAR(Informatie!$C$1)=2015,ROUND(T85*Parameters!$C$20,2),ROUND(G85*Parameters!$J$44,2)))","v":""},"",{"$f":"IF(G85=\"\",\"\",ROUND(G85*Parameters!C$17,2))","v":""},{"$f":"IF(G85=\"\",\"\",ROUND(G85*VLOOKUP(J85,Parameters!E$4:G$49,3),2))","v":""},{"$f":"IF(G85=\"\",\"\",ROUND(G85*Parameters!J$83,2))","v":""},""]
[null,null,null,null,0,{"$f":"IF(C86=\"\",0,IF(C86<=Parameters!$C$3,C86,Parameters!$C$3))","v":0},{"$f":"IF(C86=\"\",\"\",IF(F86<Parameters!$C$4,\"\",(F86-Parameters!$C$4)*D86))","v":""},null,{"$f":"IF(H86=\"\",\"\",YEAR(+Informatie!$C$1)-YEAR(H86))","v":""},"",{"$f":"IF(G86=\"\",\"\",ROUND(G86*Parameters!$C$12,2))","v":""},{"$f":"IF(G86=\"\",\"\",IF(YEAR(Informatie!$C$1)=2015,ROUND(G86*Parameters!$J$27,2),ROUND(G86*VLOOKUP('Overzicht deelnemers'!I86,Parameters!$E$4:$G$49,2,FALSE),2)))","v":""},{"$f":"IF(G86=\"\",\"\",IF(YEAR(Informatie!$C$1)=2015,ROUND(L86*Parameters!$C$20,2),G86*Parameters!$J$27))","v":""},"",{"$f":"IF(G86=\"\",\"\",ROUND(G86*Parameters!$C$16,2))","v":""},{"$f":"IF(G86=\"\",\"\",ROUND(G86*VLOOKUP(J86,Parameters!$E$3:$F$49,2,FALSE),2))","v":""},{"$f":"IF(G86=\"\",\"\",ROUND(G86*Parameters!$J$66,2))","v":""},"",{"$f":"IF(G86=\"\",\"\",ROUND(G86*Parameters!$C$13,2))","v":""},{"$f":"IF(G86=\"\",\"\",IF(YEAR(Informatie!$C$1)=2015,ROUND(G86*Parameters!J$44,2),ROUND(G86*VLOOKUP('Overzicht deelnemers'!I86,Parameters!$E$4:$G$49,3,FALSE),2)))","v":""},{"$f":"IF(G86=\"\",\"\",IF(YEAR(Informatie!$C$1)=2015,ROUND(T86*Parameters!$C$20,2),ROUND(G86*Parameters!$J$44,2)))","v":""},"",{"$f":"IF(G86=\"\",\"\",ROUND(G86*Parameters!C$17,2))","v":""},{"$f":"IF(G86=\"\",\"\",ROUND(G86*VLOOKUP(J86,Parameters!E$4:G$49,3),2))","v":""},{"$f":"IF(G86=\"\",\"\",ROUND(G86*Parameters!J$83,2))","v":""},""]
[null,null,null,null,0,{"$f":"IF(C87=\"\",0,IF(C87<=Parameters!$C$3,C87,Parameters!$C$3))","v":0},{"$f":"IF(C87=\"\",\"\",IF(F87<Parameters!$C$4,\"\",(F87-Parameters!$C$4)*D87))","v":""},null,{"$f":"IF(H87=\"\",\"\",YEAR(+Informatie!$C$1)-YEAR(H87))","v":""},"",{"$f":"IF(G87=\"\",\"\",ROUND(G87*Parameters!$C$12,2))","v":""},{"$f":"IF(G87=\"\",\"\",IF(YEAR(Informatie!$C$1)=2015,ROUND(G87*Parameters!$J$27,2),ROUND(G87*VLOOKUP('Overzicht deelnemers'!I87,Parameters!$E$4:$G$49,2,FALSE),2)))","v":""},{"$f":"IF(G87=\"\",\"\",IF(YEAR(Informatie!$C$1)=2015,ROUND(L87*Parameters!$C$20,2),G87*Parameters!$J$27))","v":""},"",{"$f":"IF(G87=\"\",\"\",ROUND(G87*Parameters!$C$16,2))","v":""},{"$f":"IF(G87=\"\",\"\",ROUND(G87*VLOOKUP(J87,Parameters!$E$3:$F$49,2,FALSE),2))","v":""},{"$f":"IF(G87=\"\",\"\",ROUND(G87*Parameters!$J$66,2))","v":""},"",{"$f":"IF(G87=\"\",\"\",ROUND(G87*Parameters!$C$13,2))","v":""},{"$f":"IF(G87=\"\",\"\",IF(YEAR(Informatie!$C$1)=2015,ROUND(G87*Parameters!J$44,2),ROUND(G87*VLOOKUP('Overzicht deelnemers'!I87,Parameters!$E$4:$G$49,3,FALSE),2)))","v":""},{"$f":"IF(G87=\"\",\"\",IF(YEAR(Informatie!$C$1)=2015,ROUND(T87*Parameters!$C$20,2),ROUND(G87*Parameters!$J$44,2)))","v":""},"",{"$f":"IF(G87=\"\",\"\",ROUND(G87*Parameters!C$17,2))","v":""},{"$f":"IF(G87=\"\",\"\",ROUND(G87*VLOOKUP(J87,Parameters!E$4:G$49,3),2))","v":""},{"$f":"IF(G87=\"\",\"\",ROUND(G87*Parameters!J$83,2))","v":""},""]
[null,null,null,null,0,{"$f":"IF(C88=\"\",0,IF(C88<=Parameters!$C$3,C88,Parameters!$C$3))","v":0},{"$f":"IF(C88=\"\",\"\",IF(F88<Parameters!$C$4,\"\",(F88-Parameters!$C$4)*D88))","v":""},null,{"$f":"IF(H88=\"\",\"\",YEAR(+Informatie!$C$1)-YEAR(H88))","v":""},"",{"$f":"IF(G88=\"\",\"\",ROUND(G88*Parameters!$C$12,2))","v":""},{"$f":"IF(G88=\"\",\"\",IF(YEAR(Informatie!$C$1)=2015,ROUND(G88*Parameters!$J$27,2),ROUND(G88*VLOOKUP('Overzicht deelnemers'!I88,Parameters!$E$4:$G$49,2,FALSE),2)))","v":""},{"$f":"IF(G88=\"\",\"\",IF(YEAR(Informatie!$C$1)=2015,ROUND(L88*Parameters!$C$20,2),G88*Parameters!$J$27))","v":""},"",{"$f":"IF(G88=\"\",\"\",ROUND(G88*Parameters!$C$16,2))","v":""},{"$f":"IF(G88=\"\",\"\",ROUND(G88*VLOOKUP(J88,Parameters!$E$3:$F$49,2,FALSE),2))","v":""},{"$f":"IF(G88=\"\",\"\",ROUND(G88*Parameters!$J$66,2))","v":""},"",{"$f":"IF(G88=\"\",\"\",ROUND(G88*Parameters!$C$13,2))","v":""},{"$f":"IF(G88=\"\",\"\",IF(YEAR(Informatie!$C$1)=2015,ROUND(G88*Parameters!J$44,2),ROUND(G88*VLOOKUP('Overzicht deelnemers'!I88,Parameters!$E$4:$G$49,3,FALSE),2)))","v":""},{"$f":"IF(G88=\"\",\"\",IF(YEAR(Informatie!$C$1)=2015,ROUND(T88*Parameters!$C$20,2),ROUND(G88*Parameters!$J$44,2)))","v":""},"",{"$f":"IF(G88=\"\",\"\",ROUND(G88*Parameters!C$17,2))","v":""},{"$f":"IF(G88=\"\",\"\",ROUND(G88*VLOOKUP(J88,Parameters!E$4:G$49,3),2))","v":""},{"$f":"IF(G88=\"\",\"\",ROUND(G88*Parameters!J$83,2))","v":""},""]
[null,null,null,null,0,{"$f":"IF(C89=\"\",0,IF(C89<=Parameters!$C$3,C89,Parameters!$C$3))","v":0},{"$f":"IF(C89=\"\",\"\",IF(F89<Parameters!$C$4,\"\",(F89-Parameters!$C$4)*D89))","v":""},null,{"$f":"IF(H89=\"\",\"\",YEAR(+Informatie!$C$1)-YEAR(H89))","v":""},"",{"$f":"IF(G89=\"\",\"\",ROUND(G89*Parameters!$C$12,2))","v":""},{"$f":"IF(G89=\"\",\"\",IF(YEAR(Informatie!$C$1)=2015,ROUND(G89*Parameters!$J$27,2),ROUND(G89*VLOOKUP('Overzicht deelnemers'!I89,Parameters!$E$4:$G$49,2,FALSE),2)))","v":""},{"$f":"IF(G89=\"\",\"\",IF(YEAR(Informatie!$C$1)=2015,ROUND(L89*Parameters!$C$20,2),G89*Parameters!$J$27))","v":""},"",{"$f":"IF(G89=\"\",\"\",ROUND(G89*Parameters!$C$16,2))","v":""},{"$f":"IF(G89=\"\",\"\",ROUND(G89*VLOOKUP(J89,Parameters!$E$3:$F$49,2,FALSE),2))","v":""},{"$f":"IF(G89=\"\",\"\",ROUND(G89*Parameters!$J$66,2))","v":""},"",{"$f":"IF(G89=\"\",\"\",ROUND(G89*Parameters!$C$13,2))","v":""},{"$f":"IF(G89=\"\",\"\",IF(YEAR(Informatie!$C$1)=2015,ROUND(G89*Parameters!J$44,2),ROUND(G89*VLOOKUP('Overzicht deelnemers'!I89,Parameters!$E$4:$G$49,3,FALSE),2)))","v":""},{"$f":"IF(G89=\"\",\"\",IF(YEAR(Informatie!$C$1)=2015,ROUND(T89*Parameters!$C$20,2),ROUND(G89*Parameters!$J$44,2)))","v":""},"",{"$f":"IF(G89=\"\",\"\",ROUND(G89*Parameters!C$17,2))","v":""},{"$f":"IF(G89=\"\",\"\",ROUND(G89*VLOOKUP(J89,Parameters!E$4:G$49,3),2))","v":""},{"$f":"IF(G89=\"\",\"\",ROUND(G89*Parameters!J$83,2))","v":""},""]
[null,null,null,null,0,{"$f":"IF(C90=\"\",0,IF(C90<=Parameters!$C$3,C90,Parameters!$C$3))","v":0},{"$f":"IF(C90=\"\",\"\",IF(F90<Parameters!$C$4,\"\",(F90-Parameters!$C$4)*D90))","v":""},null,{"$f":"IF(H90=\"\",\"\",YEAR(+Informatie!$C$1)-YEAR(H90))","v":""},"",{"$f":"IF(G90=\"\",\"\",ROUND(G90*Parameters!$C$12,2))","v":""},{"$f":"IF(G90=\"\",\"\",IF(YEAR(Informatie!$C$1)=2015,ROUND(G90*Parameters!$J$27,2),ROUND(G90*VLOOKUP('Overzicht deelnemers'!I90,Parameters!$E$4:$G$49,2,FALSE),2)))","v":""},{"$f":"IF(G90=\"\",\"\",IF(YEAR(Informatie!$C$1)=2015,ROUND(L90*Parameters!$C$20,2),G90*Parameters!$J$27))","v":""},"",{"$f":"IF(G90=\"\",\"\",ROUND(G90*Parameters!$C$16,2))","v":""},{"$f":"IF(G90=\"\",\"\",ROUND(G90*VLOOKUP(J90,Parameters!$E$3:$F$49,2,FALSE),2))","v":""},{"$f":"IF(G90=\"\",\"\",ROUND(G90*Parameters!$J$66,2))","v":""},"",{"$f":"IF(G90=\"\",\"\",ROUND(G90*Parameters!$C$13,2))","v":""},{"$f":"IF(G90=\"\",\"\",IF(YEAR(Informatie!$C$1)=2015,ROUND(G90*Parameters!J$44,2),ROUND(G90*VLOOKUP('Overzicht deelnemers'!I90,Parameters!$E$4:$G$49,3,FALSE),2)))","v":""},{"$f":"IF(G90=\"\",\"\",IF(YEAR(Informatie!$C$1)=2015,ROUND(T90*Parameters!$C$20,2),ROUND(G90*Parameters!$J$44,2)))","v":""},"",{"$f":"IF(G90=\"\",\"\",ROUND(G90*Parameters!C$17,2))","v":""},{"$f":"IF(G90=\"\",\"\",ROUND(G90*VLOOKUP(J90,Parameters!E$4:G$49,3),2))","v":""},{"$f":"IF(G90=\"\",\"\",ROUND(G90*Parameters!J$83,2))","v":""},""]
[null,null,null,null,0,{"$f":"IF(C91=\"\",0,IF(C91<=Parameters!$C$3,C91,Parameters!$C$3))","v":0},{"$f":"IF(C91=\"\",\"\",IF(F91<Parameters!$C$4,\"\",(F91-Parameters!$C$4)*D91))","v":""},null,{"$f":"IF(H91=\"\",\"\",YEAR(+Informatie!$C$1)-YEAR(H91))","v":""},"",{"$f":"IF(G91=\"\",\"\",ROUND(G91*Parameters!$C$12,2))","v":""},{"$f":"IF(G91=\"\",\"\",IF(YEAR(Informatie!$C$1)=2015,ROUND(G91*Parameters!$J$27,2),ROUND(G91*VLOOKUP('Overzicht deelnemers'!I91,Parameters!$E$4:$G$49,2,FALSE),2)))","v":""},{"$f":"IF(G91=\"\",\"\",IF(YEAR(Informatie!$C$1)=2015,ROUND(L91*Parameters!$C$20,2),G91*Parameters!$J$27))","v":""},"",{"$f":"IF(G91=\"\",\"\",ROUND(G91*Parameters!$C$16,2))","v":""},{"$f":"IF(G91=\"\",\"\",ROUND(G91*VLOOKUP(J91,Parameters!$E$3:$F$49,2,FALSE),2))","v":""},{"$f":"IF(G91=\"\",\"\",ROUND(G91*Parameters!$J$66,2))","v":""},"",{"$f":"IF(G91=\"\",\"\",ROUND(G91*Parameters!$C$13,2))","v":""},{"$f":"IF(G91=\"\",\"\",IF(YEAR(Informatie!$C$1)=2015,ROUND(G91*Parameters!J$44,2),ROUND(G91*VLOOKUP('Overzicht deelnemers'!I91,Parameters!$E$4:$G$49,3,FALSE),2)))","v":""},{"$f":"IF(G91=\"\",\"\",IF(YEAR(Informatie!$C$1)=2015,ROUND(T91*Parameters!$C$20,2),ROUND(G91*Parameters!$J$44,2)))","v":""},"",{"$f":"IF(G91=\"\",\"\",ROUND(G91*Parameters!C$17,2))","v":""},{"$f":"IF(G91=\"\",\"\",ROUND(G91*VLOOKUP(J91,Parameters!E$4:G$49,3),2))","v":""},{"$f":"IF(G91=\"\",\"\",ROUND(G91*Parameters!J$83,2))","v":""},""]
[null,null,null,null,0,{"$f":"IF(C92=\"\",0,IF(C92<=Parameters!$C$3,C92,Parameters!$C$3))","v":0},{"$f":"IF(C92=\"\",\"\",IF(F92<Parameters!$C$4,\"\",(F92-Parameters!$C$4)*D92))","v":""},null,{"$f":"IF(H92=\"\",\"\",YEAR(+Informatie!$C$1)-YEAR(H92))","v":""},"",{"$f":"IF(G92=\"\",\"\",ROUND(G92*Parameters!$C$12,2))","v":""},{"$f":"IF(G92=\"\",\"\",IF(YEAR(Informatie!$C$1)=2015,ROUND(G92*Parameters!$J$27,2),ROUND(G92*VLOOKUP('Overzicht deelnemers'!I92,Parameters!$E$4:$G$49,2,FALSE),2)))","v":""},{"$f":"IF(G92=\"\",\"\",IF(YEAR(Informatie!$C$1)=2015,ROUND(L92*Parameters!$C$20,2),G92*Parameters!$J$27))","v":""},"",{"$f":"IF(G92=\"\",\"\",ROUND(G92*Parameters!$C$16,2))","v":""},{"$f":"IF(G92=\"\",\"\",ROUND(G92*VLOOKUP(J92,Parameters!$E$3:$F$49,2,FALSE),2))","v":""},{"$f":"IF(G92=\"\",\"\",ROUND(G92*Parameters!$J$66,2))","v":""},"",{"$f":"IF(G92=\"\",\"\",ROUND(G92*Parameters!$C$13,2))","v":""},{"$f":"IF(G92=\"\",\"\",IF(YEAR(Informatie!$C$1)=2015,ROUND(G92*Parameters!J$44,2),ROUND(G92*VLOOKUP('Overzicht deelnemers'!I92,Parameters!$E$4:$G$49,3,FALSE),2)))","v":""},{"$f":"IF(G92=\"\",\"\",IF(YEAR(Informatie!$C$1)=2015,ROUND(T92*Parameters!$C$20,2),ROUND(G92*Parameters!$J$44,2)))","v":""},"",{"$f":"IF(G92=\"\",\"\",ROUND(G92*Parameters!C$17,2))","v":""},{"$f":"IF(G92=\"\",\"\",ROUND(G92*VLOOKUP(J92,Parameters!E$4:G$49,3),2))","v":""},{"$f":"IF(G92=\"\",\"\",ROUND(G92*Parameters!J$83,2))","v":""},""]
[null,null,null,null,0,{"$f":"IF(C93=\"\",0,IF(C93<=Parameters!$C$3,C93,Parameters!$C$3))","v":0},{"$f":"IF(C93=\"\",\"\",IF(F93<Parameters!$C$4,\"\",(F93-Parameters!$C$4)*D93))","v":""},null,{"$f":"IF(H93=\"\",\"\",YEAR(+Informatie!$C$1)-YEAR(H93))","v":""},"",{"$f":"IF(G93=\"\",\"\",ROUND(G93*Parameters!$C$12,2))","v":""},{"$f":"IF(G93=\"\",\"\",IF(YEAR(Informatie!$C$1)=2015,ROUND(G93*Parameters!$J$27,2),ROUND(G93*VLOOKUP('Overzicht deelnemers'!I93,Parameters!$E$4:$G$49,2,FALSE),2)))","v":""},{"$f":"IF(G93=\"\",\"\",IF(YEAR(Informatie!$C$1)=2015,ROUND(L93*Parameters!$C$20,2),G93*Parameters!$J$27))","v":""},"",{"$f":"IF(G93=\"\",\"\",ROUND(G93*Parameters!$C$16,2))","v":""},{"$f":"IF(G93=\"\",\"\",ROUND(G93*VLOOKUP(J93,Parameters!$E$3:$F$49,2,FALSE),2))","v":""},{"$f":"IF(G93=\"\",\"\",ROUND(G93*Parameters!$J$66,2))","v":""},"",{"$f":"IF(G93=\"\",\"\",ROUND(G93*Parameters!$C$13,2))","v":""},{"$f":"IF(G93=\"\",\"\",IF(YEAR(Informatie!$C$1)=2015,ROUND(G93*Parameters!J$44,2),ROUND(G93*VLOOKUP('Overzicht deelnemers'!I93,Parameters!$E$4:$G$49,3,FALSE),2)))","v":""},{"$f":"IF(G93=\"\",\"\",IF(YEAR(Informatie!$C$1)=2015,ROUND(T93*Parameters!$C$20,2),ROUND(G93*Parameters!$J$44,2)))","v":""},"",{"$f":"IF(G93=\"\",\"\",ROUND(G93*Parameters!C$17,2))","v":""},{"$f":"IF(G93=\"\",\"\",ROUND(G93*VLOOKUP(J93,Parameters!E$4:G$49,3),2))","v":""},{"$f":"IF(G93=\"\",\"\",ROUND(G93*Parameters!J$83,2))","v":""},""]
[null,null,null,null,0,{"$f":"IF(C94=\"\",0,IF(C94<=Parameters!$C$3,C94,Parameters!$C$3))","v":0},{"$f":"IF(C94=\"\",\"\",IF(F94<Parameters!$C$4,\"\",(F94-Parameters!$C$4)*D94))","v":""},null,{"$f":"IF(H94=\"\",\"\",YEAR(+Informatie!$C$1)-YEAR(H94))","v":""},"",{"$f":"IF(G94=\"\",\"\",ROUND(G94*Parameters!$C$12,2))","v":""},{"$f":"IF(G94=\"\",\"\",IF(YEAR(Informatie!$C$1)=2015,ROUND(G94*Parameters!$J$27,2),ROUND(G94*VLOOKUP('Overzicht deelnemers'!I94,Parameters!$E$4:$G$49,2,FALSE),2)))","v":""},{"$f":"IF(G94=\"\",\"\",IF(YEAR(Informatie!$C$1)=2015,ROUND(L94*Parameters!$C$20,2),G94*Parameters!$J$27))","v":""},"",{"$f":"IF(G94=\"\",\"\",ROUND(G94*Parameters!$C$16,2))","v":""},{"$f":"IF(G94=\"\",\"\",ROUND(G94*VLOOKUP(J94,Parameters!$E$3:$F$49,2,FALSE),2))","v":""},{"$f":"IF(G94=\"\",\"\",ROUND(G94*Parameters!$J$66,2))","v":""},"",{"$f":"IF(G94=\"\",\"\",ROUND(G94*Parameters!$C$13,2))","v":""},{"$f":"IF(G94=\"\",\"\",IF(YEAR(Informatie!$C$1)=2015,ROUND(G94*Parameters!J$44,2),ROUND(G94*VLOOKUP('Overzicht deelnemers'!I94,Parameters!$E$4:$G$49,3,FALSE),2)))","v":""},{"$f":"IF(G94=\"\",\"\",IF(YEAR(Informatie!$C$1)=2015,ROUND(T94*Parameters!$C$20,2),ROUND(G94*Parameters!$J$44,2)))","v":""},"",{"$f":"IF(G94=\"\",\"\",ROUND(G94*Parameters!C$17,2))","v":""},{"$f":"IF(G94=\"\",\"\",ROUND(G94*VLOOKUP(J94,Parameters!E$4:G$49,3),2))","v":""},{"$f":"IF(G94=\"\",\"\",ROUND(G94*Parameters!J$83,2))","v":""},""]
[null,null,null,null,0,{"$f":"IF(C95=\"\",0,IF(C95<=Parameters!$C$3,C95,Parameters!$C$3))","v":0},{"$f":"IF(C95=\"\",\"\",IF(F95<Parameters!$C$4,\"\",(F95-Parameters!$C$4)*D95))","v":""},null,{"$f":"IF(H95=\"\",\"\",YEAR(+Informatie!$C$1)-YEAR(H95))","v":""},"",{"$f":"IF(G95=\"\",\"\",ROUND(G95*Parameters!$C$12,2))","v":""},{"$f":"IF(G95=\"\",\"\",IF(YEAR(Informatie!$C$1)=2015,ROUND(G95*Parameters!$J$27,2),ROUND(G95*VLOOKUP('Overzicht deelnemers'!I95,Parameters!$E$4:$G$49,2,FALSE),2)))","v":""},{"$f":"IF(G95=\"\",\"\",IF(YEAR(Informatie!$C$1)=2015,ROUND(L95*Parameters!$C$20,2),G95*Parameters!$J$27))","v":""},"",{"$f":"IF(G95=\"\",\"\",ROUND(G95*Parameters!$C$16,2))","v":""},{"$f":"IF(G95=\"\",\"\",ROUND(G95*VLOOKUP(J95,Parameters!$E$3:$F$49,2,FALSE),2))","v":""},{"$f":"IF(G95=\"\",\"\",ROUND(G95*Parameters!$J$66,2))","v":""},"",{"$f":"IF(G95=\"\",\"\",ROUND(G95*Parameters!$C$13,2))","v":""},{"$f":"IF(G95=\"\",\"\",IF(YEAR(Informatie!$C$1)=2015,ROUND(G95*Parameters!J$44,2),ROUND(G95*VLOOKUP('Overzicht deelnemers'!I95,Parameters!$E$4:$G$49,3,FALSE),2)))","v":""},{"$f":"IF(G95=\"\",\"\",IF(YEAR(Informatie!$C$1)=2015,ROUND(T95*Parameters!$C$20,2),ROUND(G95*Parameters!$J$44,2)))","v":""},"",{"$f":"IF(G95=\"\",\"\",ROUND(G95*Parameters!C$17,2))","v":""},{"$f":"IF(G95=\"\",\"\",ROUND(G95*VLOOKUP(J95,Parameters!E$4:G$49,3),2))","v":""},{"$f":"IF(G95=\"\",\"\",ROUND(G95*Parameters!J$83,2))","v":""},""]
[null,null,null,null,0,{"$f":"IF(C96=\"\",0,IF(C96<=Parameters!$C$3,C96,Parameters!$C$3))","v":0},{"$f":"IF(C96=\"\",\"\",IF(F96<Parameters!$C$4,\"\",(F96-Parameters!$C$4)*D96))","v":""},null,{"$f":"IF(H96=\"\",\"\",YEAR(+Informatie!$C$1)-YEAR(H96))","v":""},"",{"$f":"IF(G96=\"\",\"\",ROUND(G96*Parameters!$C$12,2))","v":""},{"$f":"IF(G96=\"\",\"\",IF(YEAR(Informatie!$C$1)=2015,ROUND(G96*Parameters!$J$27,2),ROUND(G96*VLOOKUP('Overzicht deelnemers'!I96,Parameters!$E$4:$G$49,2,FALSE),2)))","v":""},{"$f":"IF(G96=\"\",\"\",IF(YEAR(Informatie!$C$1)=2015,ROUND(L96*Parameters!$C$20,2),G96*Parameters!$J$27))","v":""},"",{"$f":"IF(G96=\"\",\"\",ROUND(G96*Parameters!$C$16,2))","v":""},{"$f":"IF(G96=\"\",\"\",ROUND(G96*VLOOKUP(J96,Parameters!$E$3:$F$49,2,FALSE),2))","v":""},{"$f":"IF(G96=\"\",\"\",ROUND(G96*Parameters!$J$66,2))","v":""},"",{"$f":"IF(G96=\"\",\"\",ROUND(G96*Parameters!$C$13,2))","v":""},{"$f":"IF(G96=\"\",\"\",IF(YEAR(Informatie!$C$1)=2015,ROUND(G96*Parameters!J$44,2),ROUND(G96*VLOOKUP('Overzicht deelnemers'!I96,Parameters!$E$4:$G$49,3,FALSE),2)))","v":""},{"$f":"IF(G96=\"\",\"\",IF(YEAR(Informatie!$C$1)=2015,ROUND(T96*Parameters!$C$20,2),ROUND(G96*Parameters!$J$44,2)))","v":""},"",{"$f":"IF(G96=\"\",\"\",ROUND(G96*Parameters!C$17,2))","v":""},{"$f":"IF(G96=\"\",\"\",ROUND(G96*VLOOKUP(J96,Parameters!E$4:G$49,3),2))","v":""},{"$f":"IF(G96=\"\",\"\",ROUND(G96*Parameters!J$83,2))","v":""},""]
[null,null,null,null,0,{"$f":"IF(C97=\"\",0,IF(C97<=Parameters!$C$3,C97,Parameters!$C$3))","v":0},{"$f":"IF(C97=\"\",\"\",IF(F97<Parameters!$C$4,\"\",(F97-Parameters!$C$4)*D97))","v":""},null,{"$f":"IF(H97=\"\",\"\",YEAR(+Informatie!$C$1)-YEAR(H97))","v":""},"",{"$f":"IF(G97=\"\",\"\",ROUND(G97*Parameters!$C$12,2))","v":""},{"$f":"IF(G97=\"\",\"\",IF(YEAR(Informatie!$C$1)=2015,ROUND(G97*Parameters!$J$27,2),ROUND(G97*VLOOKUP('Overzicht deelnemers'!I97,Parameters!$E$4:$G$49,2,FALSE),2)))","v":""},{"$f":"IF(G97=\"\",\"\",IF(YEAR(Informatie!$C$1)=2015,ROUND(L97*Parameters!$C$20,2),G97*Parameters!$J$27))","v":""},"",{"$f":"IF(G97=\"\",\"\",ROUND(G97*Parameters!$C$16,2))","v":""},{"$f":"IF(G97=\"\",\"\",ROUND(G97*VLOOKUP(J97,Parameters!$E$3:$F$49,2,FALSE),2))","v":""},{"$f":"IF(G97=\"\",\"\",ROUND(G97*Parameters!$J$66,2))","v":""},"",{"$f":"IF(G97=\"\",\"\",ROUND(G97*Parameters!$C$13,2))","v":""},{"$f":"IF(G97=\"\",\"\",IF(YEAR(Informatie!$C$1)=2015,ROUND(G97*Parameters!J$44,2),ROUND(G97*VLOOKUP('Overzicht deelnemers'!I97,Parameters!$E$4:$G$49,3,FALSE),2)))","v":""},{"$f":"IF(G97=\"\",\"\",IF(YEAR(Informatie!$C$1)=2015,ROUND(T97*Parameters!$C$20,2),ROUND(G97*Parameters!$J$44,2)))","v":""},"",{"$f":"IF(G97=\"\",\"\",ROUND(G97*Parameters!C$17,2))","v":""},{"$f":"IF(G97=\"\",\"\",ROUND(G97*VLOOKUP(J97,Parameters!E$4:G$49,3),2))","v":""},{"$f":"IF(G97=\"\",\"\",ROUND(G97*Parameters!J$83,2))","v":""},""]
[null,null,null,null,0,{"$f":"IF(C98=\"\",0,IF(C98<=Parameters!$C$3,C98,Parameters!$C$3))","v":0},{"$f":"IF(C98=\"\",\"\",IF(F98<Parameters!$C$4,\"\",(F98-Parameters!$C$4)*D98))","v":""},null,{"$f":"IF(H98=\"\",\"\",YEAR(+Informatie!$C$1)-YEAR(H98))","v":""},"",{"$f":"IF(G98=\"\",\"\",ROUND(G98*Parameters!$C$12,2))","v":""},{"$f":"IF(G98=\"\",\"\",IF(YEAR(Informatie!$C$1)=2015,ROUND(G98*Parameters!$J$27,2),ROUND(G98*VLOOKUP('Overzicht deelnemers'!I98,Parameters!$E$4:$G$49,2,FALSE),2)))","v":""},{"$f":"IF(G98=\"\",\"\",IF(YEAR(Informatie!$C$1)=2015,ROUND(L98*Parameters!$C$20,2),G98*Parameters!$J$27))","v":""},"",{"$f":"IF(G98=\"\",\"\",ROUND(G98*Parameters!$C$16,2))","v":""},{"$f":"IF(G98=\"\",\"\",ROUND(G98*VLOOKUP(J98,Parameters!$E$3:$F$49,2,FALSE),2))","v":""},{"$f":"IF(G98=\"\",\"\",ROUND(G98*Parameters!$J$66,2))","v":""},"",{"$f":"IF(G98=\"\",\"\",ROUND(G98*Parameters!$C$13,2))","v":""},{"$f":"IF(G98=\"\",\"\",IF(YEAR(Informatie!$C$1)=2015,ROUND(G98*Parameters!J$44,2),ROUND(G98*VLOOKUP('Overzicht deelnemers'!I98,Parameters!$E$4:$G$49,3,FALSE),2)))","v":""},{"$f":"IF(G98=\"\",\"\",IF(YEAR(Informatie!$C$1)=2015,ROUND(T98*Parameters!$C$20,2),ROUND(G98*Parameters!$J$44,2)))","v":""},"",{"$f":"IF(G98=\"\",\"\",ROUND(G98*Parameters!C$17,2))","v":""},{"$f":"IF(G98=\"\",\"\",ROUND(G98*VLOOKUP(J98,Parameters!E$4:G$49,3),2))","v":""},{"$f":"IF(G98=\"\",\"\",ROUND(G98*Parameters!J$83,2))","v":""},""]
[null,null,null,null,0,{"$f":"IF(C99=\"\",0,IF(C99<=Parameters!$C$3,C99,Parameters!$C$3))","v":0},{"$f":"IF(C99=\"\",\"\",IF(F99<Parameters!$C$4,\"\",(F99-Parameters!$C$4)*D99))","v":""},null,{"$f":"IF(H99=\"\",\"\",YEAR(+Informatie!$C$1)-YEAR(H99))","v":""},"",{"$f":"IF(G99=\"\",\"\",ROUND(G99*Parameters!$C$12,2))","v":""},{"$f":"IF(G99=\"\",\"\",IF(YEAR(Informatie!$C$1)=2015,ROUND(G99*Parameters!$J$27,2),ROUND(G99*VLOOKUP('Overzicht deelnemers'!I99,Parameters!$E$4:$G$49,2,FALSE),2)))","v":""},{"$f":"IF(G99=\"\",\"\",IF(YEAR(Informatie!$C$1)=2015,ROUND(L99*Parameters!$C$20,2),G99*Parameters!$J$27))","v":""},"",{"$f":"IF(G99=\"\",\"\",ROUND(G99*Parameters!$C$16,2))","v":""},{"$f":"IF(G99=\"\",\"\",ROUND(G99*VLOOKUP(J99,Parameters!$E$3:$F$49,2,FALSE),2))","v":""},{"$f":"IF(G99=\"\",\"\",ROUND(G99*Parameters!$J$66,2))","v":""},"",{"$f":"IF(G99=\"\",\"\",ROUND(G99*Parameters!$C$13,2))","v":""},{"$f":"IF(G99=\"\",\"\",IF(YEAR(Informatie!$C$1)=2015,ROUND(G99*Parameters!J$44,2),ROUND(G99*VLOOKUP('Overzicht deelnemers'!I99,Parameters!$E$4:$G$49,3,FALSE),2)))","v":""},{"$f":"IF(G99=\"\",\"\",IF(YEAR(Informatie!$C$1)=2015,ROUND(T99*Parameters!$C$20,2),ROUND(G99*Parameters!$J$44,2)))","v":""},"",{"$f":"IF(G99=\"\",\"\",ROUND(G99*Parameters!C$17,2))","v":""},{"$f":"IF(G99=\"\",\"\",ROUND(G99*VLOOKUP(J99,Parameters!E$4:G$49,3),2))","v":""},{"$f":"IF(G99=\"\",\"\",ROUND(G99*Parameters!J$83,2))","v":""},""]
[null,null,null,null,0,{"$f":"IF(C100=\"\",0,IF(C100<=Parameters!$C$3,C100,Parameters!$C$3))","v":0},{"$f":"IF(C100=\"\",\"\",IF(F100<Parameters!$C$4,\"\",(F100-Parameters!$C$4)*D100))","v":""},null,{"$f":"IF(H100=\"\",\"\",YEAR(+Informatie!$C$1)-YEAR(H100))","v":""},"",{"$f":"IF(G100=\"\",\"\",ROUND(G100*Parameters!$C$12,2))","v":""},{"$f":"IF(G100=\"\",\"\",IF(YEAR(Informatie!$C$1)=2015,ROUND(G100*Parameters!$J$27,2),ROUND(G100*VLOOKUP('Overzicht deelnemers'!I100,Parameters!$E$4:$G$49,2,FALSE),2)))","v":""},{"$f":"IF(G100=\"\",\"\",IF(YEAR(Informatie!$C$1)=2015,ROUND(L100*Parameters!$C$20,2),G100*Parameters!$J$27))","v":""},"",{"$f":"IF(G100=\"\",\"\",ROUND(G100*Parameters!$C$16,2))","v":""},{"$f":"IF(G100=\"\",\"\",ROUND(G100*VLOOKUP(J100,Parameters!$E$3:$F$49,2,FALSE),2))","v":""},{"$f":"IF(G100=\"\",\"\",ROUND(G100*Parameters!$J$66,2))","v":""},"",{"$f":"IF(G100=\"\",\"\",ROUND(G100*Parameters!$C$13,2))","v":""},{"$f":"IF(G100=\"\",\"\",IF(YEAR(Informatie!$C$1)=2015,ROUND(G100*Parameters!J$44,2),ROUND(G100*VLOOKUP('Overzicht deelnemers'!I100,Parameters!$E$4:$G$49,3,FALSE),2)))","v":""},{"$f":"IF(G100=\"\",\"\",IF(YEAR(Informatie!$C$1)=2015,ROUND(T100*Parameters!$C$20,2),ROUND(G100*Parameters!$J$44,2)))","v":""},"",{"$f":"IF(G100=\"\",\"\",ROUND(G100*Parameters!C$17,2))","v":""},{"$f":"IF(G100=\"\",\"\",ROUND(G100*VLOOKUP(J100,Parameters!E$4:G$49,3),2))","v":""},{"$f":"IF(G100=\"\",\"\",ROUND(G100*Parameters!J$83,2))","v":""},""]
[null,null,null,null,0,{"$f":"IF(C101=\"\",0,IF(C101<=Parameters!$C$3,C101,Parameters!$C$3))","v":0},{"$f":"IF(C101=\"\",\"\",IF(F101<Parameters!$C$4,\"\",(F101-Parameters!$C$4)*D101))","v":""},null,{"$f":"IF(H101=\"\",\"\",YEAR(+Informatie!$C$1)-YEAR(H101))","v":""},"",{"$f":"IF(G101=\"\",\"\",ROUND(G101*Parameters!$C$12,2))","v":""},{"$f":"IF(G101=\"\",\"\",IF(YEAR(Informatie!$C$1)=2015,ROUND(G101*Parameters!$J$27,2),ROUND(G101*VLOOKUP('Overzicht deelnemers'!I101,Parameters!$E$4:$G$49,2,FALSE),2)))","v":""},{"$f":"IF(G101=\"\",\"\",IF(YEAR(Informatie!$C$1)=2015,ROUND(L101*Parameters!$C$20,2),G101*Parameters!$J$27))","v":""},"",{"$f":"IF(G101=\"\",\"\",ROUND(G101*Parameters!$C$16,2))","v":""},{"$f":"IF(G101=\"\",\"\",ROUND(G101*VLOOKUP(J101,Parameters!$E$3:$F$49,2,FALSE),2))","v":""},{"$f":"IF(G101=\"\",\"\",ROUND(G101*Parameters!$J$66,2))","v":""},"",{"$f":"IF(G101=\"\",\"\",ROUND(G101*Parameters!$C$13,2))","v":""},{"$f":"IF(G101=\"\",\"\",IF(YEAR(Informatie!$C$1)=2015,ROUND(G101*Parameters!J$44,2),ROUND(G101*VLOOKUP('Overzicht deelnemers'!I101,Parameters!$E$4:$G$49,3,FALSE),2)))","v":""},{"$f":"IF(G101=\"\",\"\",IF(YEAR(Informatie!$C$1)=2015,ROUND(T101*Parameters!$C$20,2),ROUND(G101*Parameters!$J$44,2)))","v":""},"",{"$f":"IF(G101=\"\",\"\",ROUND(G101*Parameters!C$17,2))","v":""},{"$f":"IF(G101=\"\",\"\",ROUND(G101*VLOOKUP(J101,Parameters!E$4:G$49,3),2))","v":""},{"$f":"IF(G101=\"\",\"\",ROUND(G101*Parameters!J$83,2))","v":""},""]
[null,null,null,null,0,{"$f":"IF(C102=\"\",0,IF(C102<=Parameters!$C$3,C102,Parameters!$C$3))","v":0},{"$f":"IF(C102=\"\",\"\",IF(F102<Parameters!$C$4,\"\",(F102-Parameters!$C$4)*D102))","v":""},null,{"$f":"IF(H102=\"\",\"\",YEAR(+Informatie!$C$1)-YEAR(H102))","v":""},"",{"$f":"IF(G102=\"\",\"\",ROUND(G102*Parameters!$C$12,2))","v":""},{"$f":"IF(G102=\"\",\"\",IF(YEAR(Informatie!$C$1)=2015,ROUND(G102*Parameters!$J$27,2),ROUND(G102*VLOOKUP('Overzicht deelnemers'!I102,Parameters!$E$4:$G$49,2,FALSE),2)))","v":""},{"$f":"IF(G102=\"\",\"\",IF(YEAR(Informatie!$C$1)=2015,ROUND(L102*Parameters!$C$20,2),G102*Parameters!$J$27))","v":""},"",{"$f":"IF(G102=\"\",\"\",ROUND(G102*Parameters!$C$16,2))","v":""},{"$f":"IF(G102=\"\",\"\",ROUND(G102*VLOOKUP(J102,Parameters!$E$3:$F$49,2,FALSE),2))","v":""},{"$f":"IF(G102=\"\",\"\",ROUND(G102*Parameters!$J$66,2))","v":""},"",{"$f":"IF(G102=\"\",\"\",ROUND(G102*Parameters!$C$13,2))","v":""},{"$f":"IF(G102=\"\",\"\",IF(YEAR(Informatie!$C$1)=2015,ROUND(G102*Parameters!J$44,2),ROUND(G102*VLOOKUP('Overzicht deelnemers'!I102,Parameters!$E$4:$G$49,3,FALSE),2)))","v":""},{"$f":"IF(G102=\"\",\"\",IF(YEAR(Informatie!$C$1)=2015,ROUND(T102*Parameters!$C$20,2),ROUND(G102*Parameters!$J$44,2)))","v":""},"",{"$f":"IF(G102=\"\",\"\",ROUND(G102*Parameters!C$17,2))","v":""},{"$f":"IF(G102=\"\",\"\",ROUND(G102*VLOOKUP(J102,Parameters!E$4:G$49,3),2))","v":""},{"$f":"IF(G102=\"\",\"\",ROUND(G102*Parameters!J$83,2))","v":""},""]
[null,null,null,null,0,{"$f":"IF(C103=\"\",0,IF(C103<=Parameters!$C$3,C103,Parameters!$C$3))","v":0},{"$f":"IF(C103=\"\",\"\",IF(F103<Parameters!$C$4,\"\",(F103-Parameters!$C$4)*D103))","v":""},null,{"$f":"IF(H103=\"\",\"\",YEAR(+Informatie!$C$1)-YEAR(H103))","v":""},"",{"$f":"IF(G103=\"\",\"\",ROUND(G103*Parameters!$C$12,2))","v":""},{"$f":"IF(G103=\"\",\"\",IF(YEAR(Informatie!$C$1)=2015,ROUND(G103*Parameters!$J$27,2),ROUND(G103*VLOOKUP('Overzicht deelnemers'!I103,Parameters!$E$4:$G$49,2,FALSE),2)))","v":""},{"$f":"IF(G103=\"\",\"\",IF(YEAR(Informatie!$C$1)=2015,ROUND(L103*Parameters!$C$20,2),G103*Parameters!$J$27))","v":""},"",{"$f":"IF(G103=\"\",\"\",ROUND(G103*Parameters!$C$16,2))","v":""},{"$f":"IF(G103=\"\",\"\",ROUND(G103*VLOOKUP(J103,Parameters!$E$3:$F$49,2,FALSE),2))","v":""},{"$f":"IF(G103=\"\",\"\",ROUND(G103*Parameters!$J$66,2))","v":""},"",{"$f":"IF(G103=\"\",\"\",ROUND(G103*Parameters!$C$13,2))","v":""},{"$f":"IF(G103=\"\",\"\",IF(YEAR(Informatie!$C$1)=2015,ROUND(G103*Parameters!J$44,2),ROUND(G103*VLOOKUP('Overzicht deelnemers'!I103,Parameters!$E$4:$G$49,3,FALSE),2)))","v":""},{"$f":"IF(G103=\"\",\"\",IF(YEAR(Informatie!$C$1)=2015,ROUND(T103*Parameters!$C$20,2),ROUND(G103*Parameters!$J$44,2)))","v":""},"",{"$f":"IF(G103=\"\",\"\",ROUND(G103*Parameters!C$17,2))","v":""},{"$f":"IF(G103=\"\",\"\",ROUND(G103*VLOOKUP(J103,Parameters!E$4:G$49,3),2))","v":""},{"$f":"IF(G103=\"\",\"\",ROUND(G103*Parameters!J$83,2))","v":""},""]
[null,null,null,null,0,{"$f":"IF(C104=\"\",0,IF(C104<=Parameters!$C$3,C104,Parameters!$C$3))","v":0},{"$f":"IF(C104=\"\",\"\",IF(F104<Parameters!$C$4,\"\",(F104-Parameters!$C$4)*D104))","v":""},null,{"$f":"IF(H104=\"\",\"\",YEAR(+Informatie!$C$1)-YEAR(H104))","v":""},"",{"$f":"IF(G104=\"\",\"\",ROUND(G104*Parameters!$C$12,2))","v":""},{"$f":"IF(G104=\"\",\"\",IF(YEAR(Informatie!$C$1)=2015,ROUND(G104*Parameters!$J$27,2),ROUND(G104*VLOOKUP('Overzicht deelnemers'!I104,Parameters!$E$4:$G$49,2,FALSE),2)))","v":""},{"$f":"IF(G104=\"\",\"\",IF(YEAR(Informatie!$C$1)=2015,ROUND(L104*Parameters!$C$20,2),G104*Parameters!$J$27))","v":""},"",{"$f":"IF(G104=\"\",\"\",ROUND(G104*Parameters!$C$16,2))","v":""},{"$f":"IF(G104=\"\",\"\",ROUND(G104*VLOOKUP(J104,Parameters!$E$3:$F$49,2,FALSE),2))","v":""},{"$f":"IF(G104=\"\",\"\",ROUND(G104*Parameters!$J$66,2))","v":""},"",{"$f":"IF(G104=\"\",\"\",ROUND(G104*Parameters!$C$13,2))","v":""},{"$f":"IF(G104=\"\",\"\",IF(YEAR(Informatie!$C$1)=2015,ROUND(G104*Parameters!J$44,2),ROUND(G104*VLOOKUP('Overzicht deelnemers'!I104,Parameters!$E$4:$G$49,3,FALSE),2)))","v":""},{"$f":"IF(G104=\"\",\"\",IF(YEAR(Informatie!$C$1)=2015,ROUND(T104*Parameters!$C$20,2),ROUND(G104*Parameters!$J$44,2)))","v":""},"",{"$f":"IF(G104=\"\",\"\",ROUND(G104*Parameters!C$17,2))","v":""},{"$f":"IF(G104=\"\",\"\",ROUND(G104*VLOOKUP(J104,Parameters!E$4:G$49,3),2))","v":""},{"$f":"IF(G104=\"\",\"\",ROUND(G104*Parameters!J$83,2))","v":""},""]
[null,null,null,null,0,{"$f":"IF(C105=\"\",0,IF(C105<=Parameters!$C$3,C105,Parameters!$C$3))","v":0},{"$f":"IF(C105=\"\",\"\",IF(F105<Parameters!$C$4,\"\",(F105-Parameters!$C$4)*D105))","v":""},null,{"$f":"IF(H105=\"\",\"\",YEAR(+Informatie!$C$1)-YEAR(H105))","v":""},"",{"$f":"IF(G105=\"\",\"\",ROUND(G105*Parameters!$C$12,2))","v":""},{"$f":"IF(G105=\"\",\"\",IF(YEAR(Informatie!$C$1)=2015,ROUND(G105*Parameters!$J$27,2),ROUND(G105*VLOOKUP('Overzicht deelnemers'!I105,Parameters!$E$4:$G$49,2,FALSE),2)))","v":""},{"$f":"IF(G105=\"\",\"\",IF(YEAR(Informatie!$C$1)=2015,ROUND(L105*Parameters!$C$20,2),G105*Parameters!$J$27))","v":""},"",{"$f":"IF(G105=\"\",\"\",ROUND(G105*Parameters!$C$16,2))","v":""},{"$f":"IF(G105=\"\",\"\",ROUND(G105*VLOOKUP(J105,Parameters!$E$3:$F$49,2,FALSE),2))","v":""},{"$f":"IF(G105=\"\",\"\",ROUND(G105*Parameters!$J$66,2))","v":""},"",{"$f":"IF(G105=\"\",\"\",ROUND(G105*Parameters!$C$13,2))","v":""},{"$f":"IF(G105=\"\",\"\",IF(YEAR(Informatie!$C$1)=2015,ROUND(G105*Parameters!J$44,2),ROUND(G105*VLOOKUP('Overzicht deelnemers'!I105,Parameters!$E$4:$G$49,3,FALSE),2)))","v":""},{"$f":"IF(G105=\"\",\"\",IF(YEAR(Informatie!$C$1)=2015,ROUND(T105*Parameters!$C$20,2),ROUND(G105*Parameters!$J$44,2)))","v":""},"",{"$f":"IF(G105=\"\",\"\",ROUND(G105*Parameters!C$17,2))","v":""},{"$f":"IF(G105=\"\",\"\",ROUND(G105*VLOOKUP(J105,Parameters!E$4:G$49,3),2))","v":""},{"$f":"IF(G105=\"\",\"\",ROUND(G105*Parameters!J$83,2))","v":""},""]
[null,null,null,null,0,{"$f":"IF(C106=\"\",0,IF(C106<=Parameters!$C$3,C106,Parameters!$C$3))","v":0},{"$f":"IF(C106=\"\",\"\",IF(F106<Parameters!$C$4,\"\",(F106-Parameters!$C$4)*D106))","v":""},null,{"$f":"IF(H106=\"\",\"\",YEAR(+Informatie!$C$1)-YEAR(H106))","v":""},"",{"$f":"IF(G106=\"\",\"\",ROUND(G106*Parameters!$C$12,2))","v":""},{"$f":"IF(G106=\"\",\"\",IF(YEAR(Informatie!$C$1)=2015,ROUND(G106*Parameters!$J$27,2),ROUND(G106*VLOOKUP('Overzicht deelnemers'!I106,Parameters!$E$4:$G$49,2,FALSE),2)))","v":""},{"$f":"IF(G106=\"\",\"\",IF(YEAR(Informatie!$C$1)=2015,ROUND(L106*Parameters!$C$20,2),G106*Parameters!$J$27))","v":""},"",{"$f":"IF(G106=\"\",\"\",ROUND(G106*Parameters!$C$16,2))","v":""},{"$f":"IF(G106=\"\",\"\",ROUND(G106*VLOOKUP(J106,Parameters!$E$3:$F$49,2,FALSE),2))","v":""},{"$f":"IF(G106=\"\",\"\",ROUND(G106*Parameters!$J$66,2))","v":""},"",{"$f":"IF(G106=\"\",\"\",ROUND(G106*Parameters!$C$13,2))","v":""},{"$f":"IF(G106=\"\",\"\",IF(YEAR(Informatie!$C$1)=2015,ROUND(G106*Parameters!J$44,2),ROUND(G106*VLOOKUP('Overzicht deelnemers'!I106,Parameters!$E$4:$G$49,3,FALSE),2)))","v":""},{"$f":"IF(G106=\"\",\"\",IF(YEAR(Informatie!$C$1)=2015,ROUND(T106*Parameters!$C$20,2),ROUND(G106*Parameters!$J$44,2)))","v":""},"",{"$f":"IF(G106=\"\",\"\",ROUND(G106*Parameters!C$17,2))","v":""},{"$f":"IF(G106=\"\",\"\",ROUND(G106*VLOOKUP(J106,Parameters!E$4:G$49,3),2))","v":""},{"$f":"IF(G106=\"\",\"\",ROUND(G106*Parameters!J$83,2))","v":""},""]
[null,null,null,null,0,{"$f":"IF(C107=\"\",0,IF(C107<=Parameters!$C$3,C107,Parameters!$C$3))","v":0},{"$f":"IF(C107=\"\",\"\",IF(F107<Parameters!$C$4,\"\",(F107-Parameters!$C$4)*D107))","v":""},null,{"$f":"IF(H107=\"\",\"\",YEAR(+Informatie!$C$1)-YEAR(H107))","v":""},"",{"$f":"IF(G107=\"\",\"\",ROUND(G107*Parameters!$C$12,2))","v":""},{"$f":"IF(G107=\"\",\"\",IF(YEAR(Informatie!$C$1)=2015,ROUND(G107*Parameters!$J$27,2),ROUND(G107*VLOOKUP('Overzicht deelnemers'!I107,Parameters!$E$4:$G$49,2,FALSE),2)))","v":""},{"$f":"IF(G107=\"\",\"\",IF(YEAR(Informatie!$C$1)=2015,ROUND(L107*Parameters!$C$20,2),G107*Parameters!$J$27))","v":""},"",{"$f":"IF(G107=\"\",\"\",ROUND(G107*Parameters!$C$16,2))","v":""},{"$f":"IF(G107=\"\",\"\",ROUND(G107*VLOOKUP(J107,Parameters!$E$3:$F$49,2,FALSE),2))","v":""},{"$f":"IF(G107=\"\",\"\",ROUND(G107*Parameters!$J$66,2))","v":""},"",{"$f":"IF(G107=\"\",\"\",ROUND(G107*Parameters!$C$13,2))","v":""},{"$f":"IF(G107=\"\",\"\",IF(YEAR(Informatie!$C$1)=2015,ROUND(G107*Parameters!J$44,2),ROUND(G107*VLOOKUP('Overzicht deelnemers'!I107,Parameters!$E$4:$G$49,3,FALSE),2)))","v":""},{"$f":"IF(G107=\"\",\"\",IF(YEAR(Informatie!$C$1)=2015,ROUND(T107*Parameters!$C$20,2),ROUND(G107*Parameters!$J$44,2)))","v":""},"",{"$f":"IF(G107=\"\",\"\",ROUND(G107*Parameters!C$17,2))","v":""},{"$f":"IF(G107=\"\",\"\",ROUND(G107*VLOOKUP(J107,Parameters!E$4:G$49,3),2))","v":""},{"$f":"IF(G107=\"\",\"\",ROUND(G107*Parameters!J$83,2))","v":""},""]
[null,null,null,null,0,{"$f":"IF(C108=\"\",0,IF(C108<=Parameters!$C$3,C108,Parameters!$C$3))","v":0},{"$f":"IF(C108=\"\",\"\",IF(F108<Parameters!$C$4,\"\",(F108-Parameters!$C$4)*D108))","v":""},null,{"$f":"IF(H108=\"\",\"\",YEAR(+Informatie!$C$1)-YEAR(H108))","v":""},"",{"$f":"IF(G108=\"\",\"\",ROUND(G108*Parameters!$C$12,2))","v":""},{"$f":"IF(G108=\"\",\"\",IF(YEAR(Informatie!$C$1)=2015,ROUND(G108*Parameters!$J$27,2),ROUND(G108*VLOOKUP('Overzicht deelnemers'!I108,Parameters!$E$4:$G$49,2,FALSE),2)))","v":""},{"$f":"IF(G108=\"\",\"\",IF(YEAR(Informatie!$C$1)=2015,ROUND(L108*Parameters!$C$20,2),G108*Parameters!$J$27))","v":""},"",{"$f":"IF(G108=\"\",\"\",ROUND(G108*Parameters!$C$16,2))","v":""},{"$f":"IF(G108=\"\",\"\",ROUND(G108*VLOOKUP(J108,Parameters!$E$3:$F$49,2,FALSE),2))","v":""},{"$f":"IF(G108=\"\",\"\",ROUND(G108*Parameters!$J$66,2))","v":""},"",{"$f":"IF(G108=\"\",\"\",ROUND(G108*Parameters!$C$13,2))","v":""},{"$f":"IF(G108=\"\",\"\",IF(YEAR(Informatie!$C$1)=2015,ROUND(G108*Parameters!J$44,2),ROUND(G108*VLOOKUP('Overzicht deelnemers'!I108,Parameters!$E$4:$G$49,3,FALSE),2)))","v":""},{"$f":"IF(G108=\"\",\"\",IF(YEAR(Informatie!$C$1)=2015,ROUND(T108*Parameters!$C$20,2),ROUND(G108*Parameters!$J$44,2)))","v":""},"",{"$f":"IF(G108=\"\",\"\",ROUND(G108*Parameters!C$17,2))","v":""},{"$f":"IF(G108=\"\",\"\",ROUND(G108*VLOOKUP(J108,Parameters!E$4:G$49,3),2))","v":""},{"$f":"IF(G108=\"\",\"\",ROUND(G108*Parameters!J$83,2))","v":""},""]
[null,null,null,null,0,{"$f":"IF(C109=\"\",0,IF(C109<=Parameters!$C$3,C109,Parameters!$C$3))","v":0},{"$f":"IF(C109=\"\",\"\",IF(F109<Parameters!$C$4,\"\",(F109-Parameters!$C$4)*D109))","v":""},null,{"$f":"IF(H109=\"\",\"\",YEAR(+Informatie!$C$1)-YEAR(H109))","v":""},"",{"$f":"IF(G109=\"\",\"\",ROUND(G109*Parameters!$C$12,2))","v":""},{"$f":"IF(G109=\"\",\"\",IF(YEAR(Informatie!$C$1)=2015,ROUND(G109*Parameters!$J$27,2),ROUND(G109*VLOOKUP('Overzicht deelnemers'!I109,Parameters!$E$4:$G$49,2,FALSE),2)))","v":""},{"$f":"IF(G109=\"\",\"\",IF(YEAR(Informatie!$C$1)=2015,ROUND(L109*Parameters!$C$20,2),G109*Parameters!$J$27))","v":""},"",{"$f":"IF(G109=\"\",\"\",ROUND(G109*Parameters!$C$16,2))","v":""},{"$f":"IF(G109=\"\",\"\",ROUND(G109*VLOOKUP(J109,Parameters!$E$3:$F$49,2,FALSE),2))","v":""},{"$f":"IF(G109=\"\",\"\",ROUND(G109*Parameters!$J$66,2))","v":""},"",{"$f":"IF(G109=\"\",\"\",ROUND(G109*Parameters!$C$13,2))","v":""},{"$f":"IF(G109=\"\",\"\",IF(YEAR(Informatie!$C$1)=2015,ROUND(G109*Parameters!J$44,2),ROUND(G109*VLOOKUP('Overzicht deelnemers'!I109,Parameters!$E$4:$G$49,3,FALSE),2)))","v":""},{"$f":"IF(G109=\"\",\"\",IF(YEAR(Informatie!$C$1)=2015,ROUND(T109*Parameters!$C$20,2),ROUND(G109*Parameters!$J$44,2)))","v":""},"",{"$f":"IF(G109=\"\",\"\",ROUND(G109*Parameters!C$17,2))","v":""},{"$f":"IF(G109=\"\",\"\",ROUND(G109*VLOOKUP(J109,Parameters!E$4:G$49,3),2))","v":""},{"$f":"IF(G109=\"\",\"\",ROUND(G109*Parameters!J$83,2))","v":""},""]
[null,null,null,null,0,{"$f":"IF(C110=\"\",0,IF(C110<=Parameters!$C$3,C110,Parameters!$C$3))","v":0},{"$f":"IF(C110=\"\",\"\",IF(F110<Parameters!$C$4,\"\",(F110-Parameters!$C$4)*D110))","v":""},null,{"$f":"IF(H110=\"\",\"\",YEAR(+Informatie!$C$1)-YEAR(H110))","v":""},"",{"$f":"IF(G110=\"\",\"\",ROUND(G110*Parameters!$C$12,2))","v":""},{"$f":"IF(G110=\"\",\"\",IF(YEAR(Informatie!$C$1)=2015,ROUND(G110*Parameters!$J$27,2),ROUND(G110*VLOOKUP('Overzicht deelnemers'!I110,Parameters!$E$4:$G$49,2,FALSE),2)))","v":""},{"$f":"IF(G110=\"\",\"\",IF(YEAR(Informatie!$C$1)=2015,ROUND(L110*Parameters!$C$20,2),G110*Parameters!$J$27))","v":""},"",{"$f":"IF(G110=\"\",\"\",ROUND(G110*Parameters!$C$16,2))","v":""},{"$f":"IF(G110=\"\",\"\",ROUND(G110*VLOOKUP(J110,Parameters!$E$3:$F$49,2,FALSE),2))","v":""},{"$f":"IF(G110=\"\",\"\",ROUND(G110*Parameters!$J$66,2))","v":""},"",{"$f":"IF(G110=\"\",\"\",ROUND(G110*Parameters!$C$13,2))","v":""},{"$f":"IF(G110=\"\",\"\",IF(YEAR(Informatie!$C$1)=2015,ROUND(G110*Parameters!J$44,2),ROUND(G110*VLOOKUP('Overzicht deelnemers'!I110,Parameters!$E$4:$G$49,3,FALSE),2)))","v":""},{"$f":"IF(G110=\"\",\"\",IF(YEAR(Informatie!$C$1)=2015,ROUND(T110*Parameters!$C$20,2),ROUND(G110*Parameters!$J$44,2)))","v":""},"",{"$f":"IF(G110=\"\",\"\",ROUND(G110*Parameters!C$17,2))","v":""},{"$f":"IF(G110=\"\",\"\",ROUND(G110*VLOOKUP(J110,Parameters!E$4:G$49,3),2))","v":""},{"$f":"IF(G110=\"\",\"\",ROUND(G110*Parameters!J$83,2))","v":""},""]
[null,null,null,null,0,{"$f":"IF(C111=\"\",0,IF(C111<=Parameters!$C$3,C111,Parameters!$C$3))","v":0},{"$f":"IF(C111=\"\",\"\",IF(F111<Parameters!$C$4,\"\",(F111-Parameters!$C$4)*D111))","v":""},null,{"$f":"IF(H111=\"\",\"\",YEAR(+Informatie!$C$1)-YEAR(H111))","v":""},"",{"$f":"IF(G111=\"\",\"\",ROUND(G111*Parameters!$C$12,2))","v":""},{"$f":"IF(G111=\"\",\"\",IF(YEAR(Informatie!$C$1)=2015,ROUND(G111*Parameters!$J$27,2),ROUND(G111*VLOOKUP('Overzicht deelnemers'!I111,Parameters!$E$4:$G$49,2,FALSE),2)))","v":""},{"$f":"IF(G111=\"\",\"\",IF(YEAR(Informatie!$C$1)=2015,ROUND(L111*Parameters!$C$20,2),G111*Parameters!$J$27))","v":""},"",{"$f":"IF(G111=\"\",\"\",ROUND(G111*Parameters!$C$16,2))","v":""},{"$f":"IF(G111=\"\",\"\",ROUND(G111*VLOOKUP(J111,Parameters!$E$3:$F$49,2,FALSE),2))","v":""},{"$f":"IF(G111=\"\",\"\",ROUND(G111*Parameters!$J$66,2))","v":""},"",{"$f":"IF(G111=\"\",\"\",ROUND(G111*Parameters!$C$13,2))","v":""},{"$f":"IF(G111=\"\",\"\",IF(YEAR(Informatie!$C$1)=2015,ROUND(G111*Parameters!J$44,2),ROUND(G111*VLOOKUP('Overzicht deelnemers'!I111,Parameters!$E$4:$G$49,3,FALSE),2)))","v":""},{"$f":"IF(G111=\"\",\"\",IF(YEAR(Informatie!$C$1)=2015,ROUND(T111*Parameters!$C$20,2),ROUND(G111*Parameters!$J$44,2)))","v":""},"",{"$f":"IF(G111=\"\",\"\",ROUND(G111*Parameters!C$17,2))","v":""},{"$f":"IF(G111=\"\",\"\",ROUND(G111*VLOOKUP(J111,Parameters!E$4:G$49,3),2))","v":""},{"$f":"IF(G111=\"\",\"\",ROUND(G111*Parameters!J$83,2))","v":""},""]
[null,null,null,null,0,{"$f":"IF(C112=\"\",0,IF(C112<=Parameters!$C$3,C112,Parameters!$C$3))","v":0},{"$f":"IF(C112=\"\",\"\",IF(F112<Parameters!$C$4,\"\",(F112-Parameters!$C$4)*D112))","v":""},null,{"$f":"IF(H112=\"\",\"\",YEAR(+Informatie!$C$1)-YEAR(H112))","v":""},"",{"$f":"IF(G112=\"\",\"\",ROUND(G112*Parameters!$C$12,2))","v":""},{"$f":"IF(G112=\"\",\"\",IF(YEAR(Informatie!$C$1)=2015,ROUND(G112*Parameters!$J$27,2),ROUND(G112*VLOOKUP('Overzicht deelnemers'!I112,Parameters!$E$4:$G$49,2,FALSE),2)))","v":""},{"$f":"IF(G112=\"\",\"\",IF(YEAR(Informatie!$C$1)=2015,ROUND(L112*Parameters!$C$20,2),G112*Parameters!$J$27))","v":""},"",{"$f":"IF(G112=\"\",\"\",ROUND(G112*Parameters!$C$16,2))","v":""},{"$f":"IF(G112=\"\",\"\",ROUND(G112*VLOOKUP(J112,Parameters!$E$3:$F$49,2,FALSE),2))","v":""},{"$f":"IF(G112=\"\",\"\",ROUND(G112*Parameters!$J$66,2))","v":""},"",{"$f":"IF(G112=\"\",\"\",ROUND(G112*Parameters!$C$13,2))","v":""},{"$f":"IF(G112=\"\",\"\",IF(YEAR(Informatie!$C$1)=2015,ROUND(G112*Parameters!J$44,2),ROUND(G112*VLOOKUP('Overzicht deelnemers'!I112,Parameters!$E$4:$G$49,3,FALSE),2)))","v":""},{"$f":"IF(G112=\"\",\"\",IF(YEAR(Informatie!$C$1)=2015,ROUND(T112*Parameters!$C$20,2),ROUND(G112*Parameters!$J$44,2)))","v":""},"",{"$f":"IF(G112=\"\",\"\",ROUND(G112*Parameters!C$17,2))","v":""},{"$f":"IF(G112=\"\",\"\",ROUND(G112*VLOOKUP(J112,Parameters!E$4:G$49,3),2))","v":""},{"$f":"IF(G112=\"\",\"\",ROUND(G112*Parameters!J$83,2))","v":""},""]
[null,null,null,null,0,{"$f":"IF(C113=\"\",0,IF(C113<=Parameters!$C$3,C113,Parameters!$C$3))","v":0},{"$f":"IF(C113=\"\",\"\",IF(F113<Parameters!$C$4,\"\",(F113-Parameters!$C$4)*D113))","v":""},null,{"$f":"IF(H113=\"\",\"\",YEAR(+Informatie!$C$1)-YEAR(H113))","v":""},"",{"$f":"IF(G113=\"\",\"\",ROUND(G113*Parameters!$C$12,2))","v":""},{"$f":"IF(G113=\"\",\"\",IF(YEAR(Informatie!$C$1)=2015,ROUND(G113*Parameters!$J$27,2),ROUND(G113*VLOOKUP('Overzicht deelnemers'!I113,Parameters!$E$4:$G$49,2,FALSE),2)))","v":""},{"$f":"IF(G113=\"\",\"\",IF(YEAR(Informatie!$C$1)=2015,ROUND(L113*Parameters!$C$20,2),G113*Parameters!$J$27))","v":""},"",{"$f":"IF(G113=\"\",\"\",ROUND(G113*Parameters!$C$16,2))","v":""},{"$f":"IF(G113=\"\",\"\",ROUND(G113*VLOOKUP(J113,Parameters!$E$3:$F$49,2,FALSE),2))","v":""},{"$f":"IF(G113=\"\",\"\",ROUND(G113*Parameters!$J$66,2))","v":""},"",{"$f":"IF(G113=\"\",\"\",ROUND(G113*Parameters!$C$13,2))","v":""},{"$f":"IF(G113=\"\",\"\",IF(YEAR(Informatie!$C$1)=2015,ROUND(G113*Parameters!J$44,2),ROUND(G113*VLOOKUP('Overzicht deelnemers'!I113,Parameters!$E$4:$G$49,3,FALSE),2)))","v":""},{"$f":"IF(G113=\"\",\"\",IF(YEAR(Informatie!$C$1)=2015,ROUND(T113*Parameters!$C$20,2),ROUND(G113*Parameters!$J$44,2)))","v":""},"",{"$f":"IF(G113=\"\",\"\",ROUND(G113*Parameters!C$17,2))","v":""},{"$f":"IF(G113=\"\",\"\",ROUND(G113*VLOOKUP(J113,Parameters!E$4:G$49,3),2))","v":""},{"$f":"IF(G113=\"\",\"\",ROUND(G113*Parameters!J$83,2))","v":""},""]
[null,null,null,null,0,{"$f":"IF(C114=\"\",0,IF(C114<=Parameters!$C$3,C114,Parameters!$C$3))","v":0},{"$f":"IF(C114=\"\",\"\",IF(F114<Parameters!$C$4,\"\",(F114-Parameters!$C$4)*D114))","v":""},null,{"$f":"IF(H114=\"\",\"\",YEAR(+Informatie!$C$1)-YEAR(H114))","v":""},"",{"$f":"IF(G114=\"\",\"\",ROUND(G114*Parameters!$C$12,2))","v":""},{"$f":"IF(G114=\"\",\"\",IF(YEAR(Informatie!$C$1)=2015,ROUND(G114*Parameters!$J$27,2),ROUND(G114*VLOOKUP('Overzicht deelnemers'!I114,Parameters!$E$4:$G$49,2,FALSE),2)))","v":""},{"$f":"IF(G114=\"\",\"\",IF(YEAR(Informatie!$C$1)=2015,ROUND(L114*Parameters!$C$20,2),G114*Parameters!$J$27))","v":""},"",{"$f":"IF(G114=\"\",\"\",ROUND(G114*Parameters!$C$16,2))","v":""},{"$f":"IF(G114=\"\",\"\",ROUND(G114*VLOOKUP(J114,Parameters!$E$3:$F$49,2,FALSE),2))","v":""},{"$f":"IF(G114=\"\",\"\",ROUND(G114*Parameters!$J$66,2))","v":""},"",{"$f":"IF(G114=\"\",\"\",ROUND(G114*Parameters!$C$13,2))","v":""},{"$f":"IF(G114=\"\",\"\",IF(YEAR(Informatie!$C$1)=2015,ROUND(G114*Parameters!J$44,2),ROUND(G114*VLOOKUP('Overzicht deelnemers'!I114,Parameters!$E$4:$G$49,3,FALSE),2)))","v":""},{"$f":"IF(G114=\"\",\"\",IF(YEAR(Informatie!$C$1)=2015,ROUND(T114*Parameters!$C$20,2),ROUND(G114*Parameters!$J$44,2)))","v":""},"",{"$f":"IF(G114=\"\",\"\",ROUND(G114*Parameters!C$17,2))","v":""},{"$f":"IF(G114=\"\",\"\",ROUND(G114*VLOOKUP(J114,Parameters!E$4:G$49,3),2))","v":""},{"$f":"IF(G114=\"\",\"\",ROUND(G114*Parameters!J$83,2))","v":""},""]
[null,null,null,null,0,{"$f":"IF(C115=\"\",0,IF(C115<=Parameters!$C$3,C115,Parameters!$C$3))","v":0},{"$f":"IF(C115=\"\",\"\",IF(F115<Parameters!$C$4,\"\",(F115-Parameters!$C$4)*D115))","v":""},null,{"$f":"IF(H115=\"\",\"\",YEAR(+Informatie!$C$1)-YEAR(H115))","v":""},"",{"$f":"IF(G115=\"\",\"\",ROUND(G115*Parameters!$C$12,2))","v":""},{"$f":"IF(G115=\"\",\"\",IF(YEAR(Informatie!$C$1)=2015,ROUND(G115*Parameters!$J$27,2),ROUND(G115*VLOOKUP('Overzicht deelnemers'!I115,Parameters!$E$4:$G$49,2,FALSE),2)))","v":""},{"$f":"IF(G115=\"\",\"\",IF(YEAR(Informatie!$C$1)=2015,ROUND(L115*Parameters!$C$20,2),G115*Parameters!$J$27))","v":""},"",{"$f":"IF(G115=\"\",\"\",ROUND(G115*Parameters!$C$16,2))","v":""},{"$f":"IF(G115=\"\",\"\",ROUND(G115*VLOOKUP(J115,Parameters!$E$3:$F$49,2,FALSE),2))","v":""},{"$f":"IF(G115=\"\",\"\",ROUND(G115*Parameters!$J$66,2))","v":""},"",{"$f":"IF(G115=\"\",\"\",ROUND(G115*Parameters!$C$13,2))","v":""},{"$f":"IF(G115=\"\",\"\",IF(YEAR(Informatie!$C$1)=2015,ROUND(G115*Parameters!J$44,2),ROUND(G115*VLOOKUP('Overzicht deelnemers'!I115,Parameters!$E$4:$G$49,3,FALSE),2)))","v":""},{"$f":"IF(G115=\"\",\"\",IF(YEAR(Informatie!$C$1)=2015,ROUND(T115*Parameters!$C$20,2),ROUND(G115*Parameters!$J$44,2)))","v":""},"",{"$f":"IF(G115=\"\",\"\",ROUND(G115*Parameters!C$17,2))","v":""},{"$f":"IF(G115=\"\",\"\",ROUND(G115*VLOOKUP(J115,Parameters!E$4:G$49,3),2))","v":""},{"$f":"IF(G115=\"\",\"\",ROUND(G115*Parameters!J$83,2))","v":""},""]
[null,null,null,null,0,{"$f":"IF(C116=\"\",0,IF(C116<=Parameters!$C$3,C116,Parameters!$C$3))","v":0},{"$f":"IF(C116=\"\",\"\",IF(F116<Parameters!$C$4,\"\",(F116-Parameters!$C$4)*D116))","v":""},null,{"$f":"IF(H116=\"\",\"\",YEAR(+Informatie!$C$1)-YEAR(H116))","v":""},"",{"$f":"IF(G116=\"\",\"\",ROUND(G116*Parameters!$C$12,2))","v":""},{"$f":"IF(G116=\"\",\"\",IF(YEAR(Informatie!$C$1)=2015,ROUND(G116*Parameters!$J$27,2),ROUND(G116*VLOOKUP('Overzicht deelnemers'!I116,Parameters!$E$4:$G$49,2,FALSE),2)))","v":""},{"$f":"IF(G116=\"\",\"\",IF(YEAR(Informatie!$C$1)=2015,ROUND(L116*Parameters!$C$20,2),G116*Parameters!$J$27))","v":""},"",{"$f":"IF(G116=\"\",\"\",ROUND(G116*Parameters!$C$16,2))","v":""},{"$f":"IF(G116=\"\",\"\",ROUND(G116*VLOOKUP(J116,Parameters!$E$3:$F$49,2,FALSE),2))","v":""},{"$f":"IF(G116=\"\",\"\",ROUND(G116*Parameters!$J$66,2))","v":""},"",{"$f":"IF(G116=\"\",\"\",ROUND(G116*Parameters!$C$13,2))","v":""},{"$f":"IF(G116=\"\",\"\",IF(YEAR(Informatie!$C$1)=2015,ROUND(G116*Parameters!J$44,2),ROUND(G116*VLOOKUP('Overzicht deelnemers'!I116,Parameters!$E$4:$G$49,3,FALSE),2)))","v":""},{"$f":"IF(G116=\"\",\"\",IF(YEAR(Informatie!$C$1)=2015,ROUND(T116*Parameters!$C$20,2),ROUND(G116*Parameters!$J$44,2)))","v":""},"",{"$f":"IF(G116=\"\",\"\",ROUND(G116*Parameters!C$17,2))","v":""},{"$f":"IF(G116=\"\",\"\",ROUND(G116*VLOOKUP(J116,Parameters!E$4:G$49,3),2))","v":""},{"$f":"IF(G116=\"\",\"\",ROUND(G116*Parameters!J$83,2))","v":""},""]
[null,null,null,null,0,{"$f":"IF(C117=\"\",0,IF(C117<=Parameters!$C$3,C117,Parameters!$C$3))","v":0},{"$f":"IF(C117=\"\",\"\",IF(F117<Parameters!$C$4,\"\",(F117-Parameters!$C$4)*D117))","v":""},null,{"$f":"IF(H117=\"\",\"\",YEAR(+Informatie!$C$1)-YEAR(H117))","v":""},"",{"$f":"IF(G117=\"\",\"\",ROUND(G117*Parameters!$C$12,2))","v":""},{"$f":"IF(G117=\"\",\"\",IF(YEAR(Informatie!$C$1)=2015,ROUND(G117*Parameters!$J$27,2),ROUND(G117*VLOOKUP('Overzicht deelnemers'!I117,Parameters!$E$4:$G$49,2,FALSE),2)))","v":""},{"$f":"IF(G117=\"\",\"\",IF(YEAR(Informatie!$C$1)=2015,ROUND(L117*Parameters!$C$20,2),G117*Parameters!$J$27))","v":""},"",{"$f":"IF(G117=\"\",\"\",ROUND(G117*Parameters!$C$16,2))","v":""},{"$f":"IF(G117=\"\",\"\",ROUND(G117*VLOOKUP(J117,Parameters!$E$3:$F$49,2,FALSE),2))","v":""},{"$f":"IF(G117=\"\",\"\",ROUND(G117*Parameters!$J$66,2))","v":""},"",{"$f":"IF(G117=\"\",\"\",ROUND(G117*Parameters!$C$13,2))","v":""},{"$f":"IF(G117=\"\",\"\",IF(YEAR(Informatie!$C$1)=2015,ROUND(G117*Parameters!J$44,2),ROUND(G117*VLOOKUP('Overzicht deelnemers'!I117,Parameters!$E$4:$G$49,3,FALSE),2)))","v":""},{"$f":"IF(G117=\"\",\"\",IF(YEAR(Informatie!$C$1)=2015,ROUND(T117*Parameters!$C$20,2),ROUND(G117*Parameters!$J$44,2)))","v":""},"",{"$f":"IF(G117=\"\",\"\",ROUND(G117*Parameters!C$17,2))","v":""},{"$f":"IF(G117=\"\",\"\",ROUND(G117*VLOOKUP(J117,Parameters!E$4:G$49,3),2))","v":""},{"$f":"IF(G117=\"\",\"\",ROUND(G117*Parameters!J$83,2))","v":""},""]
[null,null,null,null,0,{"$f":"IF(C118=\"\",0,IF(C118<=Parameters!$C$3,C118,Parameters!$C$3))","v":0},{"$f":"IF(C118=\"\",\"\",IF(F118<Parameters!$C$4,\"\",(F118-Parameters!$C$4)*D118))","v":""},null,{"$f":"IF(H118=\"\",\"\",YEAR(+Informatie!$C$1)-YEAR(H118))","v":""},"",{"$f":"IF(G118=\"\",\"\",ROUND(G118*Parameters!$C$12,2))","v":""},{"$f":"IF(G118=\"\",\"\",IF(YEAR(Informatie!$C$1)=2015,ROUND(G118*Parameters!$J$27,2),ROUND(G118*VLOOKUP('Overzicht deelnemers'!I118,Parameters!$E$4:$G$49,2,FALSE),2)))","v":""},{"$f":"IF(G118=\"\",\"\",IF(YEAR(Informatie!$C$1)=2015,ROUND(L118*Parameters!$C$20,2),G118*Parameters!$J$27))","v":""},"",{"$f":"IF(G118=\"\",\"\",ROUND(G118*Parameters!$C$16,2))","v":""},{"$f":"IF(G118=\"\",\"\",ROUND(G118*VLOOKUP(J118,Parameters!$E$3:$F$49,2,FALSE),2))","v":""},{"$f":"IF(G118=\"\",\"\",ROUND(G118*Parameters!$J$66,2))","v":""},"",{"$f":"IF(G118=\"\",\"\",ROUND(G118*Parameters!$C$13,2))","v":""},{"$f":"IF(G118=\"\",\"\",IF(YEAR(Informatie!$C$1)=2015,ROUND(G118*Parameters!J$44,2),ROUND(G118*VLOOKUP('Overzicht deelnemers'!I118,Parameters!$E$4:$G$49,3,FALSE),2)))","v":""},{"$f":"IF(G118=\"\",\"\",IF(YEAR(Informatie!$C$1)=2015,ROUND(T118*Parameters!$C$20,2),ROUND(G118*Parameters!$J$44,2)))","v":""},"",{"$f":"IF(G118=\"\",\"\",ROUND(G118*Parameters!C$17,2))","v":""},{"$f":"IF(G118=\"\",\"\",ROUND(G118*VLOOKUP(J118,Parameters!E$4:G$49,3),2))","v":""},{"$f":"IF(G118=\"\",\"\",ROUND(G118*Parameters!J$83,2))","v":""},""]
[null,null,null,null,0,{"$f":"IF(C119=\"\",0,IF(C119<=Parameters!$C$3,C119,Parameters!$C$3))","v":0},{"$f":"IF(C119=\"\",\"\",IF(F119<Parameters!$C$4,\"\",(F119-Parameters!$C$4)*D119))","v":""},null,{"$f":"IF(H119=\"\",\"\",YEAR(+Informatie!$C$1)-YEAR(H119))","v":""},"",{"$f":"IF(G119=\"\",\"\",ROUND(G119*Parameters!$C$12,2))","v":""},{"$f":"IF(G119=\"\",\"\",IF(YEAR(Informatie!$C$1)=2015,ROUND(G119*Parameters!$J$27,2),ROUND(G119*VLOOKUP('Overzicht deelnemers'!I119,Parameters!$E$4:$G$49,2,FALSE),2)))","v":""},{"$f":"IF(G119=\"\",\"\",IF(YEAR(Informatie!$C$1)=2015,ROUND(L119*Parameters!$C$20,2),G119*Parameters!$J$27))","v":""},"",{"$f":"IF(G119=\"\",\"\",ROUND(G119*Parameters!$C$16,2))","v":""},{"$f":"IF(G119=\"\",\"\",ROUND(G119*VLOOKUP(J119,Parameters!$E$3:$F$49,2,FALSE),2))","v":""},{"$f":"IF(G119=\"\",\"\",ROUND(G119*Parameters!$J$66,2))","v":""},"",{"$f":"IF(G119=\"\",\"\",ROUND(G119*Parameters!$C$13,2))","v":""},{"$f":"IF(G119=\"\",\"\",IF(YEAR(Informatie!$C$1)=2015,ROUND(G119*Parameters!J$44,2),ROUND(G119*VLOOKUP('Overzicht deelnemers'!I119,Parameters!$E$4:$G$49,3,FALSE),2)))","v":""},{"$f":"IF(G119=\"\",\"\",IF(YEAR(Informatie!$C$1)=2015,ROUND(T119*Parameters!$C$20,2),ROUND(G119*Parameters!$J$44,2)))","v":""},"",{"$f":"IF(G119=\"\",\"\",ROUND(G119*Parameters!C$17,2))","v":""},{"$f":"IF(G119=\"\",\"\",ROUND(G119*VLOOKUP(J119,Parameters!E$4:G$49,3),2))","v":""},{"$f":"IF(G119=\"\",\"\",ROUND(G119*Parameters!J$83,2))","v":""},""]
[null,null,null,null,0,{"$f":"IF(C120=\"\",0,IF(C120<=Parameters!$C$3,C120,Parameters!$C$3))","v":0},{"$f":"IF(C120=\"\",\"\",IF(F120<Parameters!$C$4,\"\",(F120-Parameters!$C$4)*D120))","v":""},null,{"$f":"IF(H120=\"\",\"\",YEAR(+Informatie!$C$1)-YEAR(H120))","v":""},"",{"$f":"IF(G120=\"\",\"\",ROUND(G120*Parameters!$C$12,2))","v":""},{"$f":"IF(G120=\"\",\"\",IF(YEAR(Informatie!$C$1)=2015,ROUND(G120*Parameters!$J$27,2),ROUND(G120*VLOOKUP('Overzicht deelnemers'!I120,Parameters!$E$4:$G$49,2,FALSE),2)))","v":""},{"$f":"IF(G120=\"\",\"\",IF(YEAR(Informatie!$C$1)=2015,ROUND(L120*Parameters!$C$20,2),G120*Parameters!$J$27))","v":""},"",{"$f":"IF(G120=\"\",\"\",ROUND(G120*Parameters!$C$16,2))","v":""},{"$f":"IF(G120=\"\",\"\",ROUND(G120*VLOOKUP(J120,Parameters!$E$3:$F$49,2,FALSE),2))","v":""},{"$f":"IF(G120=\"\",\"\",ROUND(G120*Parameters!$J$66,2))","v":""},"",{"$f":"IF(G120=\"\",\"\",ROUND(G120*Parameters!$C$13,2))","v":""},{"$f":"IF(G120=\"\",\"\",IF(YEAR(Informatie!$C$1)=2015,ROUND(G120*Parameters!J$44,2),ROUND(G120*VLOOKUP('Overzicht deelnemers'!I120,Parameters!$E$4:$G$49,3,FALSE),2)))","v":""},{"$f":"IF(G120=\"\",\"\",IF(YEAR(Informatie!$C$1)=2015,ROUND(T120*Parameters!$C$20,2),ROUND(G120*Parameters!$J$44,2)))","v":""},"",{"$f":"IF(G120=\"\",\"\",ROUND(G120*Parameters!C$17,2))","v":""},{"$f":"IF(G120=\"\",\"\",ROUND(G120*VLOOKUP(J120,Parameters!E$4:G$49,3),2))","v":""},{"$f":"IF(G120=\"\",\"\",ROUND(G120*Parameters!J$83,2))","v":""},""]
[null,null,null,null,0,{"$f":"IF(C121=\"\",0,IF(C121<=Parameters!$C$3,C121,Parameters!$C$3))","v":0},{"$f":"IF(C121=\"\",\"\",IF(F121<Parameters!$C$4,\"\",(F121-Parameters!$C$4)*D121))","v":""},null,{"$f":"IF(H121=\"\",\"\",YEAR(+Informatie!$C$1)-YEAR(H121))","v":""},"",{"$f":"IF(G121=\"\",\"\",ROUND(G121*Parameters!$C$12,2))","v":""},{"$f":"IF(G121=\"\",\"\",IF(YEAR(Informatie!$C$1)=2015,ROUND(G121*Parameters!$J$27,2),ROUND(G121*VLOOKUP('Overzicht deelnemers'!I121,Parameters!$E$4:$G$49,2,FALSE),2)))","v":""},{"$f":"IF(G121=\"\",\"\",IF(YEAR(Informatie!$C$1)=2015,ROUND(L121*Parameters!$C$20,2),G121*Parameters!$J$27))","v":""},"",{"$f":"IF(G121=\"\",\"\",ROUND(G121*Parameters!$C$16,2))","v":""},{"$f":"IF(G121=\"\",\"\",ROUND(G121*VLOOKUP(J121,Parameters!$E$3:$F$49,2,FALSE),2))","v":""},{"$f":"IF(G121=\"\",\"\",ROUND(G121*Parameters!$J$66,2))","v":""},"",{"$f":"IF(G121=\"\",\"\",ROUND(G121*Parameters!$C$13,2))","v":""},{"$f":"IF(G121=\"\",\"\",IF(YEAR(Informatie!$C$1)=2015,ROUND(G121*Parameters!J$44,2),ROUND(G121*VLOOKUP('Overzicht deelnemers'!I121,Parameters!$E$4:$G$49,3,FALSE),2)))","v":""},{"$f":"IF(G121=\"\",\"\",IF(YEAR(Informatie!$C$1)=2015,ROUND(T121*Parameters!$C$20,2),ROUND(G121*Parameters!$J$44,2)))","v":""},"",{"$f":"IF(G121=\"\",\"\",ROUND(G121*Parameters!C$17,2))","v":""},{"$f":"IF(G121=\"\",\"\",ROUND(G121*VLOOKUP(J121,Parameters!E$4:G$49,3),2))","v":""},{"$f":"IF(G121=\"\",\"\",ROUND(G121*Parameters!J$83,2))","v":""},""]
[null,null,null,null,0,{"$f":"IF(C122=\"\",0,IF(C122<=Parameters!$C$3,C122,Parameters!$C$3))","v":0},{"$f":"IF(C122=\"\",\"\",IF(F122<Parameters!$C$4,\"\",(F122-Parameters!$C$4)*D122))","v":""},null,{"$f":"IF(H122=\"\",\"\",YEAR(+Informatie!$C$1)-YEAR(H122))","v":""},"",{"$f":"IF(G122=\"\",\"\",ROUND(G122*Parameters!$C$12,2))","v":""},{"$f":"IF(G122=\"\",\"\",IF(YEAR(Informatie!$C$1)=2015,ROUND(G122*Parameters!$J$27,2),ROUND(G122*VLOOKUP('Overzicht deelnemers'!I122,Parameters!$E$4:$G$49,2,FALSE),2)))","v":""},{"$f":"IF(G122=\"\",\"\",IF(YEAR(Informatie!$C$1)=2015,ROUND(L122*Parameters!$C$20,2),G122*Parameters!$J$27))","v":""},"",{"$f":"IF(G122=\"\",\"\",ROUND(G122*Parameters!$C$16,2))","v":""},{"$f":"IF(G122=\"\",\"\",ROUND(G122*VLOOKUP(J122,Parameters!$E$3:$F$49,2,FALSE),2))","v":""},{"$f":"IF(G122=\"\",\"\",ROUND(G122*Parameters!$J$66,2))","v":""},"",{"$f":"IF(G122=\"\",\"\",ROUND(G122*Parameters!$C$13,2))","v":""},{"$f":"IF(G122=\"\",\"\",IF(YEAR(Informatie!$C$1)=2015,ROUND(G122*Parameters!J$44,2),ROUND(G122*VLOOKUP('Overzicht deelnemers'!I122,Parameters!$E$4:$G$49,3,FALSE),2)))","v":""},{"$f":"IF(G122=\"\",\"\",IF(YEAR(Informatie!$C$1)=2015,ROUND(T122*Parameters!$C$20,2),ROUND(G122*Parameters!$J$44,2)))","v":""},"",{"$f":"IF(G122=\"\",\"\",ROUND(G122*Parameters!C$17,2))","v":""},{"$f":"IF(G122=\"\",\"\",ROUND(G122*VLOOKUP(J122,Parameters!E$4:G$49,3),2))","v":""},{"$f":"IF(G122=\"\",\"\",ROUND(G122*Parameters!J$83,2))","v":""},""]
[null,null,null,null,0,{"$f":"IF(C123=\"\",0,IF(C123<=Parameters!$C$3,C123,Parameters!$C$3))","v":0},{"$f":"IF(C123=\"\",\"\",IF(F123<Parameters!$C$4,\"\",(F123-Parameters!$C$4)*D123))","v":""},null,{"$f":"IF(H123=\"\",\"\",YEAR(+Informatie!$C$1)-YEAR(H123))","v":""},"",{"$f":"IF(G123=\"\",\"\",ROUND(G123*Parameters!$C$12,2))","v":""},{"$f":"IF(G123=\"\",\"\",IF(YEAR(Informatie!$C$1)=2015,ROUND(G123*Parameters!$J$27,2),ROUND(G123*VLOOKUP('Overzicht deelnemers'!I123,Parameters!$E$4:$G$49,2,FALSE),2)))","v":""},{"$f":"IF(G123=\"\",\"\",IF(YEAR(Informatie!$C$1)=2015,ROUND(L123*Parameters!$C$20,2),G123*Parameters!$J$27))","v":""},"",{"$f":"IF(G123=\"\",\"\",ROUND(G123*Parameters!$C$16,2))","v":""},{"$f":"IF(G123=\"\",\"\",ROUND(G123*VLOOKUP(J123,Parameters!$E$3:$F$49,2,FALSE),2))","v":""},{"$f":"IF(G123=\"\",\"\",ROUND(G123*Parameters!$J$66,2))","v":""},"",{"$f":"IF(G123=\"\",\"\",ROUND(G123*Parameters!$C$13,2))","v":""},{"$f":"IF(G123=\"\",\"\",IF(YEAR(Informatie!$C$1)=2015,ROUND(G123*Parameters!J$44,2),ROUND(G123*VLOOKUP('Overzicht deelnemers'!I123,Parameters!$E$4:$G$49,3,FALSE),2)))","v":""},{"$f":"IF(G123=\"\",\"\",IF(YEAR(Informatie!$C$1)=2015,ROUND(T123*Parameters!$C$20,2),ROUND(G123*Parameters!$J$44,2)))","v":""},"",{"$f":"IF(G123=\"\",\"\",ROUND(G123*Parameters!C$17,2))","v":""},{"$f":"IF(G123=\"\",\"\",ROUND(G123*VLOOKUP(J123,Parameters!E$4:G$49,3),2))","v":""},{"$f":"IF(G123=\"\",\"\",ROUND(G123*Parameters!J$83,2))","v":""},""]
[null,null,null,null,0,{"$f":"IF(C124=\"\",0,IF(C124<=Parameters!$C$3,C124,Parameters!$C$3))","v":0},{"$f":"IF(C124=\"\",\"\",IF(F124<Parameters!$C$4,\"\",(F124-Parameters!$C$4)*D124))","v":""},null,{"$f":"IF(H124=\"\",\"\",YEAR(+Informatie!$C$1)-YEAR(H124))","v":""},"",{"$f":"IF(G124=\"\",\"\",ROUND(G124*Parameters!$C$12,2))","v":""},{"$f":"IF(G124=\"\",\"\",IF(YEAR(Informatie!$C$1)=2015,ROUND(G124*Parameters!$J$27,2),ROUND(G124*VLOOKUP('Overzicht deelnemers'!I124,Parameters!$E$4:$G$49,2,FALSE),2)))","v":""},{"$f":"IF(G124=\"\",\"\",IF(YEAR(Informatie!$C$1)=2015,ROUND(L124*Parameters!$C$20,2),G124*Parameters!$J$27))","v":""},"",{"$f":"IF(G124=\"\",\"\",ROUND(G124*Parameters!$C$16,2))","v":""},{"$f":"IF(G124=\"\",\"\",ROUND(G124*VLOOKUP(J124,Parameters!$E$3:$F$49,2,FALSE),2))","v":""},{"$f":"IF(G124=\"\",\"\",ROUND(G124*Parameters!$J$66,2))","v":""},"",{"$f":"IF(G124=\"\",\"\",ROUND(G124*Parameters!$C$13,2))","v":""},{"$f":"IF(G124=\"\",\"\",IF(YEAR(Informatie!$C$1)=2015,ROUND(G124*Parameters!J$44,2),ROUND(G124*VLOOKUP('Overzicht deelnemers'!I124,Parameters!$E$4:$G$49,3,FALSE),2)))","v":""},{"$f":"IF(G124=\"\",\"\",IF(YEAR(Informatie!$C$1)=2015,ROUND(T124*Parameters!$C$20,2),ROUND(G124*Parameters!$J$44,2)))","v":""},"",{"$f":"IF(G124=\"\",\"\",ROUND(G124*Parameters!C$17,2))","v":""},{"$f":"IF(G124=\"\",\"\",ROUND(G124*VLOOKUP(J124,Parameters!E$4:G$49,3),2))","v":""},{"$f":"IF(G124=\"\",\"\",ROUND(G124*Parameters!J$83,2))","v":""},""]
[null,null,null,null,0,{"$f":"IF(C125=\"\",0,IF(C125<=Parameters!$C$3,C125,Parameters!$C$3))","v":0},{"$f":"IF(C125=\"\",\"\",IF(F125<Parameters!$C$4,\"\",(F125-Parameters!$C$4)*D125))","v":""},null,{"$f":"IF(H125=\"\",\"\",YEAR(+Informatie!$C$1)-YEAR(H125))","v":""},"",{"$f":"IF(G125=\"\",\"\",ROUND(G125*Parameters!$C$12,2))","v":""},{"$f":"IF(G125=\"\",\"\",IF(YEAR(Informatie!$C$1)=2015,ROUND(G125*Parameters!$J$27,2),ROUND(G125*VLOOKUP('Overzicht deelnemers'!I125,Parameters!$E$4:$G$49,2,FALSE),2)))","v":""},{"$f":"IF(G125=\"\",\"\",IF(YEAR(Informatie!$C$1)=2015,ROUND(L125*Parameters!$C$20,2),G125*Parameters!$J$27))","v":""},"",{"$f":"IF(G125=\"\",\"\",ROUND(G125*Parameters!$C$16,2))","v":""},{"$f":"IF(G125=\"\",\"\",ROUND(G125*VLOOKUP(J125,Parameters!$E$3:$F$49,2,FALSE),2))","v":""},{"$f":"IF(G125=\"\",\"\",ROUND(G125*Parameters!$J$66,2))","v":""},"",{"$f":"IF(G125=\"\",\"\",ROUND(G125*Parameters!$C$13,2))","v":""},{"$f":"IF(G125=\"\",\"\",IF(YEAR(Informatie!$C$1)=2015,ROUND(G125*Parameters!J$44,2),ROUND(G125*VLOOKUP('Overzicht deelnemers'!I125,Parameters!$E$4:$G$49,3,FALSE),2)))","v":""},{"$f":"IF(G125=\"\",\"\",IF(YEAR(Informatie!$C$1)=2015,ROUND(T125*Parameters!$C$20,2),ROUND(G125*Parameters!$J$44,2)))","v":""},"",{"$f":"IF(G125=\"\",\"\",ROUND(G125*Parameters!C$17,2))","v":""},{"$f":"IF(G125=\"\",\"\",ROUND(G125*VLOOKUP(J125,Parameters!E$4:G$49,3),2))","v":""},{"$f":"IF(G125=\"\",\"\",ROUND(G125*Parameters!J$83,2))","v":""},""]
[null,null,null,null,0,{"$f":"IF(C126=\"\",0,IF(C126<=Parameters!$C$3,C126,Parameters!$C$3))","v":0},{"$f":"IF(C126=\"\",\"\",IF(F126<Parameters!$C$4,\"\",(F126-Parameters!$C$4)*D126))","v":""},null,{"$f":"IF(H126=\"\",\"\",YEAR(+Informatie!$C$1)-YEAR(H126))","v":""},"",{"$f":"IF(G126=\"\",\"\",ROUND(G126*Parameters!$C$12,2))","v":""},{"$f":"IF(G126=\"\",\"\",IF(YEAR(Informatie!$C$1)=2015,ROUND(G126*Parameters!$J$27,2),ROUND(G126*VLOOKUP('Overzicht deelnemers'!I126,Parameters!$E$4:$G$49,2,FALSE),2)))","v":""},{"$f":"IF(G126=\"\",\"\",IF(YEAR(Informatie!$C$1)=2015,ROUND(L126*Parameters!$C$20,2),G126*Parameters!$J$27))","v":""},"",{"$f":"IF(G126=\"\",\"\",ROUND(G126*Parameters!$C$16,2))","v":""},{"$f":"IF(G126=\"\",\"\",ROUND(G126*VLOOKUP(J126,Parameters!$E$3:$F$49,2,FALSE),2))","v":""},{"$f":"IF(G126=\"\",\"\",ROUND(G126*Parameters!$J$66,2))","v":""},"",{"$f":"IF(G126=\"\",\"\",ROUND(G126*Parameters!$C$13,2))","v":""},{"$f":"IF(G126=\"\",\"\",IF(YEAR(Informatie!$C$1)=2015,ROUND(G126*Parameters!J$44,2),ROUND(G126*VLOOKUP('Overzicht deelnemers'!I126,Parameters!$E$4:$G$49,3,FALSE),2)))","v":""},{"$f":"IF(G126=\"\",\"\",IF(YEAR(Informatie!$C$1)=2015,ROUND(T126*Parameters!$C$20,2),ROUND(G126*Parameters!$J$44,2)))","v":""},"",{"$f":"IF(G126=\"\",\"\",ROUND(G126*Parameters!C$17,2))","v":""},{"$f":"IF(G126=\"\",\"\",ROUND(G126*VLOOKUP(J126,Parameters!E$4:G$49,3),2))","v":""},{"$f":"IF(G126=\"\",\"\",ROUND(G126*Parameters!J$83,2))","v":""},""]
[null,null,null,null,0,{"$f":"IF(C127=\"\",0,IF(C127<=Parameters!$C$3,C127,Parameters!$C$3))","v":0},{"$f":"IF(C127=\"\",\"\",IF(F127<Parameters!$C$4,\"\",(F127-Parameters!$C$4)*D127))","v":""},null,{"$f":"IF(H127=\"\",\"\",YEAR(+Informatie!$C$1)-YEAR(H127))","v":""},"",{"$f":"IF(G127=\"\",\"\",ROUND(G127*Parameters!$C$12,2))","v":""},{"$f":"IF(G127=\"\",\"\",IF(YEAR(Informatie!$C$1)=2015,ROUND(G127*Parameters!$J$27,2),ROUND(G127*VLOOKUP('Overzicht deelnemers'!I127,Parameters!$E$4:$G$49,2,FALSE),2)))","v":""},{"$f":"IF(G127=\"\",\"\",IF(YEAR(Informatie!$C$1)=2015,ROUND(L127*Parameters!$C$20,2),G127*Parameters!$J$27))","v":""},"",{"$f":"IF(G127=\"\",\"\",ROUND(G127*Parameters!$C$16,2))","v":""},{"$f":"IF(G127=\"\",\"\",ROUND(G127*VLOOKUP(J127,Parameters!$E$3:$F$49,2,FALSE),2))","v":""},{"$f":"IF(G127=\"\",\"\",ROUND(G127*Parameters!$J$66,2))","v":""},"",{"$f":"IF(G127=\"\",\"\",ROUND(G127*Parameters!$C$13,2))","v":""},{"$f":"IF(G127=\"\",\"\",IF(YEAR(Informatie!$C$1)=2015,ROUND(G127*Parameters!J$44,2),ROUND(G127*VLOOKUP('Overzicht deelnemers'!I127,Parameters!$E$4:$G$49,3,FALSE),2)))","v":""},{"$f":"IF(G127=\"\",\"\",IF(YEAR(Informatie!$C$1)=2015,ROUND(T127*Parameters!$C$20,2),ROUND(G127*Parameters!$J$44,2)))","v":""},"",{"$f":"IF(G127=\"\",\"\",ROUND(G127*Parameters!C$17,2))","v":""},{"$f":"IF(G127=\"\",\"\",ROUND(G127*VLOOKUP(J127,Parameters!E$4:G$49,3),2))","v":""},{"$f":"IF(G127=\"\",\"\",ROUND(G127*Parameters!J$83,2))","v":""},""]
[null,null,null,null,0,{"$f":"IF(C128=\"\",0,IF(C128<=Parameters!$C$3,C128,Parameters!$C$3))","v":0},{"$f":"IF(C128=\"\",\"\",IF(F128<Parameters!$C$4,\"\",(F128-Parameters!$C$4)*D128))","v":""},null,{"$f":"IF(H128=\"\",\"\",YEAR(+Informatie!$C$1)-YEAR(H128))","v":""},"",{"$f":"IF(G128=\"\",\"\",ROUND(G128*Parameters!$C$12,2))","v":""},{"$f":"IF(G128=\"\",\"\",IF(YEAR(Informatie!$C$1)=2015,ROUND(G128*Parameters!$J$27,2),ROUND(G128*VLOOKUP('Overzicht deelnemers'!I128,Parameters!$E$4:$G$49,2,FALSE),2)))","v":""},{"$f":"IF(G128=\"\",\"\",IF(YEAR(Informatie!$C$1)=2015,ROUND(L128*Parameters!$C$20,2),G128*Parameters!$J$27))","v":""},"",{"$f":"IF(G128=\"\",\"\",ROUND(G128*Parameters!$C$16,2))","v":""},{"$f":"IF(G128=\"\",\"\",ROUND(G128*VLOOKUP(J128,Parameters!$E$3:$F$49,2,FALSE),2))","v":""},{"$f":"IF(G128=\"\",\"\",ROUND(G128*Parameters!$J$66,2))","v":""},"",{"$f":"IF(G128=\"\",\"\",ROUND(G128*Parameters!$C$13,2))","v":""},{"$f":"IF(G128=\"\",\"\",IF(YEAR(Informatie!$C$1)=2015,ROUND(G128*Parameters!J$44,2),ROUND(G128*VLOOKUP('Overzicht deelnemers'!I128,Parameters!$E$4:$G$49,3,FALSE),2)))","v":""},{"$f":"IF(G128=\"\",\"\",IF(YEAR(Informatie!$C$1)=2015,ROUND(T128*Parameters!$C$20,2),ROUND(G128*Parameters!$J$44,2)))","v":""},"",{"$f":"IF(G128=\"\",\"\",ROUND(G128*Parameters!C$17,2))","v":""},{"$f":"IF(G128=\"\",\"\",ROUND(G128*VLOOKUP(J128,Parameters!E$4:G$49,3),2))","v":""},{"$f":"IF(G128=\"\",\"\",ROUND(G128*Parameters!J$83,2))","v":""},""]
[null,null,null,null,0,{"$f":"IF(C129=\"\",0,IF(C129<=Parameters!$C$3,C129,Parameters!$C$3))","v":0},{"$f":"IF(C129=\"\",\"\",IF(F129<Parameters!$C$4,\"\",(F129-Parameters!$C$4)*D129))","v":""},null,{"$f":"IF(H129=\"\",\"\",YEAR(+Informatie!$C$1)-YEAR(H129))","v":""},"",{"$f":"IF(G129=\"\",\"\",ROUND(G129*Parameters!$C$12,2))","v":""},{"$f":"IF(G129=\"\",\"\",IF(YEAR(Informatie!$C$1)=2015,ROUND(G129*Parameters!$J$27,2),ROUND(G129*VLOOKUP('Overzicht deelnemers'!I129,Parameters!$E$4:$G$49,2,FALSE),2)))","v":""},{"$f":"IF(G129=\"\",\"\",IF(YEAR(Informatie!$C$1)=2015,ROUND(L129*Parameters!$C$20,2),G129*Parameters!$J$27))","v":""},"",{"$f":"IF(G129=\"\",\"\",ROUND(G129*Parameters!$C$16,2))","v":""},{"$f":"IF(G129=\"\",\"\",ROUND(G129*VLOOKUP(J129,Parameters!$E$3:$F$49,2,FALSE),2))","v":""},{"$f":"IF(G129=\"\",\"\",ROUND(G129*Parameters!$J$66,2))","v":""},"",{"$f":"IF(G129=\"\",\"\",ROUND(G129*Parameters!$C$13,2))","v":""},{"$f":"IF(G129=\"\",\"\",IF(YEAR(Informatie!$C$1)=2015,ROUND(G129*Parameters!J$44,2),ROUND(G129*VLOOKUP('Overzicht deelnemers'!I129,Parameters!$E$4:$G$49,3,FALSE),2)))","v":""},{"$f":"IF(G129=\"\",\"\",IF(YEAR(Informatie!$C$1)=2015,ROUND(T129*Parameters!$C$20,2),ROUND(G129*Parameters!$J$44,2)))","v":""},"",{"$f":"IF(G129=\"\",\"\",ROUND(G129*Parameters!C$17,2))","v":""},{"$f":"IF(G129=\"\",\"\",ROUND(G129*VLOOKUP(J129,Parameters!E$4:G$49,3),2))","v":""},{"$f":"IF(G129=\"\",\"\",ROUND(G129*Parameters!J$83,2))","v":""},""]
[null,null,null,null,0,{"$f":"IF(C130=\"\",0,IF(C130<=Parameters!$C$3,C130,Parameters!$C$3))","v":0},{"$f":"IF(C130=\"\",\"\",IF(F130<Parameters!$C$4,\"\",(F130-Parameters!$C$4)*D130))","v":""},null,{"$f":"IF(H130=\"\",\"\",YEAR(+Informatie!$C$1)-YEAR(H130))","v":""},{"$f":"IF(H130=\"\",\"\",I130+1)","v":""},{"$f":"IF(G130=\"\",\"\",ROUND(G130*Parameters!$C$12,2))","v":""},{"$f":"IF(G130=\"\",\"\",IF(YEAR(Informatie!$C$1)=2015,ROUND(G130*Parameters!$J$27,2),ROUND(G130*VLOOKUP('Overzicht deelnemers'!I130,Parameters!$E$4:$G$49,2,FALSE),2)))","v":""},{"$f":"IF(G130=\"\",\"\",IF(YEAR(Informatie!$C$1)=2015,ROUND(L130*Parameters!$C$20,2),G130*Parameters!$J$27))","v":""},"",{"$f":"IF(G130=\"\",\"\",ROUND(G130*Parameters!$C$16,2))","v":""},{"$f":"IF(G130=\"\",\"\",ROUND(G130*VLOOKUP(J130,Parameters!$E$3:$F$49,2,FALSE),2))","v":""},{"$f":"IF(G130=\"\",\"\",ROUND(G130*Parameters!$J$66,2))","v":""},"",{"$f":"IF(G130=\"\",\"\",ROUND(G130*Parameters!$C$13,2))","v":""},{"$f":"IF(G130=\"\",\"\",IF(YEAR(Informatie!$C$1)=2015,ROUND(G130*Parameters!J$44,2),ROUND(G130*VLOOKUP('Overzicht deelnemers'!I130,Parameters!$E$4:$G$49,3,FALSE),2)))","v":""},{"$f":"IF(G130=\"\",\"\",IF(YEAR(Informatie!$C$1)=2015,ROUND(T130*Parameters!$C$20,2),ROUND(G130*Parameters!$J$44,2)))","v":""},"",{"$f":"IF(G130=\"\",\"\",ROUND(G130*Parameters!C$17,2))","v":""},{"$f":"IF(G130=\"\",\"\",ROUND(G130*VLOOKUP(J130,Parameters!E$4:G$49,3),2))","v":""},{"$f":"IF(G130=\"\",\"\",ROUND(G130*Parameters!J$83,2))","v":""},""]
[null,null,null,null,{"$f":"C131*D131","v":0},{"$f":"IF(C131=\"\",0,IF(C131<=Parameters!$C$3,C131,Parameters!$C$3))","v":0},{"$f":"IF(C131=\"\",\"\",IF(F131<Parameters!$C$4,\"\",(F131-Parameters!$C$4)*D131))","v":""},null,{"$f":"IF(H131=\"\",\"\",YEAR(+Informatie!$C$1)-YEAR(H131))","v":""},"",{"$f":"IF(G131=\"\",\"\",ROUND(G131*Parameters!$C$12,2))","v":""},{"$f":"IF(G131=\"\",\"\",IF(YEAR(Informatie!$C$1)=2015,ROUND(G131*Parameters!$J$27,2),ROUND(G131*VLOOKUP('Overzicht deelnemers'!I131,Parameters!$E$4:$G$49,2,FALSE),2)))","v":""},{"$f":"IF(G131=\"\",\"\",IF(YEAR(Informatie!$C$1)=2015,ROUND(L131*Parameters!$C$20,2),G131*Parameters!$J$27))","v":""},{"$f":"IF(G131=\"\",\"\",ROUND(L131-M131,2))","v":""},{"$f":"IF(G131=\"\",\"\",ROUND(G131*Parameters!$C$16,2))","v":""},{"$f":"IF(G131=\"\",\"\",ROUND(G131*VLOOKUP(J131,Parameters!$E$3:$F$49,2,FALSE),2))","v":""},{"$f":"IF(G131=\"\",\"\",ROUND(G131*Parameters!$J$66,2))","v":""},{"$f":"IF(G131=\"\",\"\",ROUND(P131-Q131,2))","v":""},{"$f":"IF(G131=\"\",\"\",ROUND(G131*Parameters!$C$13,2))","v":""},{"$f":"IF(G131=\"\",\"\",IF(YEAR(Informatie!$C$1)=2015,ROUND(G131*Parameters!J$44,2),ROUND(G131*VLOOKUP('Overzicht deelnemers'!I131,Parameters!$E$4:$G$49,3,FALSE),2)))","v":""},{"$f":"IF(G131=\"\",\"\",IF(YEAR(Informatie!$C$1)=2015,ROUND(T131*Parameters!$C$20,2),ROUND(G131*Parameters!$J$44,2)))","v":""},{"$f":"IF(G131=\"\",\"\",ROUND(T131-U131,2))","v":""},{"$f":"IF(G131=\"\",\"\",ROUND(G131*Parameters!C$17,2))","v":""},{"$f":"IF(G131=\"\",\"\",ROUND(G131*VLOOKUP(J131,Parameters!E$4:G$49,3),2))","v":""},{"$f":"IF(G131=\"\",\"\",ROUND(G131*Parameters!J$83,2))","v":""},{"$f":"IF(G131=\"\",\"\",ROUND(X131-Y131,2))","v":""}]
[null,null,null,null,0,{"$f":"IF(C132=\"\",0,IF(C132<=Parameters!$C$3,C132,Parameters!$C$3))","v":0},{"$f":"IF(C132=\"\",\"\",IF(F132<Parameters!$C$4,\"\",(F132-Parameters!$C$4)*D132))","v":""},null,{"$f":"IF(H132=\"\",\"\",YEAR(+Informatie!$C$1)-YEAR(H132))","v":""},"",{"$f":"IF(G132=\"\",\"\",ROUND(G132*Parameters!$C$12,2))","v":""},{"$f":"IF(G132=\"\",\"\",IF(YEAR(Informatie!$C$1)=2015,ROUND(G132*Parameters!$J$27,2),ROUND(G132*VLOOKUP('Overzicht deelnemers'!I132,Parameters!$E$4:$G$49,2,FALSE),2)))","v":""},{"$f":"IF(G132=\"\",\"\",IF(YEAR(Informatie!$C$1)=2015,ROUND(L132*Parameters!$C$20,2),G132*Parameters!$J$27))","v":""},"",{"$f":"IF(G132=\"\",\"\",ROUND(G132*Parameters!$C$16,2))","v":""},{"$f":"IF(G132=\"\",\"\",ROUND(G132*VLOOKUP(J132,Parameters!$E$3:$F$49,2,FALSE),2))","v":""},{"$f":"IF(G132=\"\",\"\",ROUND(G132*Parameters!$J$66,2))","v":""},"",{"$f":"IF(G132=\"\",\"\",ROUND(G132*Parameters!$C$13,2))","v":""},{"$f":"IF(G132=\"\",\"\",IF(YEAR(Informatie!$C$1)=2015,ROUND(G132*Parameters!J$44,2),ROUND(G132*VLOOKUP('Overzicht deelnemers'!I132,Parameters!$E$4:$G$49,3,FALSE),2)))","v":""},{"$f":"IF(G132=\"\",\"\",IF(YEAR(Informatie!$C$1)=2015,ROUND(T132*Parameters!$C$20,2),ROUND(G132*Parameters!$J$44,2)))","v":""},"",{"$f":"IF(G132=\"\",\"\",ROUND(G132*Parameters!C$17,2))","v":""},{"$f":"IF(G132=\"\",\"\",ROUND(G132*VLOOKUP(J132,Parameters!E$4:G$49,3),2))","v":""},{"$f":"IF(G132=\"\",\"\",ROUND(G132*Parameters!J$83,2))","v":""},""]
[null,null,null,null,0,{"$f":"IF(C133=\"\",0,IF(C133<=Parameters!$C$3,C133,Parameters!$C$3))","v":0},{"$f":"IF(C133=\"\",\"\",IF(F133<Parameters!$C$4,\"\",(F133-Parameters!$C$4)*D133))","v":""},null,{"$f":"IF(H133=\"\",\"\",YEAR(+Informatie!$C$1)-YEAR(H133))","v":""},"",{"$f":"IF(G133=\"\",\"\",ROUND(G133*Parameters!$C$12,2))","v":""},{"$f":"IF(G133=\"\",\"\",IF(YEAR(Informatie!$C$1)=2015,ROUND(G133*Parameters!$J$27,2),ROUND(G133*VLOOKUP('Overzicht deelnemers'!I133,Parameters!$E$4:$G$49,2,FALSE),2)))","v":""},{"$f":"IF(G133=\"\",\"\",IF(YEAR(Informatie!$C$1)=2015,ROUND(L133*Parameters!$C$20,2),G133*Parameters!$J$27))","v":""},"",{"$f":"IF(G133=\"\",\"\",ROUND(G133*Parameters!$C$16,2))","v":""},{"$f":"IF(G133=\"\",\"\",ROUND(G133*VLOOKUP(J133,Parameters!$E$3:$F$49,2,FALSE),2))","v":""},{"$f":"IF(G133=\"\",\"\",ROUND(G133*Parameters!$J$66,2))","v":""},"",{"$f":"IF(G133=\"\",\"\",ROUND(G133*Parameters!$C$13,2))","v":""},{"$f":"IF(G133=\"\",\"\",IF(YEAR(Informatie!$C$1)=2015,ROUND(G133*Parameters!J$44,2),ROUND(G133*VLOOKUP('Overzicht deelnemers'!I133,Parameters!$E$4:$G$49,3,FALSE),2)))","v":""},{"$f":"IF(G133=\"\",\"\",IF(YEAR(Informatie!$C$1)=2015,ROUND(T133*Parameters!$C$20,2),ROUND(G133*Parameters!$J$44,2)))","v":""},"",{"$f":"IF(G133=\"\",\"\",ROUND(G133*Parameters!C$17,2))","v":""},{"$f":"IF(G133=\"\",\"\",ROUND(G133*VLOOKUP(J133,Parameters!E$4:G$49,3),2))","v":""},{"$f":"IF(G133=\"\",\"\",ROUND(G133*Parameters!J$83,2))","v":""},""]
[null,null,null,null,0,{"$f":"IF(C134=\"\",0,IF(C134<=Parameters!$C$3,C134,Parameters!$C$3))","v":0},{"$f":"IF(C134=\"\",\"\",IF(F134<Parameters!$C$4,\"\",(F134-Parameters!$C$4)*D134))","v":""},null,{"$f":"IF(H134=\"\",\"\",YEAR(+Informatie!$C$1)-YEAR(H134))","v":""},"",{"$f":"IF(G134=\"\",\"\",ROUND(G134*Parameters!$C$12,2))","v":""},{"$f":"IF(G134=\"\",\"\",IF(YEAR(Informatie!$C$1)=2015,ROUND(G134*Parameters!$J$27,2),ROUND(G134*VLOOKUP('Overzicht deelnemers'!I134,Parameters!$E$4:$G$49,2,FALSE),2)))","v":""},{"$f":"IF(G134=\"\",\"\",IF(YEAR(Informatie!$C$1)=2015,ROUND(L134*Parameters!$C$20,2),G134*Parameters!$J$27))","v":""},"",{"$f":"IF(G134=\"\",\"\",ROUND(G134*Parameters!$C$16,2))","v":""},{"$f":"IF(G134=\"\",\"\",ROUND(G134*VLOOKUP(J134,Parameters!$E$3:$F$49,2,FALSE),2))","v":""},{"$f":"IF(G134=\"\",\"\",ROUND(G134*Parameters!$J$66,2))","v":""},"",{"$f":"IF(G134=\"\",\"\",ROUND(G134*Parameters!$C$13,2))","v":""},{"$f":"IF(G134=\"\",\"\",IF(YEAR(Informatie!$C$1)=2015,ROUND(G134*Parameters!J$44,2),ROUND(G134*VLOOKUP('Overzicht deelnemers'!I134,Parameters!$E$4:$G$49,3,FALSE),2)))","v":""},{"$f":"IF(G134=\"\",\"\",IF(YEAR(Informatie!$C$1)=2015,ROUND(T134*Parameters!$C$20,2),ROUND(G134*Parameters!$J$44,2)))","v":""},"",{"$f":"IF(G134=\"\",\"\",ROUND(G134*Parameters!C$17,2))","v":""},{"$f":"IF(G134=\"\",\"\",ROUND(G134*VLOOKUP(J134,Parameters!E$4:G$49,3),2))","v":""},{"$f":"IF(G134=\"\",\"\",ROUND(G134*Parameters!J$83,2))","v":""},""]
[null,null,null,null,0,{"$f":"IF(C135=\"\",0,IF(C135<=Parameters!$C$3,C135,Parameters!$C$3))","v":0},{"$f":"IF(C135=\"\",\"\",IF(F135<Parameters!$C$4,\"\",(F135-Parameters!$C$4)*D135))","v":""},null,{"$f":"IF(H135=\"\",\"\",YEAR(+Informatie!$C$1)-YEAR(H135))","v":""},"",{"$f":"IF(G135=\"\",\"\",ROUND(G135*Parameters!$C$12,2))","v":""},{"$f":"IF(G135=\"\",\"\",IF(YEAR(Informatie!$C$1)=2015,ROUND(G135*Parameters!$J$27,2),ROUND(G135*VLOOKUP('Overzicht deelnemers'!I135,Parameters!$E$4:$G$49,2,FALSE),2)))","v":""},{"$f":"IF(G135=\"\",\"\",IF(YEAR(Informatie!$C$1)=2015,ROUND(L135*Parameters!$C$20,2),G135*Parameters!$J$27))","v":""},"",{"$f":"IF(G135=\"\",\"\",ROUND(G135*Parameters!$C$16,2))","v":""},{"$f":"IF(G135=\"\",\"\",ROUND(G135*VLOOKUP(J135,Parameters!$E$3:$F$49,2,FALSE),2))","v":""},{"$f":"IF(G135=\"\",\"\",ROUND(G135*Parameters!$J$66,2))","v":""},"",{"$f":"IF(G135=\"\",\"\",ROUND(G135*Parameters!$C$13,2))","v":""},{"$f":"IF(G135=\"\",\"\",IF(YEAR(Informatie!$C$1)=2015,ROUND(G135*Parameters!J$44,2),ROUND(G135*VLOOKUP('Overzicht deelnemers'!I135,Parameters!$E$4:$G$49,3,FALSE),2)))","v":""},{"$f":"IF(G135=\"\",\"\",IF(YEAR(Informatie!$C$1)=2015,ROUND(T135*Parameters!$C$20,2),ROUND(G135*Parameters!$J$44,2)))","v":""},"",{"$f":"IF(G135=\"\",\"\",ROUND(G135*Parameters!C$17,2))","v":""},{"$f":"IF(G135=\"\",\"\",ROUND(G135*VLOOKUP(J135,Parameters!E$4:G$49,3),2))","v":""},{"$f":"IF(G135=\"\",\"\",ROUND(G135*Parameters!J$83,2))","v":""},""]
[null,null,null,null,0,{"$f":"IF(C136=\"\",0,IF(C136<=Parameters!$C$3,C136,Parameters!$C$3))","v":0},{"$f":"IF(C136=\"\",\"\",IF(F136<Parameters!$C$4,\"\",(F136-Parameters!$C$4)*D136))","v":""},null,{"$f":"IF(H136=\"\",\"\",YEAR(+Informatie!$C$1)-YEAR(H136))","v":""},"",{"$f":"IF(G136=\"\",\"\",ROUND(G136*Parameters!$C$12,2))","v":""},{"$f":"IF(G136=\"\",\"\",IF(YEAR(Informatie!$C$1)=2015,ROUND(G136*Parameters!$J$27,2),ROUND(G136*VLOOKUP('Overzicht deelnemers'!I136,Parameters!$E$4:$G$49,2,FALSE),2)))","v":""},{"$f":"IF(G136=\"\",\"\",IF(YEAR(Informatie!$C$1)=2015,ROUND(L136*Parameters!$C$20,2),G136*Parameters!$J$27))","v":""},"",{"$f":"IF(G136=\"\",\"\",ROUND(G136*Parameters!$C$16,2))","v":""},{"$f":"IF(G136=\"\",\"\",ROUND(G136*VLOOKUP(J136,Parameters!$E$3:$F$49,2,FALSE),2))","v":""},{"$f":"IF(G136=\"\",\"\",ROUND(G136*Parameters!$J$66,2))","v":""},"",{"$f":"IF(G136=\"\",\"\",ROUND(G136*Parameters!$C$13,2))","v":""},{"$f":"IF(G136=\"\",\"\",IF(YEAR(Informatie!$C$1)=2015,ROUND(G136*Parameters!J$44,2),ROUND(G136*VLOOKUP('Overzicht deelnemers'!I136,Parameters!$E$4:$G$49,3,FALSE),2)))","v":""},{"$f":"IF(G136=\"\",\"\",IF(YEAR(Informatie!$C$1)=2015,ROUND(T136*Parameters!$C$20,2),ROUND(G136*Parameters!$J$44,2)))","v":""},"",{"$f":"IF(G136=\"\",\"\",ROUND(G136*Parameters!C$17,2))","v":""},{"$f":"IF(G136=\"\",\"\",ROUND(G136*VLOOKUP(J136,Parameters!E$4:G$49,3),2))","v":""},{"$f":"IF(G136=\"\",\"\",ROUND(G136*Parameters!J$83,2))","v":""},""]
[null,null,null,null,0,{"$f":"IF(C137=\"\",0,IF(C137<=Parameters!$C$3,C137,Parameters!$C$3))","v":0},{"$f":"IF(C137=\"\",\"\",IF(F137<Parameters!$C$4,\"\",(F137-Parameters!$C$4)*D137))","v":""},null,{"$f":"IF(H137=\"\",\"\",YEAR(+Informatie!$C$1)-YEAR(H137))","v":""},"",{"$f":"IF(G137=\"\",\"\",ROUND(G137*Parameters!$C$12,2))","v":""},{"$f":"IF(G137=\"\",\"\",IF(YEAR(Informatie!$C$1)=2015,ROUND(G137*Parameters!$J$27,2),ROUND(G137*VLOOKUP('Overzicht deelnemers'!I137,Parameters!$E$4:$G$49,2,FALSE),2)))","v":""},{"$f":"IF(G137=\"\",\"\",IF(YEAR(Informatie!$C$1)=2015,ROUND(L137*Parameters!$C$20,2),G137*Parameters!$J$27))","v":""},"",{"$f":"IF(G137=\"\",\"\",ROUND(G137*Parameters!$C$16,2))","v":""},{"$f":"IF(G137=\"\",\"\",ROUND(G137*VLOOKUP(J137,Parameters!$E$3:$F$49,2,FALSE),2))","v":""},{"$f":"IF(G137=\"\",\"\",ROUND(G137*Parameters!$J$66,2))","v":""},"",{"$f":"IF(G137=\"\",\"\",ROUND(G137*Parameters!$C$13,2))","v":""},{"$f":"IF(G137=\"\",\"\",IF(YEAR(Informatie!$C$1)=2015,ROUND(G137*Parameters!J$44,2),ROUND(G137*VLOOKUP('Overzicht deelnemers'!I137,Parameters!$E$4:$G$49,3,FALSE),2)))","v":""},{"$f":"IF(G137=\"\",\"\",IF(YEAR(Informatie!$C$1)=2015,ROUND(T137*Parameters!$C$20,2),ROUND(G137*Parameters!$J$44,2)))","v":""},"",{"$f":"IF(G137=\"\",\"\",ROUND(G137*Parameters!C$17,2))","v":""},{"$f":"IF(G137=\"\",\"\",ROUND(G137*VLOOKUP(J137,Parameters!E$4:G$49,3),2))","v":""},{"$f":"IF(G137=\"\",\"\",ROUND(G137*Parameters!J$83,2))","v":""},""]
[null,null,null,null,0,{"$f":"IF(C138=\"\",0,IF(C138<=Parameters!$C$3,C138,Parameters!$C$3))","v":0},{"$f":"IF(C138=\"\",\"\",IF(F138<Parameters!$C$4,\"\",(F138-Parameters!$C$4)*D138))","v":""},null,{"$f":"IF(H138=\"\",\"\",YEAR(+Informatie!$C$1)-YEAR(H138))","v":""},"",{"$f":"IF(G138=\"\",\"\",ROUND(G138*Parameters!$C$12,2))","v":""},{"$f":"IF(G138=\"\",\"\",IF(YEAR(Informatie!$C$1)=2015,ROUND(G138*Parameters!$J$27,2),ROUND(G138*VLOOKUP('Overzicht deelnemers'!I138,Parameters!$E$4:$G$49,2,FALSE),2)))","v":""},{"$f":"IF(G138=\"\",\"\",IF(YEAR(Informatie!$C$1)=2015,ROUND(L138*Parameters!$C$20,2),G138*Parameters!$J$27))","v":""},"",{"$f":"IF(G138=\"\",\"\",ROUND(G138*Parameters!$C$16,2))","v":""},{"$f":"IF(G138=\"\",\"\",ROUND(G138*VLOOKUP(J138,Parameters!$E$3:$F$49,2,FALSE),2))","v":""},{"$f":"IF(G138=\"\",\"\",ROUND(G138*Parameters!$J$66,2))","v":""},"",{"$f":"IF(G138=\"\",\"\",ROUND(G138*Parameters!$C$13,2))","v":""},{"$f":"IF(G138=\"\",\"\",IF(YEAR(Informatie!$C$1)=2015,ROUND(G138*Parameters!J$44,2),ROUND(G138*VLOOKUP('Overzicht deelnemers'!I138,Parameters!$E$4:$G$49,3,FALSE),2)))","v":""},{"$f":"IF(G138=\"\",\"\",IF(YEAR(Informatie!$C$1)=2015,ROUND(T138*Parameters!$C$20,2),ROUND(G138*Parameters!$J$44,2)))","v":""},"",{"$f":"IF(G138=\"\",\"\",ROUND(G138*Parameters!C$17,2))","v":""},{"$f":"IF(G138=\"\",\"\",ROUND(G138*VLOOKUP(J138,Parameters!E$4:G$49,3),2))","v":""},{"$f":"IF(G138=\"\",\"\",ROUND(G138*Parameters!J$83,2))","v":""},""]
[null,null,null,null,0,{"$f":"IF(C139=\"\",0,IF(C139<=Parameters!$C$3,C139,Parameters!$C$3))","v":0},{"$f":"IF(C139=\"\",\"\",IF(F139<Parameters!$C$4,\"\",(F139-Parameters!$C$4)*D139))","v":""},null,{"$f":"IF(H139=\"\",\"\",YEAR(+Informatie!$C$1)-YEAR(H139))","v":""},"",{"$f":"IF(G139=\"\",\"\",ROUND(G139*Parameters!$C$12,2))","v":""},{"$f":"IF(G139=\"\",\"\",IF(YEAR(Informatie!$C$1)=2015,ROUND(G139*Parameters!$J$27,2),ROUND(G139*VLOOKUP('Overzicht deelnemers'!I139,Parameters!$E$4:$G$49,2,FALSE),2)))","v":""},{"$f":"IF(G139=\"\",\"\",IF(YEAR(Informatie!$C$1)=2015,ROUND(L139*Parameters!$C$20,2),G139*Parameters!$J$27))","v":""},"",{"$f":"IF(G139=\"\",\"\",ROUND(G139*Parameters!$C$16,2))","v":""},{"$f":"IF(G139=\"\",\"\",ROUND(G139*VLOOKUP(J139,Parameters!$E$3:$F$49,2,FALSE),2))","v":""},{"$f":"IF(G139=\"\",\"\",ROUND(G139*Parameters!$J$66,2))","v":""},"",{"$f":"IF(G139=\"\",\"\",ROUND(G139*Parameters!$C$13,2))","v":""},{"$f":"IF(G139=\"\",\"\",IF(YEAR(Informatie!$C$1)=2015,ROUND(G139*Parameters!J$44,2),ROUND(G139*VLOOKUP('Overzicht deelnemers'!I139,Parameters!$E$4:$G$49,3,FALSE),2)))","v":""},{"$f":"IF(G139=\"\",\"\",IF(YEAR(Informatie!$C$1)=2015,ROUND(T139*Parameters!$C$20,2),ROUND(G139*Parameters!$J$44,2)))","v":""},"",{"$f":"IF(G139=\"\",\"\",ROUND(G139*Parameters!C$17,2))","v":""},{"$f":"IF(G139=\"\",\"\",ROUND(G139*VLOOKUP(J139,Parameters!E$4:G$49,3),2))","v":""},{"$f":"IF(G139=\"\",\"\",ROUND(G139*Parameters!J$83,2))","v":""},""]
[null,null,null,null,0,{"$f":"IF(C140=\"\",0,IF(C140<=Parameters!$C$3,C140,Parameters!$C$3))","v":0},{"$f":"IF(C140=\"\",\"\",IF(F140<Parameters!$C$4,\"\",(F140-Parameters!$C$4)*D140))","v":""},null,{"$f":"IF(H140=\"\",\"\",YEAR(+Informatie!$C$1)-YEAR(H140))","v":""},"",{"$f":"IF(G140=\"\",\"\",ROUND(G140*Parameters!$C$12,2))","v":""},{"$f":"IF(G140=\"\",\"\",IF(YEAR(Informatie!$C$1)=2015,ROUND(G140*Parameters!$J$27,2),ROUND(G140*VLOOKUP('Overzicht deelnemers'!I140,Parameters!$E$4:$G$49,2,FALSE),2)))","v":""},{"$f":"IF(G140=\"\",\"\",IF(YEAR(Informatie!$C$1)=2015,ROUND(L140*Parameters!$C$20,2),G140*Parameters!$J$27))","v":""},"",{"$f":"IF(G140=\"\",\"\",ROUND(G140*Parameters!$C$16,2))","v":""},{"$f":"IF(G140=\"\",\"\",ROUND(G140*VLOOKUP(J140,Parameters!$E$3:$F$49,2,FALSE),2))","v":""},{"$f":"IF(G140=\"\",\"\",ROUND(G140*Parameters!$J$66,2))","v":""},"",{"$f":"IF(G140=\"\",\"\",ROUND(G140*Parameters!$C$13,2))","v":""},{"$f":"IF(G140=\"\",\"\",IF(YEAR(Informatie!$C$1)=2015,ROUND(G140*Parameters!J$44,2),ROUND(G140*VLOOKUP('Overzicht deelnemers'!I140,Parameters!$E$4:$G$49,3,FALSE),2)))","v":""},{"$f":"IF(G140=\"\",\"\",IF(YEAR(Informatie!$C$1)=2015,ROUND(T140*Parameters!$C$20,2),ROUND(G140*Parameters!$J$44,2)))","v":""},"",{"$f":"IF(G140=\"\",\"\",ROUND(G140*Parameters!C$17,2))","v":""},{"$f":"IF(G140=\"\",\"\",ROUND(G140*VLOOKUP(J140,Parameters!E$4:G$49,3),2))","v":""},{"$f":"IF(G140=\"\",\"\",ROUND(G140*Parameters!J$83,2))","v":""},""]
[null,null,null,null,0,{"$f":"IF(C141=\"\",0,IF(C141<=Parameters!$C$3,C141,Parameters!$C$3))","v":0},{"$f":"IF(C141=\"\",\"\",IF(F141<Parameters!$C$4,\"\",(F141-Parameters!$C$4)*D141))","v":""},null,{"$f":"IF(H141=\"\",\"\",YEAR(+Informatie!$C$1)-YEAR(H141))","v":""},"",{"$f":"IF(G141=\"\",\"\",ROUND(G141*Parameters!$C$12,2))","v":""},{"$f":"IF(G141=\"\",\"\",IF(YEAR(Informatie!$C$1)=2015,ROUND(G141*Parameters!$J$27,2),ROUND(G141*VLOOKUP('Overzicht deelnemers'!I141,Parameters!$E$4:$G$49,2,FALSE),2)))","v":""},{"$f":"IF(G141=\"\",\"\",IF(YEAR(Informatie!$C$1)=2015,ROUND(L141*Parameters!$C$20,2),G141*Parameters!$J$27))","v":""},"",{"$f":"IF(G141=\"\",\"\",ROUND(G141*Parameters!$C$16,2))","v":""},{"$f":"IF(G141=\"\",\"\",ROUND(G141*VLOOKUP(J141,Parameters!$E$3:$F$49,2,FALSE),2))","v":""},{"$f":"IF(G141=\"\",\"\",ROUND(G141*Parameters!$J$66,2))","v":""},"",{"$f":"IF(G141=\"\",\"\",ROUND(G141*Parameters!$C$13,2))","v":""},{"$f":"IF(G141=\"\",\"\",IF(YEAR(Informatie!$C$1)=2015,ROUND(G141*Parameters!J$44,2),ROUND(G141*VLOOKUP('Overzicht deelnemers'!I141,Parameters!$E$4:$G$49,3,FALSE),2)))","v":""},{"$f":"IF(G141=\"\",\"\",IF(YEAR(Informatie!$C$1)=2015,ROUND(T141*Parameters!$C$20,2),ROUND(G141*Parameters!$J$44,2)))","v":""},"",{"$f":"IF(G141=\"\",\"\",ROUND(G141*Parameters!C$17,2))","v":""},{"$f":"IF(G141=\"\",\"\",ROUND(G141*VLOOKUP(J141,Parameters!E$4:G$49,3),2))","v":""},{"$f":"IF(G141=\"\",\"\",ROUND(G141*Parameters!J$83,2))","v":""},""]
[null,null,null,null,0,{"$f":"IF(C142=\"\",0,IF(C142<=Parameters!$C$3,C142,Parameters!$C$3))","v":0},{"$f":"IF(C142=\"\",\"\",IF(F142<Parameters!$C$4,\"\",(F142-Parameters!$C$4)*D142))","v":""},null,{"$f":"IF(H142=\"\",\"\",YEAR(+Informatie!$C$1)-YEAR(H142))","v":""},"",{"$f":"IF(G142=\"\",\"\",ROUND(G142*Parameters!$C$12,2))","v":""},{"$f":"IF(G142=\"\",\"\",IF(YEAR(Informatie!$C$1)=2015,ROUND(G142*Parameters!$J$27,2),ROUND(G142*VLOOKUP('Overzicht deelnemers'!I142,Parameters!$E$4:$G$49,2,FALSE),2)))","v":""},{"$f":"IF(G142=\"\",\"\",IF(YEAR(Informatie!$C$1)=2015,ROUND(L142*Parameters!$C$20,2),G142*Parameters!$J$27))","v":""},"",{"$f":"IF(G142=\"\",\"\",ROUND(G142*Parameters!$C$16,2))","v":""},{"$f":"IF(G142=\"\",\"\",ROUND(G142*VLOOKUP(J142,Parameters!$E$3:$F$49,2,FALSE),2))","v":""},{"$f":"IF(G142=\"\",\"\",ROUND(G142*Parameters!$J$66,2))","v":""},"",{"$f":"IF(G142=\"\",\"\",ROUND(G142*Parameters!$C$13,2))","v":""},{"$f":"IF(G142=\"\",\"\",IF(YEAR(Informatie!$C$1)=2015,ROUND(G142*Parameters!J$44,2),ROUND(G142*VLOOKUP('Overzicht deelnemers'!I142,Parameters!$E$4:$G$49,3,FALSE),2)))","v":""},{"$f":"IF(G142=\"\",\"\",IF(YEAR(Informatie!$C$1)=2015,ROUND(T142*Parameters!$C$20,2),ROUND(G142*Parameters!$J$44,2)))","v":""},"",{"$f":"IF(G142=\"\",\"\",ROUND(G142*Parameters!C$17,2))","v":""},{"$f":"IF(G142=\"\",\"\",ROUND(G142*VLOOKUP(J142,Parameters!E$4:G$49,3),2))","v":""},{"$f":"IF(G142=\"\",\"\",ROUND(G142*Parameters!J$83,2))","v":""},""]
[null,null,null,null,0,{"$f":"IF(C143=\"\",0,IF(C143<=Parameters!$C$3,C143,Parameters!$C$3))","v":0},{"$f":"IF(C143=\"\",\"\",IF(F143<Parameters!$C$4,\"\",(F143-Parameters!$C$4)*D143))","v":""},null,{"$f":"IF(H143=\"\",\"\",YEAR(+Informatie!$C$1)-YEAR(H143))","v":""},"",{"$f":"IF(G143=\"\",\"\",ROUND(G143*Parameters!$C$12,2))","v":""},{"$f":"IF(G143=\"\",\"\",IF(YEAR(Informatie!$C$1)=2015,ROUND(G143*Parameters!$J$27,2),ROUND(G143*VLOOKUP('Overzicht deelnemers'!I143,Parameters!$E$4:$G$49,2,FALSE),2)))","v":""},{"$f":"IF(G143=\"\",\"\",IF(YEAR(Informatie!$C$1)=2015,ROUND(L143*Parameters!$C$20,2),G143*Parameters!$J$27))","v":""},"",{"$f":"IF(G143=\"\",\"\",ROUND(G143*Parameters!$C$16,2))","v":""},{"$f":"IF(G143=\"\",\"\",ROUND(G143*VLOOKUP(J143,Parameters!$E$3:$F$49,2,FALSE),2))","v":""},{"$f":"IF(G143=\"\",\"\",ROUND(G143*Parameters!$J$66,2))","v":""},"",{"$f":"IF(G143=\"\",\"\",ROUND(G143*Parameters!$C$13,2))","v":""},{"$f":"IF(G143=\"\",\"\",IF(YEAR(Informatie!$C$1)=2015,ROUND(G143*Parameters!J$44,2),ROUND(G143*VLOOKUP('Overzicht deelnemers'!I143,Parameters!$E$4:$G$49,3,FALSE),2)))","v":""},{"$f":"IF(G143=\"\",\"\",IF(YEAR(Informatie!$C$1)=2015,ROUND(T143*Parameters!$C$20,2),ROUND(G143*Parameters!$J$44,2)))","v":""},"",{"$f":"IF(G143=\"\",\"\",ROUND(G143*Parameters!C$17,2))","v":""},{"$f":"IF(G143=\"\",\"\",ROUND(G143*VLOOKUP(J143,Parameters!E$4:G$49,3),2))","v":""},{"$f":"IF(G143=\"\",\"\",ROUND(G143*Parameters!J$83,2))","v":""},""]
[null,null,null,null,0,{"$f":"IF(C144=\"\",0,IF(C144<=Parameters!$C$3,C144,Parameters!$C$3))","v":0},{"$f":"IF(C144=\"\",\"\",IF(F144<Parameters!$C$4,\"\",(F144-Parameters!$C$4)*D144))","v":""},null,{"$f":"IF(H144=\"\",\"\",YEAR(+Informatie!$C$1)-YEAR(H144))","v":""},"",{"$f":"IF(G144=\"\",\"\",ROUND(G144*Parameters!$C$12,2))","v":""},{"$f":"IF(G144=\"\",\"\",IF(YEAR(Informatie!$C$1)=2015,ROUND(G144*Parameters!$J$27,2),ROUND(G144*VLOOKUP('Overzicht deelnemers'!I144,Parameters!$E$4:$G$49,2,FALSE),2)))","v":""},{"$f":"IF(G144=\"\",\"\",IF(YEAR(Informatie!$C$1)=2015,ROUND(L144*Parameters!$C$20,2),G144*Parameters!$J$27))","v":""},"",{"$f":"IF(G144=\"\",\"\",ROUND(G144*Parameters!$C$16,2))","v":""},{"$f":"IF(G144=\"\",\"\",ROUND(G144*VLOOKUP(J144,Parameters!$E$3:$F$49,2,FALSE),2))","v":""},{"$f":"IF(G144=\"\",\"\",ROUND(G144*Parameters!$J$66,2))","v":""},"",{"$f":"IF(G144=\"\",\"\",ROUND(G144*Parameters!$C$13,2))","v":""},{"$f":"IF(G144=\"\",\"\",IF(YEAR(Informatie!$C$1)=2015,ROUND(G144*Parameters!J$44,2),ROUND(G144*VLOOKUP('Overzicht deelnemers'!I144,Parameters!$E$4:$G$49,3,FALSE),2)))","v":""},{"$f":"IF(G144=\"\",\"\",IF(YEAR(Informatie!$C$1)=2015,ROUND(T144*Parameters!$C$20,2),ROUND(G144*Parameters!$J$44,2)))","v":""},"",{"$f":"IF(G144=\"\",\"\",ROUND(G144*Parameters!C$17,2))","v":""},{"$f":"IF(G144=\"\",\"\",ROUND(G144*VLOOKUP(J144,Parameters!E$4:G$49,3),2))","v":""},{"$f":"IF(G144=\"\",\"\",ROUND(G144*Parameters!J$83,2))","v":""},""]
[null,null,null,null,0,{"$f":"IF(C145=\"\",0,IF(C145<=Parameters!$C$3,C145,Parameters!$C$3))","v":0},{"$f":"IF(C145=\"\",\"\",IF(F145<Parameters!$C$4,\"\",(F145-Parameters!$C$4)*D145))","v":""},null,{"$f":"IF(H145=\"\",\"\",YEAR(+Informatie!$C$1)-YEAR(H145))","v":""},"",{"$f":"IF(G145=\"\",\"\",ROUND(G145*Parameters!$C$12,2))","v":""},{"$f":"IF(G145=\"\",\"\",IF(YEAR(Informatie!$C$1)=2015,ROUND(G145*Parameters!$J$27,2),ROUND(G145*VLOOKUP('Overzicht deelnemers'!I145,Parameters!$E$4:$G$49,2,FALSE),2)))","v":""},{"$f":"IF(G145=\"\",\"\",IF(YEAR(Informatie!$C$1)=2015,ROUND(L145*Parameters!$C$20,2),G145*Parameters!$J$27))","v":""},"",{"$f":"IF(G145=\"\",\"\",ROUND(G145*Parameters!$C$16,2))","v":""},{"$f":"IF(G145=\"\",\"\",ROUND(G145*VLOOKUP(J145,Parameters!$E$3:$F$49,2,FALSE),2))","v":""},{"$f":"IF(G145=\"\",\"\",ROUND(G145*Parameters!$J$66,2))","v":""},"",{"$f":"IF(G145=\"\",\"\",ROUND(G145*Parameters!$C$13,2))","v":""},{"$f":"IF(G145=\"\",\"\",IF(YEAR(Informatie!$C$1)=2015,ROUND(G145*Parameters!J$44,2),ROUND(G145*VLOOKUP('Overzicht deelnemers'!I145,Parameters!$E$4:$G$49,3,FALSE),2)))","v":""},{"$f":"IF(G145=\"\",\"\",IF(YEAR(Informatie!$C$1)=2015,ROUND(T145*Parameters!$C$20,2),ROUND(G145*Parameters!$J$44,2)))","v":""},"",{"$f":"IF(G145=\"\",\"\",ROUND(G145*Parameters!C$17,2))","v":""},{"$f":"IF(G145=\"\",\"\",ROUND(G145*VLOOKUP(J145,Parameters!E$4:G$49,3),2))","v":""},{"$f":"IF(G145=\"\",\"\",ROUND(G145*Parameters!J$83,2))","v":""},""]
[null,null,null,null,0,{"$f":"IF(C146=\"\",0,IF(C146<=Parameters!$C$3,C146,Parameters!$C$3))","v":0},{"$f":"IF(C146=\"\",\"\",IF(F146<Parameters!$C$4,\"\",(F146-Parameters!$C$4)*D146))","v":""},null,{"$f":"IF(H146=\"\",\"\",YEAR(+Informatie!$C$1)-YEAR(H146))","v":""},"",{"$f":"IF(G146=\"\",\"\",ROUND(G146*Parameters!$C$12,2))","v":""},{"$f":"IF(G146=\"\",\"\",IF(YEAR(Informatie!$C$1)=2015,ROUND(G146*Parameters!$J$27,2),ROUND(G146*VLOOKUP('Overzicht deelnemers'!I146,Parameters!$E$4:$G$49,2,FALSE),2)))","v":""},{"$f":"IF(G146=\"\",\"\",IF(YEAR(Informatie!$C$1)=2015,ROUND(L146*Parameters!$C$20,2),G146*Parameters!$J$27))","v":""},"",{"$f":"IF(G146=\"\",\"\",ROUND(G146*Parameters!$C$16,2))","v":""},{"$f":"IF(G146=\"\",\"\",ROUND(G146*VLOOKUP(J146,Parameters!$E$3:$F$49,2,FALSE),2))","v":""},{"$f":"IF(G146=\"\",\"\",ROUND(G146*Parameters!$J$66,2))","v":""},"",{"$f":"IF(G146=\"\",\"\",ROUND(G146*Parameters!$C$13,2))","v":""},{"$f":"IF(G146=\"\",\"\",IF(YEAR(Informatie!$C$1)=2015,ROUND(G146*Parameters!J$44,2),ROUND(G146*VLOOKUP('Overzicht deelnemers'!I146,Parameters!$E$4:$G$49,3,FALSE),2)))","v":""},{"$f":"IF(G146=\"\",\"\",IF(YEAR(Informatie!$C$1)=2015,ROUND(T146*Parameters!$C$20,2),ROUND(G146*Parameters!$J$44,2)))","v":""},"",{"$f":"IF(G146=\"\",\"\",ROUND(G146*Parameters!C$17,2))","v":""},{"$f":"IF(G146=\"\",\"\",ROUND(G146*VLOOKUP(J146,Parameters!E$4:G$49,3),2))","v":""},{"$f":"IF(G146=\"\",\"\",ROUND(G146*Parameters!J$83,2))","v":""},""]
[null,null,null,null,0,{"$f":"IF(C147=\"\",0,IF(C147<=Parameters!$C$3,C147,Parameters!$C$3))","v":0},{"$f":"IF(C147=\"\",\"\",IF(F147<Parameters!$C$4,\"\",(F147-Parameters!$C$4)*D147))","v":""},null,{"$f":"IF(H147=\"\",\"\",YEAR(+Informatie!$C$1)-YEAR(H147))","v":""},"",{"$f":"IF(G147=\"\",\"\",ROUND(G147*Parameters!$C$12,2))","v":""},{"$f":"IF(G147=\"\",\"\",IF(YEAR(Informatie!$C$1)=2015,ROUND(G147*Parameters!$J$27,2),ROUND(G147*VLOOKUP('Overzicht deelnemers'!I147,Parameters!$E$4:$G$49,2,FALSE),2)))","v":""},{"$f":"IF(G147=\"\",\"\",IF(YEAR(Informatie!$C$1)=2015,ROUND(L147*Parameters!$C$20,2),G147*Parameters!$J$27))","v":""},"",{"$f":"IF(G147=\"\",\"\",ROUND(G147*Parameters!$C$16,2))","v":""},{"$f":"IF(G147=\"\",\"\",ROUND(G147*VLOOKUP(J147,Parameters!$E$3:$F$49,2,FALSE),2))","v":""},{"$f":"IF(G147=\"\",\"\",ROUND(G147*Parameters!$J$66,2))","v":""},"",{"$f":"IF(G147=\"\",\"\",ROUND(G147*Parameters!$C$13,2))","v":""},{"$f":"IF(G147=\"\",\"\",IF(YEAR(Informatie!$C$1)=2015,ROUND(G147*Parameters!J$44,2),ROUND(G147*VLOOKUP('Overzicht deelnemers'!I147,Parameters!$E$4:$G$49,3,FALSE),2)))","v":""},{"$f":"IF(G147=\"\",\"\",IF(YEAR(Informatie!$C$1)=2015,ROUND(T147*Parameters!$C$20,2),ROUND(G147*Parameters!$J$44,2)))","v":""},"",{"$f":"IF(G147=\"\",\"\",ROUND(G147*Parameters!C$17,2))","v":""},{"$f":"IF(G147=\"\",\"\",ROUND(G147*VLOOKUP(J147,Parameters!E$4:G$49,3),2))","v":""},{"$f":"IF(G147=\"\",\"\",ROUND(G147*Parameters!J$83,2))","v":""},""]
[null,null,null,null,0,{"$f":"IF(C148=\"\",0,IF(C148<=Parameters!$C$3,C148,Parameters!$C$3))","v":0},{"$f":"IF(C148=\"\",\"\",IF(F148<Parameters!$C$4,\"\",(F148-Parameters!$C$4)*D148))","v":""},null,{"$f":"IF(H148=\"\",\"\",YEAR(+Informatie!$C$1)-YEAR(H148))","v":""},"",{"$f":"IF(G148=\"\",\"\",ROUND(G148*Parameters!$C$12,2))","v":""},{"$f":"IF(G148=\"\",\"\",IF(YEAR(Informatie!$C$1)=2015,ROUND(G148*Parameters!$J$27,2),ROUND(G148*VLOOKUP('Overzicht deelnemers'!I148,Parameters!$E$4:$G$49,2,FALSE),2)))","v":""},{"$f":"IF(G148=\"\",\"\",IF(YEAR(Informatie!$C$1)=2015,ROUND(L148*Parameters!$C$20,2),G148*Parameters!$J$27))","v":""},"",{"$f":"IF(G148=\"\",\"\",ROUND(G148*Parameters!$C$16,2))","v":""},{"$f":"IF(G148=\"\",\"\",ROUND(G148*VLOOKUP(J148,Parameters!$E$3:$F$49,2,FALSE),2))","v":""},{"$f":"IF(G148=\"\",\"\",ROUND(G148*Parameters!$J$66,2))","v":""},"",{"$f":"IF(G148=\"\",\"\",ROUND(G148*Parameters!$C$13,2))","v":""},{"$f":"IF(G148=\"\",\"\",IF(YEAR(Informatie!$C$1)=2015,ROUND(G148*Parameters!J$44,2),ROUND(G148*VLOOKUP('Overzicht deelnemers'!I148,Parameters!$E$4:$G$49,3,FALSE),2)))","v":""},{"$f":"IF(G148=\"\",\"\",IF(YEAR(Informatie!$C$1)=2015,ROUND(T148*Parameters!$C$20,2),ROUND(G148*Parameters!$J$44,2)))","v":""},"",{"$f":"IF(G148=\"\",\"\",ROUND(G148*Parameters!C$17,2))","v":""},{"$f":"IF(G148=\"\",\"\",ROUND(G148*VLOOKUP(J148,Parameters!E$4:G$49,3),2))","v":""},{"$f":"IF(G148=\"\",\"\",ROUND(G148*Parameters!J$83,2))","v":""},""]
[null,null,null,null,0,{"$f":"IF(C149=\"\",0,IF(C149<=Parameters!$C$3,C149,Parameters!$C$3))","v":0},{"$f":"IF(C149=\"\",\"\",IF(F149<Parameters!$C$4,\"\",(F149-Parameters!$C$4)*D149))","v":""},null,{"$f":"IF(H149=\"\",\"\",YEAR(+Informatie!$C$1)-YEAR(H149))","v":""},"",{"$f":"IF(G149=\"\",\"\",ROUND(G149*Parameters!$C$12,2))","v":""},{"$f":"IF(G149=\"\",\"\",IF(YEAR(Informatie!$C$1)=2015,ROUND(G149*Parameters!$J$27,2),ROUND(G149*VLOOKUP('Overzicht deelnemers'!I149,Parameters!$E$4:$G$49,2,FALSE),2)))","v":""},{"$f":"IF(G149=\"\",\"\",IF(YEAR(Informatie!$C$1)=2015,ROUND(L149*Parameters!$C$20,2),G149*Parameters!$J$27))","v":""},"",{"$f":"IF(G149=\"\",\"\",ROUND(G149*Parameters!$C$16,2))","v":""},{"$f":"IF(G149=\"\",\"\",ROUND(G149*VLOOKUP(J149,Parameters!$E$3:$F$49,2,FALSE),2))","v":""},{"$f":"IF(G149=\"\",\"\",ROUND(G149*Parameters!$J$66,2))","v":""},"",{"$f":"IF(G149=\"\",\"\",ROUND(G149*Parameters!$C$13,2))","v":""},{"$f":"IF(G149=\"\",\"\",IF(YEAR(Informatie!$C$1)=2015,ROUND(G149*Parameters!J$44,2),ROUND(G149*VLOOKUP('Overzicht deelnemers'!I149,Parameters!$E$4:$G$49,3,FALSE),2)))","v":""},{"$f":"IF(G149=\"\",\"\",IF(YEAR(Informatie!$C$1)=2015,ROUND(T149*Parameters!$C$20,2),ROUND(G149*Parameters!$J$44,2)))","v":""},"",{"$f":"IF(G149=\"\",\"\",ROUND(G149*Parameters!C$17,2))","v":""},{"$f":"IF(G149=\"\",\"\",ROUND(G149*VLOOKUP(J149,Parameters!E$4:G$49,3),2))","v":""},{"$f":"IF(G149=\"\",\"\",ROUND(G149*Parameters!J$83,2))","v":""},""]
[null,null,null,null,0,{"$f":"IF(C150=\"\",0,IF(C150<=Parameters!$C$3,C150,Parameters!$C$3))","v":0},{"$f":"IF(C150=\"\",\"\",IF(F150<Parameters!$C$4,\"\",(F150-Parameters!$C$4)*D150))","v":""},null,{"$f":"IF(H150=\"\",\"\",YEAR(+Informatie!$C$1)-YEAR(H150))","v":""},"",{"$f":"IF(G150=\"\",\"\",ROUND(G150*Parameters!$C$12,2))","v":""},{"$f":"IF(G150=\"\",\"\",IF(YEAR(Informatie!$C$1)=2015,ROUND(G150*Parameters!$J$27,2),ROUND(G150*VLOOKUP('Overzicht deelnemers'!I150,Parameters!$E$4:$G$49,2,FALSE),2)))","v":""},{"$f":"IF(G150=\"\",\"\",IF(YEAR(Informatie!$C$1)=2015,ROUND(L150*Parameters!$C$20,2),G150*Parameters!$J$27))","v":""},"",{"$f":"IF(G150=\"\",\"\",ROUND(G150*Parameters!$C$16,2))","v":""},{"$f":"IF(G150=\"\",\"\",ROUND(G150*VLOOKUP(J150,Parameters!$E$3:$F$49,2,FALSE),2))","v":""},{"$f":"IF(G150=\"\",\"\",ROUND(G150*Parameters!$J$66,2))","v":""},"",{"$f":"IF(G150=\"\",\"\",ROUND(G150*Parameters!$C$13,2))","v":""},{"$f":"IF(G150=\"\",\"\",IF(YEAR(Informatie!$C$1)=2015,ROUND(G150*Parameters!J$44,2),ROUND(G150*VLOOKUP('Overzicht deelnemers'!I150,Parameters!$E$4:$G$49,3,FALSE),2)))","v":""},{"$f":"IF(G150=\"\",\"\",IF(YEAR(Informatie!$C$1)=2015,ROUND(T150*Parameters!$C$20,2),ROUND(G150*Parameters!$J$44,2)))","v":""},"",{"$f":"IF(G150=\"\",\"\",ROUND(G150*Parameters!C$17,2))","v":""},{"$f":"IF(G150=\"\",\"\",ROUND(G150*VLOOKUP(J150,Parameters!E$4:G$49,3),2))","v":""},{"$f":"IF(G150=\"\",\"\",ROUND(G150*Parameters!J$83,2))","v":""},""]
[null,null,null,null,0,{"$f":"IF(C151=\"\",0,IF(C151<=Parameters!$C$3,C151,Parameters!$C$3))","v":0},{"$f":"IF(C151=\"\",\"\",IF(F151<Parameters!$C$4,\"\",(F151-Parameters!$C$4)*D151))","v":""},null,{"$f":"IF(H151=\"\",\"\",YEAR(+Informatie!$C$1)-YEAR(H151))","v":""},"",{"$f":"IF(G151=\"\",\"\",ROUND(G151*Parameters!$C$12,2))","v":""},{"$f":"IF(G151=\"\",\"\",IF(YEAR(Informatie!$C$1)=2015,ROUND(G151*Parameters!$J$27,2),ROUND(G151*VLOOKUP('Overzicht deelnemers'!I151,Parameters!$E$4:$G$49,2,FALSE),2)))","v":""},{"$f":"IF(G151=\"\",\"\",IF(YEAR(Informatie!$C$1)=2015,ROUND(L151*Parameters!$C$20,2),G151*Parameters!$J$27))","v":""},"",{"$f":"IF(G151=\"\",\"\",ROUND(G151*Parameters!$C$16,2))","v":""},{"$f":"IF(G151=\"\",\"\",ROUND(G151*VLOOKUP(J151,Parameters!$E$3:$F$49,2,FALSE),2))","v":""},{"$f":"IF(G151=\"\",\"\",ROUND(G151*Parameters!$J$66,2))","v":""},"",{"$f":"IF(G151=\"\",\"\",ROUND(G151*Parameters!$C$13,2))","v":""},{"$f":"IF(G151=\"\",\"\",IF(YEAR(Informatie!$C$1)=2015,ROUND(G151*Parameters!J$44,2),ROUND(G151*VLOOKUP('Overzicht deelnemers'!I151,Parameters!$E$4:$G$49,3,FALSE),2)))","v":""},{"$f":"IF(G151=\"\",\"\",IF(YEAR(Informatie!$C$1)=2015,ROUND(T151*Parameters!$C$20,2),ROUND(G151*Parameters!$J$44,2)))","v":""},"",{"$f":"IF(G151=\"\",\"\",ROUND(G151*Parameters!C$17,2))","v":""},{"$f":"IF(G151=\"\",\"\",ROUND(G151*VLOOKUP(J151,Parameters!E$4:G$49,3),2))","v":""},{"$f":"IF(G151=\"\",\"\",ROUND(G151*Parameters!J$83,2))","v":""},""]
[null,null,null,null,0,{"$f":"IF(C152=\"\",0,IF(C152<=Parameters!$C$3,C152,Parameters!$C$3))","v":0},{"$f":"IF(C152=\"\",\"\",IF(F152<Parameters!$C$4,\"\",(F152-Parameters!$C$4)*D152))","v":""},null,{"$f":"IF(H152=\"\",\"\",YEAR(+Informatie!$C$1)-YEAR(H152))","v":""},"",{"$f":"IF(G152=\"\",\"\",ROUND(G152*Parameters!$C$12,2))","v":""},{"$f":"IF(G152=\"\",\"\",IF(YEAR(Informatie!$C$1)=2015,ROUND(G152*Parameters!$J$27,2),ROUND(G152*VLOOKUP('Overzicht deelnemers'!I152,Parameters!$E$4:$G$49,2,FALSE),2)))","v":""},{"$f":"IF(G152=\"\",\"\",IF(YEAR(Informatie!$C$1)=2015,ROUND(L152*Parameters!$C$20,2),G152*Parameters!$J$27))","v":""},"",{"$f":"IF(G152=\"\",\"\",ROUND(G152*Parameters!$C$16,2))","v":""},{"$f":"IF(G152=\"\",\"\",ROUND(G152*VLOOKUP(J152,Parameters!$E$3:$F$49,2,FALSE),2))","v":""},{"$f":"IF(G152=\"\",\"\",ROUND(G152*Parameters!$J$66,2))","v":""},"",{"$f":"IF(G152=\"\",\"\",ROUND(G152*Parameters!$C$13,2))","v":""},{"$f":"IF(G152=\"\",\"\",IF(YEAR(Informatie!$C$1)=2015,ROUND(G152*Parameters!J$44,2),ROUND(G152*VLOOKUP('Overzicht deelnemers'!I152,Parameters!$E$4:$G$49,3,FALSE),2)))","v":""},{"$f":"IF(G152=\"\",\"\",IF(YEAR(Informatie!$C$1)=2015,ROUND(T152*Parameters!$C$20,2),ROUND(G152*Parameters!$J$44,2)))","v":""},"",{"$f":"IF(G152=\"\",\"\",ROUND(G152*Parameters!C$17,2))","v":""},{"$f":"IF(G152=\"\",\"\",ROUND(G152*VLOOKUP(J152,Parameters!E$4:G$49,3),2))","v":""},{"$f":"IF(G152=\"\",\"\",ROUND(G152*Parameters!J$83,2))","v":""},""]
[null,null,null,null,0,{"$f":"IF(C153=\"\",0,IF(C153<=Parameters!$C$3,C153,Parameters!$C$3))","v":0},{"$f":"IF(C153=\"\",\"\",IF(F153<Parameters!$C$4,\"\",(F153-Parameters!$C$4)*D153))","v":""},null,{"$f":"IF(H153=\"\",\"\",YEAR(+Informatie!$C$1)-YEAR(H153))","v":""},"",{"$f":"IF(G153=\"\",\"\",ROUND(G153*Parameters!$C$12,2))","v":""},{"$f":"IF(G153=\"\",\"\",IF(YEAR(Informatie!$C$1)=2015,ROUND(G153*Parameters!$J$27,2),ROUND(G153*VLOOKUP('Overzicht deelnemers'!I153,Parameters!$E$4:$G$49,2,FALSE),2)))","v":""},{"$f":"IF(G153=\"\",\"\",IF(YEAR(Informatie!$C$1)=2015,ROUND(L153*Parameters!$C$20,2),G153*Parameters!$J$27))","v":""},"",{"$f":"IF(G153=\"\",\"\",ROUND(G153*Parameters!$C$16,2))","v":""},{"$f":"IF(G153=\"\",\"\",ROUND(G153*VLOOKUP(J153,Parameters!$E$3:$F$49,2,FALSE),2))","v":""},{"$f":"IF(G153=\"\",\"\",ROUND(G153*Parameters!$J$66,2))","v":""},"",{"$f":"IF(G153=\"\",\"\",ROUND(G153*Parameters!$C$13,2))","v":""},{"$f":"IF(G153=\"\",\"\",IF(YEAR(Informatie!$C$1)=2015,ROUND(G153*Parameters!J$44,2),ROUND(G153*VLOOKUP('Overzicht deelnemers'!I153,Parameters!$E$4:$G$49,3,FALSE),2)))","v":""},{"$f":"IF(G153=\"\",\"\",IF(YEAR(Informatie!$C$1)=2015,ROUND(T153*Parameters!$C$20,2),ROUND(G153*Parameters!$J$44,2)))","v":""},"",{"$f":"IF(G153=\"\",\"\",ROUND(G153*Parameters!C$17,2))","v":""},{"$f":"IF(G153=\"\",\"\",ROUND(G153*VLOOKUP(J153,Parameters!E$4:G$49,3),2))","v":""},{"$f":"IF(G153=\"\",\"\",ROUND(G153*Parameters!J$83,2))","v":""},""]
[null,null,null,null,0,{"$f":"IF(C154=\"\",0,IF(C154<=Parameters!$C$3,C154,Parameters!$C$3))","v":0},{"$f":"IF(C154=\"\",\"\",IF(F154<Parameters!$C$4,\"\",(F154-Parameters!$C$4)*D154))","v":""},null,{"$f":"IF(H154=\"\",\"\",YEAR(+Informatie!$C$1)-YEAR(H154))","v":""},"",{"$f":"IF(G154=\"\",\"\",ROUND(G154*Parameters!$C$12,2))","v":""},{"$f":"IF(G154=\"\",\"\",IF(YEAR(Informatie!$C$1)=2015,ROUND(G154*Parameters!$J$27,2),ROUND(G154*VLOOKUP('Overzicht deelnemers'!I154,Parameters!$E$4:$G$49,2,FALSE),2)))","v":""},{"$f":"IF(G154=\"\",\"\",IF(YEAR(Informatie!$C$1)=2015,ROUND(L154*Parameters!$C$20,2),G154*Parameters!$J$27))","v":""},"",{"$f":"IF(G154=\"\",\"\",ROUND(G154*Parameters!$C$16,2))","v":""},{"$f":"IF(G154=\"\",\"\",ROUND(G154*VLOOKUP(J154,Parameters!$E$3:$F$49,2,FALSE),2))","v":""},{"$f":"IF(G154=\"\",\"\",ROUND(G154*Parameters!$J$66,2))","v":""},"",{"$f":"IF(G154=\"\",\"\",ROUND(G154*Parameters!$C$13,2))","v":""},{"$f":"IF(G154=\"\",\"\",IF(YEAR(Informatie!$C$1)=2015,ROUND(G154*Parameters!J$44,2),ROUND(G154*VLOOKUP('Overzicht deelnemers'!I154,Parameters!$E$4:$G$49,3,FALSE),2)))","v":""},{"$f":"IF(G154=\"\",\"\",IF(YEAR(Informatie!$C$1)=2015,ROUND(T154*Parameters!$C$20,2),ROUND(G154*Parameters!$J$44,2)))","v":""},"",{"$f":"IF(G154=\"\",\"\",ROUND(G154*Parameters!C$17,2))","v":""},{"$f":"IF(G154=\"\",\"\",ROUND(G154*VLOOKUP(J154,Parameters!E$4:G$49,3),2))","v":""},{"$f":"IF(G154=\"\",\"\",ROUND(G154*Parameters!J$83,2))","v":""},""]
[null,null,null,null,0,{"$f":"IF(C155=\"\",0,IF(C155<=Parameters!$C$3,C155,Parameters!$C$3))","v":0},{"$f":"IF(C155=\"\",\"\",IF(F155<Parameters!$C$4,\"\",(F155-Parameters!$C$4)*D155))","v":""},null,{"$f":"IF(H155=\"\",\"\",YEAR(+Informatie!$C$1)-YEAR(H155))","v":""},"",{"$f":"IF(G155=\"\",\"\",ROUND(G155*Parameters!$C$12,2))","v":""},{"$f":"IF(G155=\"\",\"\",IF(YEAR(Informatie!$C$1)=2015,ROUND(G155*Parameters!$J$27,2),ROUND(G155*VLOOKUP('Overzicht deelnemers'!I155,Parameters!$E$4:$G$49,2,FALSE),2)))","v":""},{"$f":"IF(G155=\"\",\"\",IF(YEAR(Informatie!$C$1)=2015,ROUND(L155*Parameters!$C$20,2),G155*Parameters!$J$27))","v":""},"",{"$f":"IF(G155=\"\",\"\",ROUND(G155*Parameters!$C$16,2))","v":""},{"$f":"IF(G155=\"\",\"\",ROUND(G155*VLOOKUP(J155,Parameters!$E$3:$F$49,2,FALSE),2))","v":""},{"$f":"IF(G155=\"\",\"\",ROUND(G155*Parameters!$J$66,2))","v":""},"",{"$f":"IF(G155=\"\",\"\",ROUND(G155*Parameters!$C$13,2))","v":""},{"$f":"IF(G155=\"\",\"\",IF(YEAR(Informatie!$C$1)=2015,ROUND(G155*Parameters!J$44,2),ROUND(G155*VLOOKUP('Overzicht deelnemers'!I155,Parameters!$E$4:$G$49,3,FALSE),2)))","v":""},{"$f":"IF(G155=\"\",\"\",IF(YEAR(Informatie!$C$1)=2015,ROUND(T155*Parameters!$C$20,2),ROUND(G155*Parameters!$J$44,2)))","v":""},"",{"$f":"IF(G155=\"\",\"\",ROUND(G155*Parameters!C$17,2))","v":""},{"$f":"IF(G155=\"\",\"\",ROUND(G155*VLOOKUP(J155,Parameters!E$4:G$49,3),2))","v":""},{"$f":"IF(G155=\"\",\"\",ROUND(G155*Parameters!J$83,2))","v":""},""]
[null,null,null,null,0,{"$f":"IF(C156=\"\",0,IF(C156<=Parameters!$C$3,C156,Parameters!$C$3))","v":0},{"$f":"IF(C156=\"\",\"\",IF(F156<Parameters!$C$4,\"\",(F156-Parameters!$C$4)*D156))","v":""},null,{"$f":"IF(H156=\"\",\"\",YEAR(+Informatie!$C$1)-YEAR(H156))","v":""},"",{"$f":"IF(G156=\"\",\"\",ROUND(G156*Parameters!$C$12,2))","v":""},{"$f":"IF(G156=\"\",\"\",IF(YEAR(Informatie!$C$1)=2015,ROUND(G156*Parameters!$J$27,2),ROUND(G156*VLOOKUP('Overzicht deelnemers'!I156,Parameters!$E$4:$G$49,2,FALSE),2)))","v":""},{"$f":"IF(G156=\"\",\"\",IF(YEAR(Informatie!$C$1)=2015,ROUND(L156*Parameters!$C$20,2),G156*Parameters!$J$27))","v":""},"",{"$f":"IF(G156=\"\",\"\",ROUND(G156*Parameters!$C$16,2))","v":""},{"$f":"IF(G156=\"\",\"\",ROUND(G156*VLOOKUP(J156,Parameters!$E$3:$F$49,2,FALSE),2))","v":""},{"$f":"IF(G156=\"\",\"\",ROUND(G156*Parameters!$J$66,2))","v":""},"",{"$f":"IF(G156=\"\",\"\",ROUND(G156*Parameters!$C$13,2))","v":""},{"$f":"IF(G156=\"\",\"\",IF(YEAR(Informatie!$C$1)=2015,ROUND(G156*Parameters!J$44,2),ROUND(G156*VLOOKUP('Overzicht deelnemers'!I156,Parameters!$E$4:$G$49,3,FALSE),2)))","v":""},{"$f":"IF(G156=\"\",\"\",IF(YEAR(Informatie!$C$1)=2015,ROUND(T156*Parameters!$C$20,2),ROUND(G156*Parameters!$J$44,2)))","v":""},"",{"$f":"IF(G156=\"\",\"\",ROUND(G156*Parameters!C$17,2))","v":""},{"$f":"IF(G156=\"\",\"\",ROUND(G156*VLOOKUP(J156,Parameters!E$4:G$49,3),2))","v":""},{"$f":"IF(G156=\"\",\"\",ROUND(G156*Parameters!J$83,2))","v":""},""]
[null,null,null,null,0,{"$f":"IF(C157=\"\",0,IF(C157<=Parameters!$C$3,C157,Parameters!$C$3))","v":0},{"$f":"IF(C157=\"\",\"\",IF(F157<Parameters!$C$4,\"\",(F157-Parameters!$C$4)*D157))","v":""},null,{"$f":"IF(H157=\"\",\"\",YEAR(+Informatie!$C$1)-YEAR(H157))","v":""},"",{"$f":"IF(G157=\"\",\"\",ROUND(G157*Parameters!$C$12,2))","v":""},{"$f":"IF(G157=\"\",\"\",IF(YEAR(Informatie!$C$1)=2015,ROUND(G157*Parameters!$J$27,2),ROUND(G157*VLOOKUP('Overzicht deelnemers'!I157,Parameters!$E$4:$G$49,2,FALSE),2)))","v":""},{"$f":"IF(G157=\"\",\"\",IF(YEAR(Informatie!$C$1)=2015,ROUND(L157*Parameters!$C$20,2),G157*Parameters!$J$27))","v":""},"",{"$f":"IF(G157=\"\",\"\",ROUND(G157*Parameters!$C$16,2))","v":""},{"$f":"IF(G157=\"\",\"\",ROUND(G157*VLOOKUP(J157,Parameters!$E$3:$F$49,2,FALSE),2))","v":""},{"$f":"IF(G157=\"\",\"\",ROUND(G157*Parameters!$J$66,2))","v":""},"",{"$f":"IF(G157=\"\",\"\",ROUND(G157*Parameters!$C$13,2))","v":""},{"$f":"IF(G157=\"\",\"\",IF(YEAR(Informatie!$C$1)=2015,ROUND(G157*Parameters!J$44,2),ROUND(G157*VLOOKUP('Overzicht deelnemers'!I157,Parameters!$E$4:$G$49,3,FALSE),2)))","v":""},{"$f":"IF(G157=\"\",\"\",IF(YEAR(Informatie!$C$1)=2015,ROUND(T157*Parameters!$C$20,2),ROUND(G157*Parameters!$J$44,2)))","v":""},"",{"$f":"IF(G157=\"\",\"\",ROUND(G157*Parameters!C$17,2))","v":""},{"$f":"IF(G157=\"\",\"\",ROUND(G157*VLOOKUP(J157,Parameters!E$4:G$49,3),2))","v":""},{"$f":"IF(G157=\"\",\"\",ROUND(G157*Parameters!J$83,2))","v":""},""]
[null,null,null,null,0,{"$f":"IF(C158=\"\",0,IF(C158<=Parameters!$C$3,C158,Parameters!$C$3))","v":0},{"$f":"IF(C158=\"\",\"\",IF(F158<Parameters!$C$4,\"\",(F158-Parameters!$C$4)*D158))","v":""},null,{"$f":"IF(H158=\"\",\"\",YEAR(+Informatie!$C$1)-YEAR(H158))","v":""},"",{"$f":"IF(G158=\"\",\"\",ROUND(G158*Parameters!$C$12,2))","v":""},{"$f":"IF(G158=\"\",\"\",IF(YEAR(Informatie!$C$1)=2015,ROUND(G158*Parameters!$J$27,2),ROUND(G158*VLOOKUP('Overzicht deelnemers'!I158,Parameters!$E$4:$G$49,2,FALSE),2)))","v":""},{"$f":"IF(G158=\"\",\"\",IF(YEAR(Informatie!$C$1)=2015,ROUND(L158*Parameters!$C$20,2),G158*Parameters!$J$27))","v":""},"",{"$f":"IF(G158=\"\",\"\",ROUND(G158*Parameters!$C$16,2))","v":""},{"$f":"IF(G158=\"\",\"\",ROUND(G158*VLOOKUP(J158,Parameters!$E$3:$F$49,2,FALSE),2))","v":""},{"$f":"IF(G158=\"\",\"\",ROUND(G158*Parameters!$J$66,2))","v":""},"",{"$f":"IF(G158=\"\",\"\",ROUND(G158*Parameters!$C$13,2))","v":""},{"$f":"IF(G158=\"\",\"\",IF(YEAR(Informatie!$C$1)=2015,ROUND(G158*Parameters!J$44,2),ROUND(G158*VLOOKUP('Overzicht deelnemers'!I158,Parameters!$E$4:$G$49,3,FALSE),2)))","v":""},{"$f":"IF(G158=\"\",\"\",IF(YEAR(Informatie!$C$1)=2015,ROUND(T158*Parameters!$C$20,2),ROUND(G158*Parameters!$J$44,2)))","v":""},"",{"$f":"IF(G158=\"\",\"\",ROUND(G158*Parameters!C$17,2))","v":""},{"$f":"IF(G158=\"\",\"\",ROUND(G158*VLOOKUP(J158,Parameters!E$4:G$49,3),2))","v":""},{"$f":"IF(G158=\"\",\"\",ROUND(G158*Parameters!J$83,2))","v":""},""]
[null,null,null,null,0,{"$f":"IF(C159=\"\",0,IF(C159<=Parameters!$C$3,C159,Parameters!$C$3))","v":0},{"$f":"IF(C159=\"\",\"\",IF(F159<Parameters!$C$4,\"\",(F159-Parameters!$C$4)*D159))","v":""},null,{"$f":"IF(H159=\"\",\"\",YEAR(+Informatie!$C$1)-YEAR(H159))","v":""},"",{"$f":"IF(G159=\"\",\"\",ROUND(G159*Parameters!$C$12,2))","v":""},{"$f":"IF(G159=\"\",\"\",IF(YEAR(Informatie!$C$1)=2015,ROUND(G159*Parameters!$J$27,2),ROUND(G159*VLOOKUP('Overzicht deelnemers'!I159,Parameters!$E$4:$G$49,2,FALSE),2)))","v":""},{"$f":"IF(G159=\"\",\"\",IF(YEAR(Informatie!$C$1)=2015,ROUND(L159*Parameters!$C$20,2),G159*Parameters!$J$27))","v":""},"",{"$f":"IF(G159=\"\",\"\",ROUND(G159*Parameters!$C$16,2))","v":""},{"$f":"IF(G159=\"\",\"\",ROUND(G159*VLOOKUP(J159,Parameters!$E$3:$F$49,2,FALSE),2))","v":""},{"$f":"IF(G159=\"\",\"\",ROUND(G159*Parameters!$J$66,2))","v":""},"",{"$f":"IF(G159=\"\",\"\",ROUND(G159*Parameters!$C$13,2))","v":""},{"$f":"IF(G159=\"\",\"\",IF(YEAR(Informatie!$C$1)=2015,ROUND(G159*Parameters!J$44,2),ROUND(G159*VLOOKUP('Overzicht deelnemers'!I159,Parameters!$E$4:$G$49,3,FALSE),2)))","v":""},{"$f":"IF(G159=\"\",\"\",IF(YEAR(Informatie!$C$1)=2015,ROUND(T159*Parameters!$C$20,2),ROUND(G159*Parameters!$J$44,2)))","v":""},"",{"$f":"IF(G159=\"\",\"\",ROUND(G159*Parameters!C$17,2))","v":""},{"$f":"IF(G159=\"\",\"\",ROUND(G159*VLOOKUP(J159,Parameters!E$4:G$49,3),2))","v":""},{"$f":"IF(G159=\"\",\"\",ROUND(G159*Parameters!J$83,2))","v":""},""]
[null,null,null,null,0,{"$f":"IF(C160=\"\",0,IF(C160<=Parameters!$C$3,C160,Parameters!$C$3))","v":0},{"$f":"IF(C160=\"\",\"\",IF(F160<Parameters!$C$4,\"\",(F160-Parameters!$C$4)*D160))","v":""},null,{"$f":"IF(H160=\"\",\"\",YEAR(+Informatie!$C$1)-YEAR(H160))","v":""},"",{"$f":"IF(G160=\"\",\"\",ROUND(G160*Parameters!$C$12,2))","v":""},{"$f":"IF(G160=\"\",\"\",IF(YEAR(Informatie!$C$1)=2015,ROUND(G160*Parameters!$J$27,2),ROUND(G160*VLOOKUP('Overzicht deelnemers'!I160,Parameters!$E$4:$G$49,2,FALSE),2)))","v":""},{"$f":"IF(G160=\"\",\"\",IF(YEAR(Informatie!$C$1)=2015,ROUND(L160*Parameters!$C$20,2),G160*Parameters!$J$27))","v":""},"",{"$f":"IF(G160=\"\",\"\",ROUND(G160*Parameters!$C$16,2))","v":""},{"$f":"IF(G160=\"\",\"\",ROUND(G160*VLOOKUP(J160,Parameters!$E$3:$F$49,2,FALSE),2))","v":""},{"$f":"IF(G160=\"\",\"\",ROUND(G160*Parameters!$J$66,2))","v":""},"",{"$f":"IF(G160=\"\",\"\",ROUND(G160*Parameters!$C$13,2))","v":""},{"$f":"IF(G160=\"\",\"\",IF(YEAR(Informatie!$C$1)=2015,ROUND(G160*Parameters!J$44,2),ROUND(G160*VLOOKUP('Overzicht deelnemers'!I160,Parameters!$E$4:$G$49,3,FALSE),2)))","v":""},{"$f":"IF(G160=\"\",\"\",IF(YEAR(Informatie!$C$1)=2015,ROUND(T160*Parameters!$C$20,2),ROUND(G160*Parameters!$J$44,2)))","v":""},"",{"$f":"IF(G160=\"\",\"\",ROUND(G160*Parameters!C$17,2))","v":""},{"$f":"IF(G160=\"\",\"\",ROUND(G160*VLOOKUP(J160,Parameters!E$4:G$49,3),2))","v":""},{"$f":"IF(G160=\"\",\"\",ROUND(G160*Parameters!J$83,2))","v":""},""]
[null,null,null,null,0,{"$f":"IF(C161=\"\",0,IF(C161<=Parameters!$C$3,C161,Parameters!$C$3))","v":0},{"$f":"IF(C161=\"\",\"\",IF(F161<Parameters!$C$4,\"\",(F161-Parameters!$C$4)*D161))","v":""},null,{"$f":"IF(H161=\"\",\"\",YEAR(+Informatie!$C$1)-YEAR(H161))","v":""},"",{"$f":"IF(G161=\"\",\"\",ROUND(G161*Parameters!$C$12,2))","v":""},{"$f":"IF(G161=\"\",\"\",IF(YEAR(Informatie!$C$1)=2015,ROUND(G161*Parameters!$J$27,2),ROUND(G161*VLOOKUP('Overzicht deelnemers'!I161,Parameters!$E$4:$G$49,2,FALSE),2)))","v":""},{"$f":"IF(G161=\"\",\"\",IF(YEAR(Informatie!$C$1)=2015,ROUND(L161*Parameters!$C$20,2),G161*Parameters!$J$27))","v":""},"",{"$f":"IF(G161=\"\",\"\",ROUND(G161*Parameters!$C$16,2))","v":""},{"$f":"IF(G161=\"\",\"\",ROUND(G161*VLOOKUP(J161,Parameters!$E$3:$F$49,2,FALSE),2))","v":""},{"$f":"IF(G161=\"\",\"\",ROUND(G161*Parameters!$J$66,2))","v":""},"",{"$f":"IF(G161=\"\",\"\",ROUND(G161*Parameters!$C$13,2))","v":""},{"$f":"IF(G161=\"\",\"\",IF(YEAR(Informatie!$C$1)=2015,ROUND(G161*Parameters!J$44,2),ROUND(G161*VLOOKUP('Overzicht deelnemers'!I161,Parameters!$E$4:$G$49,3,FALSE),2)))","v":""},{"$f":"IF(G161=\"\",\"\",IF(YEAR(Informatie!$C$1)=2015,ROUND(T161*Parameters!$C$20,2),ROUND(G161*Parameters!$J$44,2)))","v":""},"",{"$f":"IF(G161=\"\",\"\",ROUND(G161*Parameters!C$17,2))","v":""},{"$f":"IF(G161=\"\",\"\",ROUND(G161*VLOOKUP(J161,Parameters!E$4:G$49,3),2))","v":""},{"$f":"IF(G161=\"\",\"\",ROUND(G161*Parameters!J$83,2))","v":""},""]
[null,null,null,null,0,{"$f":"IF(C162=\"\",0,IF(C162<=Parameters!$C$3,C162,Parameters!$C$3))","v":0},{"$f":"IF(C162=\"\",\"\",IF(F162<Parameters!$C$4,\"\",(F162-Parameters!$C$4)*D162))","v":""},null,{"$f":"IF(H162=\"\",\"\",YEAR(+Informatie!$C$1)-YEAR(H162))","v":""},"",{"$f":"IF(G162=\"\",\"\",ROUND(G162*Parameters!$C$12,2))","v":""},{"$f":"IF(G162=\"\",\"\",IF(YEAR(Informatie!$C$1)=2015,ROUND(G162*Parameters!$J$27,2),ROUND(G162*VLOOKUP('Overzicht deelnemers'!I162,Parameters!$E$4:$G$49,2,FALSE),2)))","v":""},{"$f":"IF(G162=\"\",\"\",IF(YEAR(Informatie!$C$1)=2015,ROUND(L162*Parameters!$C$20,2),G162*Parameters!$J$27))","v":""},"",{"$f":"IF(G162=\"\",\"\",ROUND(G162*Parameters!$C$16,2))","v":""},{"$f":"IF(G162=\"\",\"\",ROUND(G162*VLOOKUP(J162,Parameters!$E$3:$F$49,2,FALSE),2))","v":""},{"$f":"IF(G162=\"\",\"\",ROUND(G162*Parameters!$J$66,2))","v":""},"",{"$f":"IF(G162=\"\",\"\",ROUND(G162*Parameters!$C$13,2))","v":""},{"$f":"IF(G162=\"\",\"\",IF(YEAR(Informatie!$C$1)=2015,ROUND(G162*Parameters!J$44,2),ROUND(G162*VLOOKUP('Overzicht deelnemers'!I162,Parameters!$E$4:$G$49,3,FALSE),2)))","v":""},{"$f":"IF(G162=\"\",\"\",IF(YEAR(Informatie!$C$1)=2015,ROUND(T162*Parameters!$C$20,2),ROUND(G162*Parameters!$J$44,2)))","v":""},"",{"$f":"IF(G162=\"\",\"\",ROUND(G162*Parameters!C$17,2))","v":""},{"$f":"IF(G162=\"\",\"\",ROUND(G162*VLOOKUP(J162,Parameters!E$4:G$49,3),2))","v":""},{"$f":"IF(G162=\"\",\"\",ROUND(G162*Parameters!J$83,2))","v":""},""]
[null,null,null,null,0,{"$f":"IF(C163=\"\",0,IF(C163<=Parameters!$C$3,C163,Parameters!$C$3))","v":0},{"$f":"IF(C163=\"\",\"\",IF(F163<Parameters!$C$4,\"\",(F163-Parameters!$C$4)*D163))","v":""},null,{"$f":"IF(H163=\"\",\"\",YEAR(+Informatie!$C$1)-YEAR(H163))","v":""},"",{"$f":"IF(G163=\"\",\"\",ROUND(G163*Parameters!$C$12,2))","v":""},{"$f":"IF(G163=\"\",\"\",IF(YEAR(Informatie!$C$1)=2015,ROUND(G163*Parameters!$J$27,2),ROUND(G163*VLOOKUP('Overzicht deelnemers'!I163,Parameters!$E$4:$G$49,2,FALSE),2)))","v":""},{"$f":"IF(G163=\"\",\"\",IF(YEAR(Informatie!$C$1)=2015,ROUND(L163*Parameters!$C$20,2),G163*Parameters!$J$27))","v":""},"",{"$f":"IF(G163=\"\",\"\",ROUND(G163*Parameters!$C$16,2))","v":""},{"$f":"IF(G163=\"\",\"\",ROUND(G163*VLOOKUP(J163,Parameters!$E$3:$F$49,2,FALSE),2))","v":""},{"$f":"IF(G163=\"\",\"\",ROUND(G163*Parameters!$J$66,2))","v":""},"",{"$f":"IF(G163=\"\",\"\",ROUND(G163*Parameters!$C$13,2))","v":""},{"$f":"IF(G163=\"\",\"\",IF(YEAR(Informatie!$C$1)=2015,ROUND(G163*Parameters!J$44,2),ROUND(G163*VLOOKUP('Overzicht deelnemers'!I163,Parameters!$E$4:$G$49,3,FALSE),2)))","v":""},{"$f":"IF(G163=\"\",\"\",IF(YEAR(Informatie!$C$1)=2015,ROUND(T163*Parameters!$C$20,2),ROUND(G163*Parameters!$J$44,2)))","v":""},"",{"$f":"IF(G163=\"\",\"\",ROUND(G163*Parameters!C$17,2))","v":""},{"$f":"IF(G163=\"\",\"\",ROUND(G163*VLOOKUP(J163,Parameters!E$4:G$49,3),2))","v":""},{"$f":"IF(G163=\"\",\"\",ROUND(G163*Parameters!J$83,2))","v":""},""]
[null,null,null,null,0,{"$f":"IF(C164=\"\",0,IF(C164<=Parameters!$C$3,C164,Parameters!$C$3))","v":0},{"$f":"IF(C164=\"\",\"\",IF(F164<Parameters!$C$4,\"\",(F164-Parameters!$C$4)*D164))","v":""},null,{"$f":"IF(H164=\"\",\"\",YEAR(+Informatie!$C$1)-YEAR(H164))","v":""},"",{"$f":"IF(G164=\"\",\"\",ROUND(G164*Parameters!$C$12,2))","v":""},{"$f":"IF(G164=\"\",\"\",IF(YEAR(Informatie!$C$1)=2015,ROUND(G164*Parameters!$J$27,2),ROUND(G164*VLOOKUP('Overzicht deelnemers'!I164,Parameters!$E$4:$G$49,2,FALSE),2)))","v":""},{"$f":"IF(G164=\"\",\"\",IF(YEAR(Informatie!$C$1)=2015,ROUND(L164*Parameters!$C$20,2),G164*Parameters!$J$27))","v":""},"",{"$f":"IF(G164=\"\",\"\",ROUND(G164*Parameters!$C$16,2))","v":""},{"$f":"IF(G164=\"\",\"\",ROUND(G164*VLOOKUP(J164,Parameters!$E$3:$F$49,2,FALSE),2))","v":""},{"$f":"IF(G164=\"\",\"\",ROUND(G164*Parameters!$J$66,2))","v":""},"",{"$f":"IF(G164=\"\",\"\",ROUND(G164*Parameters!$C$13,2))","v":""},{"$f":"IF(G164=\"\",\"\",IF(YEAR(Informatie!$C$1)=2015,ROUND(G164*Parameters!J$44,2),ROUND(G164*VLOOKUP('Overzicht deelnemers'!I164,Parameters!$E$4:$G$49,3,FALSE),2)))","v":""},{"$f":"IF(G164=\"\",\"\",IF(YEAR(Informatie!$C$1)=2015,ROUND(T164*Parameters!$C$20,2),ROUND(G164*Parameters!$J$44,2)))","v":""},"",{"$f":"IF(G164=\"\",\"\",ROUND(G164*Parameters!C$17,2))","v":""},{"$f":"IF(G164=\"\",\"\",ROUND(G164*VLOOKUP(J164,Parameters!E$4:G$49,3),2))","v":""},{"$f":"IF(G164=\"\",\"\",ROUND(G164*Parameters!J$83,2))","v":""},""]
[null,null,null,null,0,{"$f":"IF(C165=\"\",0,IF(C165<=Parameters!$C$3,C165,Parameters!$C$3))","v":0},{"$f":"IF(C165=\"\",\"\",IF(F165<Parameters!$C$4,\"\",(F165-Parameters!$C$4)*D165))","v":""},null,{"$f":"IF(H165=\"\",\"\",YEAR(+Informatie!$C$1)-YEAR(H165))","v":""},"",{"$f":"IF(G165=\"\",\"\",ROUND(G165*Parameters!$C$12,2))","v":""},{"$f":"IF(G165=\"\",\"\",IF(YEAR(Informatie!$C$1)=2015,ROUND(G165*Parameters!$J$27,2),ROUND(G165*VLOOKUP('Overzicht deelnemers'!I165,Parameters!$E$4:$G$49,2,FALSE),2)))","v":""},{"$f":"IF(G165=\"\",\"\",IF(YEAR(Informatie!$C$1)=2015,ROUND(L165*Parameters!$C$20,2),G165*Parameters!$J$27))","v":""},"",{"$f":"IF(G165=\"\",\"\",ROUND(G165*Parameters!$C$16,2))","v":""},{"$f":"IF(G165=\"\",\"\",ROUND(G165*VLOOKUP(J165,Parameters!$E$3:$F$49,2,FALSE),2))","v":""},{"$f":"IF(G165=\"\",\"\",ROUND(G165*Parameters!$J$66,2))","v":""},"",{"$f":"IF(G165=\"\",\"\",ROUND(G165*Parameters!$C$13,2))","v":""},{"$f":"IF(G165=\"\",\"\",IF(YEAR(Informatie!$C$1)=2015,ROUND(G165*Parameters!J$44,2),ROUND(G165*VLOOKUP('Overzicht deelnemers'!I165,Parameters!$E$4:$G$49,3,FALSE),2)))","v":""},{"$f":"IF(G165=\"\",\"\",IF(YEAR(Informatie!$C$1)=2015,ROUND(T165*Parameters!$C$20,2),ROUND(G165*Parameters!$J$44,2)))","v":""},"",{"$f":"IF(G165=\"\",\"\",ROUND(G165*Parameters!C$17,2))","v":""},{"$f":"IF(G165=\"\",\"\",ROUND(G165*VLOOKUP(J165,Parameters!E$4:G$49,3),2))","v":""},{"$f":"IF(G165=\"\",\"\",ROUND(G165*Parameters!J$83,2))","v":""},""]
[null,null,null,null,0,{"$f":"IF(C166=\"\",0,IF(C166<=Parameters!$C$3,C166,Parameters!$C$3))","v":0},{"$f":"IF(C166=\"\",\"\",IF(F166<Parameters!$C$4,\"\",(F166-Parameters!$C$4)*D166))","v":""},null,{"$f":"IF(H166=\"\",\"\",YEAR(+Informatie!$C$1)-YEAR(H166))","v":""},"",{"$f":"IF(G166=\"\",\"\",ROUND(G166*Parameters!$C$12,2))","v":""},{"$f":"IF(G166=\"\",\"\",IF(YEAR(Informatie!$C$1)=2015,ROUND(G166*Parameters!$J$27,2),ROUND(G166*VLOOKUP('Overzicht deelnemers'!I166,Parameters!$E$4:$G$49,2,FALSE),2)))","v":""},{"$f":"IF(G166=\"\",\"\",IF(YEAR(Informatie!$C$1)=2015,ROUND(L166*Parameters!$C$20,2),G166*Parameters!$J$27))","v":""},"",{"$f":"IF(G166=\"\",\"\",ROUND(G166*Parameters!$C$16,2))","v":""},{"$f":"IF(G166=\"\",\"\",ROUND(G166*VLOOKUP(J166,Parameters!$E$3:$F$49,2,FALSE),2))","v":""},{"$f":"IF(G166=\"\",\"\",ROUND(G166*Parameters!$J$66,2))","v":""},"",{"$f":"IF(G166=\"\",\"\",ROUND(G166*Parameters!$C$13,2))","v":""},{"$f":"IF(G166=\"\",\"\",IF(YEAR(Informatie!$C$1)=2015,ROUND(G166*Parameters!J$44,2),ROUND(G166*VLOOKUP('Overzicht deelnemers'!I166,Parameters!$E$4:$G$49,3,FALSE),2)))","v":""},{"$f":"IF(G166=\"\",\"\",IF(YEAR(Informatie!$C$1)=2015,ROUND(T166*Parameters!$C$20,2),ROUND(G166*Parameters!$J$44,2)))","v":""},"",{"$f":"IF(G166=\"\",\"\",ROUND(G166*Parameters!C$17,2))","v":""},{"$f":"IF(G166=\"\",\"\",ROUND(G166*VLOOKUP(J166,Parameters!E$4:G$49,3),2))","v":""},{"$f":"IF(G166=\"\",\"\",ROUND(G166*Parameters!J$83,2))","v":""},""]
[null,null,null,null,0,{"$f":"IF(C167=\"\",0,IF(C167<=Parameters!$C$3,C167,Parameters!$C$3))","v":0},{"$f":"IF(C167=\"\",\"\",IF(F167<Parameters!$C$4,\"\",(F167-Parameters!$C$4)*D167))","v":""},null,{"$f":"IF(H167=\"\",\"\",YEAR(+Informatie!$C$1)-YEAR(H167))","v":""},"",{"$f":"IF(G167=\"\",\"\",ROUND(G167*Parameters!$C$12,2))","v":""},{"$f":"IF(G167=\"\",\"\",IF(YEAR(Informatie!$C$1)=2015,ROUND(G167*Parameters!$J$27,2),ROUND(G167*VLOOKUP('Overzicht deelnemers'!I167,Parameters!$E$4:$G$49,2,FALSE),2)))","v":""},{"$f":"IF(G167=\"\",\"\",IF(YEAR(Informatie!$C$1)=2015,ROUND(L167*Parameters!$C$20,2),G167*Parameters!$J$27))","v":""},"",{"$f":"IF(G167=\"\",\"\",ROUND(G167*Parameters!$C$16,2))","v":""},{"$f":"IF(G167=\"\",\"\",ROUND(G167*VLOOKUP(J167,Parameters!$E$3:$F$49,2,FALSE),2))","v":""},{"$f":"IF(G167=\"\",\"\",ROUND(G167*Parameters!$J$66,2))","v":""},"",{"$f":"IF(G167=\"\",\"\",ROUND(G167*Parameters!$C$13,2))","v":""},{"$f":"IF(G167=\"\",\"\",IF(YEAR(Informatie!$C$1)=2015,ROUND(G167*Parameters!J$44,2),ROUND(G167*VLOOKUP('Overzicht deelnemers'!I167,Parameters!$E$4:$G$49,3,FALSE),2)))","v":""},{"$f":"IF(G167=\"\",\"\",IF(YEAR(Informatie!$C$1)=2015,ROUND(T167*Parameters!$C$20,2),ROUND(G167*Parameters!$J$44,2)))","v":""},"",{"$f":"IF(G167=\"\",\"\",ROUND(G167*Parameters!C$17,2))","v":""},{"$f":"IF(G167=\"\",\"\",ROUND(G167*VLOOKUP(J167,Parameters!E$4:G$49,3),2))","v":""},{"$f":"IF(G167=\"\",\"\",ROUND(G167*Parameters!J$83,2))","v":""},""]
[null,null,null,null,0,{"$f":"IF(C168=\"\",0,IF(C168<=Parameters!$C$3,C168,Parameters!$C$3))","v":0},{"$f":"IF(C168=\"\",\"\",IF(F168<Parameters!$C$4,\"\",(F168-Parameters!$C$4)*D168))","v":""},null,{"$f":"IF(H168=\"\",\"\",YEAR(+Informatie!$C$1)-YEAR(H168))","v":""},"",{"$f":"IF(G168=\"\",\"\",ROUND(G168*Parameters!$C$12,2))","v":""},{"$f":"IF(G168=\"\",\"\",IF(YEAR(Informatie!$C$1)=2015,ROUND(G168*Parameters!$J$27,2),ROUND(G168*VLOOKUP('Overzicht deelnemers'!I168,Parameters!$E$4:$G$49,2,FALSE),2)))","v":""},{"$f":"IF(G168=\"\",\"\",IF(YEAR(Informatie!$C$1)=2015,ROUND(L168*Parameters!$C$20,2),G168*Parameters!$J$27))","v":""},"",{"$f":"IF(G168=\"\",\"\",ROUND(G168*Parameters!$C$16,2))","v":""},{"$f":"IF(G168=\"\",\"\",ROUND(G168*VLOOKUP(J168,Parameters!$E$3:$F$49,2,FALSE),2))","v":""},{"$f":"IF(G168=\"\",\"\",ROUND(G168*Parameters!$J$66,2))","v":""},"",{"$f":"IF(G168=\"\",\"\",ROUND(G168*Parameters!$C$13,2))","v":""},{"$f":"IF(G168=\"\",\"\",IF(YEAR(Informatie!$C$1)=2015,ROUND(G168*Parameters!J$44,2),ROUND(G168*VLOOKUP('Overzicht deelnemers'!I168,Parameters!$E$4:$G$49,3,FALSE),2)))","v":""},{"$f":"IF(G168=\"\",\"\",IF(YEAR(Informatie!$C$1)=2015,ROUND(T168*Parameters!$C$20,2),ROUND(G168*Parameters!$J$44,2)))","v":""},"",{"$f":"IF(G168=\"\",\"\",ROUND(G168*Parameters!C$17,2))","v":""},{"$f":"IF(G168=\"\",\"\",ROUND(G168*VLOOKUP(J168,Parameters!E$4:G$49,3),2))","v":""},{"$f":"IF(G168=\"\",\"\",ROUND(G168*Parameters!J$83,2))","v":""},""]
[null,null,null,null,0,{"$f":"IF(C169=\"\",0,IF(C169<=Parameters!$C$3,C169,Parameters!$C$3))","v":0},{"$f":"IF(C169=\"\",\"\",IF(F169<Parameters!$C$4,\"\",(F169-Parameters!$C$4)*D169))","v":""},null,{"$f":"IF(H169=\"\",\"\",YEAR(+Informatie!$C$1)-YEAR(H169))","v":""},"",{"$f":"IF(G169=\"\",\"\",ROUND(G169*Parameters!$C$12,2))","v":""},{"$f":"IF(G169=\"\",\"\",IF(YEAR(Informatie!$C$1)=2015,ROUND(G169*Parameters!$J$27,2),ROUND(G169*VLOOKUP('Overzicht deelnemers'!I169,Parameters!$E$4:$G$49,2,FALSE),2)))","v":""},{"$f":"IF(G169=\"\",\"\",IF(YEAR(Informatie!$C$1)=2015,ROUND(L169*Parameters!$C$20,2),G169*Parameters!$J$27))","v":""},"",{"$f":"IF(G169=\"\",\"\",ROUND(G169*Parameters!$C$16,2))","v":""},{"$f":"IF(G169=\"\",\"\",ROUND(G169*VLOOKUP(J169,Parameters!$E$3:$F$49,2,FALSE),2))","v":""},{"$f":"IF(G169=\"\",\"\",ROUND(G169*Parameters!$J$66,2))","v":""},"",{"$f":"IF(G169=\"\",\"\",ROUND(G169*Parameters!$C$13,2))","v":""},{"$f":"IF(G169=\"\",\"\",IF(YEAR(Informatie!$C$1)=2015,ROUND(G169*Parameters!J$44,2),ROUND(G169*VLOOKUP('Overzicht deelnemers'!I169,Parameters!$E$4:$G$49,3,FALSE),2)))","v":""},{"$f":"IF(G169=\"\",\"\",IF(YEAR(Informatie!$C$1)=2015,ROUND(T169*Parameters!$C$20,2),ROUND(G169*Parameters!$J$44,2)))","v":""},"",{"$f":"IF(G169=\"\",\"\",ROUND(G169*Parameters!C$17,2))","v":""},{"$f":"IF(G169=\"\",\"\",ROUND(G169*VLOOKUP(J169,Parameters!E$4:G$49,3),2))","v":""},{"$f":"IF(G169=\"\",\"\",ROUND(G169*Parameters!J$83,2))","v":""},""]
[null,null,null,null,0,{"$f":"IF(C170=\"\",0,IF(C170<=Parameters!$C$3,C170,Parameters!$C$3))","v":0},{"$f":"IF(C170=\"\",\"\",IF(F170<Parameters!$C$4,\"\",(F170-Parameters!$C$4)*D170))","v":""},null,{"$f":"IF(H170=\"\",\"\",YEAR(+Informatie!$C$1)-YEAR(H170))","v":""},"",{"$f":"IF(G170=\"\",\"\",ROUND(G170*Parameters!$C$12,2))","v":""},{"$f":"IF(G170=\"\",\"\",IF(YEAR(Informatie!$C$1)=2015,ROUND(G170*Parameters!$J$27,2),ROUND(G170*VLOOKUP('Overzicht deelnemers'!I170,Parameters!$E$4:$G$49,2,FALSE),2)))","v":""},{"$f":"IF(G170=\"\",\"\",IF(YEAR(Informatie!$C$1)=2015,ROUND(L170*Parameters!$C$20,2),G170*Parameters!$J$27))","v":""},"",{"$f":"IF(G170=\"\",\"\",ROUND(G170*Parameters!$C$16,2))","v":""},{"$f":"IF(G170=\"\",\"\",ROUND(G170*VLOOKUP(J170,Parameters!$E$3:$F$49,2,FALSE),2))","v":""},{"$f":"IF(G170=\"\",\"\",ROUND(G170*Parameters!$J$66,2))","v":""},"",{"$f":"IF(G170=\"\",\"\",ROUND(G170*Parameters!$C$13,2))","v":""},{"$f":"IF(G170=\"\",\"\",IF(YEAR(Informatie!$C$1)=2015,ROUND(G170*Parameters!J$44,2),ROUND(G170*VLOOKUP('Overzicht deelnemers'!I170,Parameters!$E$4:$G$49,3,FALSE),2)))","v":""},{"$f":"IF(G170=\"\",\"\",IF(YEAR(Informatie!$C$1)=2015,ROUND(T170*Parameters!$C$20,2),ROUND(G170*Parameters!$J$44,2)))","v":""},"",{"$f":"IF(G170=\"\",\"\",ROUND(G170*Parameters!C$17,2))","v":""},{"$f":"IF(G170=\"\",\"\",ROUND(G170*VLOOKUP(J170,Parameters!E$4:G$49,3),2))","v":""},{"$f":"IF(G170=\"\",\"\",ROUND(G170*Parameters!J$83,2))","v":""},""]
[null,null,null,null,0,{"$f":"IF(C171=\"\",0,IF(C171<=Parameters!$C$3,C171,Parameters!$C$3))","v":0},{"$f":"IF(C171=\"\",\"\",IF(F171<Parameters!$C$4,\"\",(F171-Parameters!$C$4)*D171))","v":""},null,{"$f":"IF(H171=\"\",\"\",YEAR(+Informatie!$C$1)-YEAR(H171))","v":""},"",{"$f":"IF(G171=\"\",\"\",ROUND(G171*Parameters!$C$12,2))","v":""},{"$f":"IF(G171=\"\",\"\",IF(YEAR(Informatie!$C$1)=2015,ROUND(G171*Parameters!$J$27,2),ROUND(G171*VLOOKUP('Overzicht deelnemers'!I171,Parameters!$E$4:$G$49,2,FALSE),2)))","v":""},{"$f":"IF(G171=\"\",\"\",IF(YEAR(Informatie!$C$1)=2015,ROUND(L171*Parameters!$C$20,2),G171*Parameters!$J$27))","v":""},"",{"$f":"IF(G171=\"\",\"\",ROUND(G171*Parameters!$C$16,2))","v":""},{"$f":"IF(G171=\"\",\"\",ROUND(G171*VLOOKUP(J171,Parameters!$E$3:$F$49,2,FALSE),2))","v":""},{"$f":"IF(G171=\"\",\"\",ROUND(G171*Parameters!$J$66,2))","v":""},"",{"$f":"IF(G171=\"\",\"\",ROUND(G171*Parameters!$C$13,2))","v":""},{"$f":"IF(G171=\"\",\"\",IF(YEAR(Informatie!$C$1)=2015,ROUND(G171*Parameters!J$44,2),ROUND(G171*VLOOKUP('Overzicht deelnemers'!I171,Parameters!$E$4:$G$49,3,FALSE),2)))","v":""},{"$f":"IF(G171=\"\",\"\",IF(YEAR(Informatie!$C$1)=2015,ROUND(T171*Parameters!$C$20,2),ROUND(G171*Parameters!$J$44,2)))","v":""},"",{"$f":"IF(G171=\"\",\"\",ROUND(G171*Parameters!C$17,2))","v":""},{"$f":"IF(G171=\"\",\"\",ROUND(G171*VLOOKUP(J171,Parameters!E$4:G$49,3),2))","v":""},{"$f":"IF(G171=\"\",\"\",ROUND(G171*Parameters!J$83,2))","v":""},""]
[null,null,null,null,0,{"$f":"IF(C172=\"\",0,IF(C172<=Parameters!$C$3,C172,Parameters!$C$3))","v":0},{"$f":"IF(C172=\"\",\"\",IF(F172<Parameters!$C$4,\"\",(F172-Parameters!$C$4)*D172))","v":""},null,{"$f":"IF(H172=\"\",\"\",YEAR(+Informatie!$C$1)-YEAR(H172))","v":""},"",{"$f":"IF(G172=\"\",\"\",ROUND(G172*Parameters!$C$12,2))","v":""},{"$f":"IF(G172=\"\",\"\",IF(YEAR(Informatie!$C$1)=2015,ROUND(G172*Parameters!$J$27,2),ROUND(G172*VLOOKUP('Overzicht deelnemers'!I172,Parameters!$E$4:$G$49,2,FALSE),2)))","v":""},{"$f":"IF(G172=\"\",\"\",IF(YEAR(Informatie!$C$1)=2015,ROUND(L172*Parameters!$C$20,2),G172*Parameters!$J$27))","v":""},"",{"$f":"IF(G172=\"\",\"\",ROUND(G172*Parameters!$C$16,2))","v":""},{"$f":"IF(G172=\"\",\"\",ROUND(G172*VLOOKUP(J172,Parameters!$E$3:$F$49,2,FALSE),2))","v":""},{"$f":"IF(G172=\"\",\"\",ROUND(G172*Parameters!$J$66,2))","v":""},"",{"$f":"IF(G172=\"\",\"\",ROUND(G172*Parameters!$C$13,2))","v":""},{"$f":"IF(G172=\"\",\"\",IF(YEAR(Informatie!$C$1)=2015,ROUND(G172*Parameters!J$44,2),ROUND(G172*VLOOKUP('Overzicht deelnemers'!I172,Parameters!$E$4:$G$49,3,FALSE),2)))","v":""},{"$f":"IF(G172=\"\",\"\",IF(YEAR(Informatie!$C$1)=2015,ROUND(T172*Parameters!$C$20,2),ROUND(G172*Parameters!$J$44,2)))","v":""},"",{"$f":"IF(G172=\"\",\"\",ROUND(G172*Parameters!C$17,2))","v":""},{"$f":"IF(G172=\"\",\"\",ROUND(G172*VLOOKUP(J172,Parameters!E$4:G$49,3),2))","v":""},{"$f":"IF(G172=\"\",\"\",ROUND(G172*Parameters!J$83,2))","v":""},""]
[null,null,null,null,0,{"$f":"IF(C173=\"\",0,IF(C173<=Parameters!$C$3,C173,Parameters!$C$3))","v":0},{"$f":"IF(C173=\"\",\"\",IF(F173<Parameters!$C$4,\"\",(F173-Parameters!$C$4)*D173))","v":""},null,{"$f":"IF(H173=\"\",\"\",YEAR(+Informatie!$C$1)-YEAR(H173))","v":""},"",{"$f":"IF(G173=\"\",\"\",ROUND(G173*Parameters!$C$12,2))","v":""},{"$f":"IF(G173=\"\",\"\",IF(YEAR(Informatie!$C$1)=2015,ROUND(G173*Parameters!$J$27,2),ROUND(G173*VLOOKUP('Overzicht deelnemers'!I173,Parameters!$E$4:$G$49,2,FALSE),2)))","v":""},{"$f":"IF(G173=\"\",\"\",IF(YEAR(Informatie!$C$1)=2015,ROUND(L173*Parameters!$C$20,2),G173*Parameters!$J$27))","v":""},"",{"$f":"IF(G173=\"\",\"\",ROUND(G173*Parameters!$C$16,2))","v":""},{"$f":"IF(G173=\"\",\"\",ROUND(G173*VLOOKUP(J173,Parameters!$E$3:$F$49,2,FALSE),2))","v":""},{"$f":"IF(G173=\"\",\"\",ROUND(G173*Parameters!$J$66,2))","v":""},"",{"$f":"IF(G173=\"\",\"\",ROUND(G173*Parameters!$C$13,2))","v":""},{"$f":"IF(G173=\"\",\"\",IF(YEAR(Informatie!$C$1)=2015,ROUND(G173*Parameters!J$44,2),ROUND(G173*VLOOKUP('Overzicht deelnemers'!I173,Parameters!$E$4:$G$49,3,FALSE),2)))","v":""},{"$f":"IF(G173=\"\",\"\",IF(YEAR(Informatie!$C$1)=2015,ROUND(T173*Parameters!$C$20,2),ROUND(G173*Parameters!$J$44,2)))","v":""},"",{"$f":"IF(G173=\"\",\"\",ROUND(G173*Parameters!C$17,2))","v":""},{"$f":"IF(G173=\"\",\"\",ROUND(G173*VLOOKUP(J173,Parameters!E$4:G$49,3),2))","v":""},{"$f":"IF(G173=\"\",\"\",ROUND(G173*Parameters!J$83,2))","v":""},""]
[null,null,null,null,0,{"$f":"IF(C174=\"\",0,IF(C174<=Parameters!$C$3,C174,Parameters!$C$3))","v":0},{"$f":"IF(C174=\"\",\"\",IF(F174<Parameters!$C$4,\"\",(F174-Parameters!$C$4)*D174))","v":""},null,{"$f":"IF(H174=\"\",\"\",YEAR(+Informatie!$C$1)-YEAR(H174))","v":""},"",{"$f":"IF(G174=\"\",\"\",ROUND(G174*Parameters!$C$12,2))","v":""},{"$f":"IF(G174=\"\",\"\",IF(YEAR(Informatie!$C$1)=2015,ROUND(G174*Parameters!$J$27,2),ROUND(G174*VLOOKUP('Overzicht deelnemers'!I174,Parameters!$E$4:$G$49,2,FALSE),2)))","v":""},{"$f":"IF(G174=\"\",\"\",IF(YEAR(Informatie!$C$1)=2015,ROUND(L174*Parameters!$C$20,2),G174*Parameters!$J$27))","v":""},"",{"$f":"IF(G174=\"\",\"\",ROUND(G174*Parameters!$C$16,2))","v":""},{"$f":"IF(G174=\"\",\"\",ROUND(G174*VLOOKUP(J174,Parameters!$E$3:$F$49,2,FALSE),2))","v":""},{"$f":"IF(G174=\"\",\"\",ROUND(G174*Parameters!$J$66,2))","v":""},"",{"$f":"IF(G174=\"\",\"\",ROUND(G174*Parameters!$C$13,2))","v":""},{"$f":"IF(G174=\"\",\"\",IF(YEAR(Informatie!$C$1)=2015,ROUND(G174*Parameters!J$44,2),ROUND(G174*VLOOKUP('Overzicht deelnemers'!I174,Parameters!$E$4:$G$49,3,FALSE),2)))","v":""},{"$f":"IF(G174=\"\",\"\",IF(YEAR(Informatie!$C$1)=2015,ROUND(T174*Parameters!$C$20,2),ROUND(G174*Parameters!$J$44,2)))","v":""},"",{"$f":"IF(G174=\"\",\"\",ROUND(G174*Parameters!C$17,2))","v":""},{"$f":"IF(G174=\"\",\"\",ROUND(G174*VLOOKUP(J174,Parameters!E$4:G$49,3),2))","v":""},{"$f":"IF(G174=\"\",\"\",ROUND(G174*Parameters!J$83,2))","v":""},""]
[null,null,null,null,0,{"$f":"IF(C175=\"\",0,IF(C175<=Parameters!$C$3,C175,Parameters!$C$3))","v":0},{"$f":"IF(C175=\"\",\"\",IF(F175<Parameters!$C$4,\"\",(F175-Parameters!$C$4)*D175))","v":""},null,{"$f":"IF(H175=\"\",\"\",YEAR(+Informatie!$C$1)-YEAR(H175))","v":""},"",{"$f":"IF(G175=\"\",\"\",ROUND(G175*Parameters!$C$12,2))","v":""},{"$f":"IF(G175=\"\",\"\",IF(YEAR(Informatie!$C$1)=2015,ROUND(G175*Parameters!$J$27,2),ROUND(G175*VLOOKUP('Overzicht deelnemers'!I175,Parameters!$E$4:$G$49,2,FALSE),2)))","v":""},{"$f":"IF(G175=\"\",\"\",IF(YEAR(Informatie!$C$1)=2015,ROUND(L175*Parameters!$C$20,2),G175*Parameters!$J$27))","v":""},"",{"$f":"IF(G175=\"\",\"\",ROUND(G175*Parameters!$C$16,2))","v":""},{"$f":"IF(G175=\"\",\"\",ROUND(G175*VLOOKUP(J175,Parameters!$E$3:$F$49,2,FALSE),2))","v":""},{"$f":"IF(G175=\"\",\"\",ROUND(G175*Parameters!$J$66,2))","v":""},"",{"$f":"IF(G175=\"\",\"\",ROUND(G175*Parameters!$C$13,2))","v":""},{"$f":"IF(G175=\"\",\"\",IF(YEAR(Informatie!$C$1)=2015,ROUND(G175*Parameters!J$44,2),ROUND(G175*VLOOKUP('Overzicht deelnemers'!I175,Parameters!$E$4:$G$49,3,FALSE),2)))","v":""},{"$f":"IF(G175=\"\",\"\",IF(YEAR(Informatie!$C$1)=2015,ROUND(T175*Parameters!$C$20,2),ROUND(G175*Parameters!$J$44,2)))","v":""},"",{"$f":"IF(G175=\"\",\"\",ROUND(G175*Parameters!C$17,2))","v":""},{"$f":"IF(G175=\"\",\"\",ROUND(G175*VLOOKUP(J175,Parameters!E$4:G$49,3),2))","v":""},{"$f":"IF(G175=\"\",\"\",ROUND(G175*Parameters!J$83,2))","v":""},""]
[null,null,null,null,0,{"$f":"IF(C176=\"\",0,IF(C176<=Parameters!$C$3,C176,Parameters!$C$3))","v":0},{"$f":"IF(C176=\"\",\"\",IF(F176<Parameters!$C$4,\"\",(F176-Parameters!$C$4)*D176))","v":""},null,{"$f":"IF(H176=\"\",\"\",YEAR(+Informatie!$C$1)-YEAR(H176))","v":""},"",{"$f":"IF(G176=\"\",\"\",ROUND(G176*Parameters!$C$12,2))","v":""},{"$f":"IF(G176=\"\",\"\",IF(YEAR(Informatie!$C$1)=2015,ROUND(G176*Parameters!$J$27,2),ROUND(G176*VLOOKUP('Overzicht deelnemers'!I176,Parameters!$E$4:$G$49,2,FALSE),2)))","v":""},{"$f":"IF(G176=\"\",\"\",IF(YEAR(Informatie!$C$1)=2015,ROUND(L176*Parameters!$C$20,2),G176*Parameters!$J$27))","v":""},"",{"$f":"IF(G176=\"\",\"\",ROUND(G176*Parameters!$C$16,2))","v":""},{"$f":"IF(G176=\"\",\"\",ROUND(G176*VLOOKUP(J176,Parameters!$E$3:$F$49,2,FALSE),2))","v":""},{"$f":"IF(G176=\"\",\"\",ROUND(G176*Parameters!$J$66,2))","v":""},"",{"$f":"IF(G176=\"\",\"\",ROUND(G176*Parameters!$C$13,2))","v":""},{"$f":"IF(G176=\"\",\"\",IF(YEAR(Informatie!$C$1)=2015,ROUND(G176*Parameters!J$44,2),ROUND(G176*VLOOKUP('Overzicht deelnemers'!I176,Parameters!$E$4:$G$49,3,FALSE),2)))","v":""},{"$f":"IF(G176=\"\",\"\",IF(YEAR(Informatie!$C$1)=2015,ROUND(T176*Parameters!$C$20,2),ROUND(G176*Parameters!$J$44,2)))","v":""},"",{"$f":"IF(G176=\"\",\"\",ROUND(G176*Parameters!C$17,2))","v":""},{"$f":"IF(G176=\"\",\"\",ROUND(G176*VLOOKUP(J176,Parameters!E$4:G$49,3),2))","v":""},{"$f":"IF(G176=\"\",\"\",ROUND(G176*Parameters!J$83,2))","v":""},""]
[null,null,null,null,0,{"$f":"IF(C177=\"\",0,IF(C177<=Parameters!$C$3,C177,Parameters!$C$3))","v":0},{"$f":"IF(C177=\"\",\"\",IF(F177<Parameters!$C$4,\"\",(F177-Parameters!$C$4)*D177))","v":""},null,{"$f":"IF(H177=\"\",\"\",YEAR(+Informatie!$C$1)-YEAR(H177))","v":""},"",{"$f":"IF(G177=\"\",\"\",ROUND(G177*Parameters!$C$12,2))","v":""},{"$f":"IF(G177=\"\",\"\",IF(YEAR(Informatie!$C$1)=2015,ROUND(G177*Parameters!$J$27,2),ROUND(G177*VLOOKUP('Overzicht deelnemers'!I177,Parameters!$E$4:$G$49,2,FALSE),2)))","v":""},{"$f":"IF(G177=\"\",\"\",IF(YEAR(Informatie!$C$1)=2015,ROUND(L177*Parameters!$C$20,2),G177*Parameters!$J$27))","v":""},"",{"$f":"IF(G177=\"\",\"\",ROUND(G177*Parameters!$C$16,2))","v":""},{"$f":"IF(G177=\"\",\"\",ROUND(G177*VLOOKUP(J177,Parameters!$E$3:$F$49,2,FALSE),2))","v":""},{"$f":"IF(G177=\"\",\"\",ROUND(G177*Parameters!$J$66,2))","v":""},"",{"$f":"IF(G177=\"\",\"\",ROUND(G177*Parameters!$C$13,2))","v":""},{"$f":"IF(G177=\"\",\"\",IF(YEAR(Informatie!$C$1)=2015,ROUND(G177*Parameters!J$44,2),ROUND(G177*VLOOKUP('Overzicht deelnemers'!I177,Parameters!$E$4:$G$49,3,FALSE),2)))","v":""},{"$f":"IF(G177=\"\",\"\",IF(YEAR(Informatie!$C$1)=2015,ROUND(T177*Parameters!$C$20,2),ROUND(G177*Parameters!$J$44,2)))","v":""},"",{"$f":"IF(G177=\"\",\"\",ROUND(G177*Parameters!C$17,2))","v":""},{"$f":"IF(G177=\"\",\"\",ROUND(G177*VLOOKUP(J177,Parameters!E$4:G$49,3),2))","v":""},{"$f":"IF(G177=\"\",\"\",ROUND(G177*Parameters!J$83,2))","v":""},""]
[null,null,null,null,0,{"$f":"IF(C178=\"\",0,IF(C178<=Parameters!$C$3,C178,Parameters!$C$3))","v":0},{"$f":"IF(C178=\"\",\"\",IF(F178<Parameters!$C$4,\"\",(F178-Parameters!$C$4)*D178))","v":""},null,{"$f":"IF(H178=\"\",\"\",YEAR(+Informatie!$C$1)-YEAR(H178))","v":""},"",{"$f":"IF(G178=\"\",\"\",ROUND(G178*Parameters!$C$12,2))","v":""},{"$f":"IF(G178=\"\",\"\",IF(YEAR(Informatie!$C$1)=2015,ROUND(G178*Parameters!$J$27,2),ROUND(G178*VLOOKUP('Overzicht deelnemers'!I178,Parameters!$E$4:$G$49,2,FALSE),2)))","v":""},{"$f":"IF(G178=\"\",\"\",IF(YEAR(Informatie!$C$1)=2015,ROUND(L178*Parameters!$C$20,2),G178*Parameters!$J$27))","v":""},"",{"$f":"IF(G178=\"\",\"\",ROUND(G178*Parameters!$C$16,2))","v":""},{"$f":"IF(G178=\"\",\"\",ROUND(G178*VLOOKUP(J178,Parameters!$E$3:$F$49,2,FALSE),2))","v":""},{"$f":"IF(G178=\"\",\"\",ROUND(G178*Parameters!$J$66,2))","v":""},"",{"$f":"IF(G178=\"\",\"\",ROUND(G178*Parameters!$C$13,2))","v":""},{"$f":"IF(G178=\"\",\"\",IF(YEAR(Informatie!$C$1)=2015,ROUND(G178*Parameters!J$44,2),ROUND(G178*VLOOKUP('Overzicht deelnemers'!I178,Parameters!$E$4:$G$49,3,FALSE),2)))","v":""},{"$f":"IF(G178=\"\",\"\",IF(YEAR(Informatie!$C$1)=2015,ROUND(T178*Parameters!$C$20,2),ROUND(G178*Parameters!$J$44,2)))","v":""},"",{"$f":"IF(G178=\"\",\"\",ROUND(G178*Parameters!C$17,2))","v":""},{"$f":"IF(G178=\"\",\"\",ROUND(G178*VLOOKUP(J178,Parameters!E$4:G$49,3),2))","v":""},{"$f":"IF(G178=\"\",\"\",ROUND(G178*Parameters!J$83,2))","v":""},""]
[null,null,null,null,0,{"$f":"IF(C179=\"\",0,IF(C179<=Parameters!$C$3,C179,Parameters!$C$3))","v":0},{"$f":"IF(C179=\"\",\"\",IF(F179<Parameters!$C$4,\"\",(F179-Parameters!$C$4)*D179))","v":""},null,{"$f":"IF(H179=\"\",\"\",YEAR(+Informatie!$C$1)-YEAR(H179))","v":""},"",{"$f":"IF(G179=\"\",\"\",ROUND(G179*Parameters!$C$12,2))","v":""},{"$f":"IF(G179=\"\",\"\",IF(YEAR(Informatie!$C$1)=2015,ROUND(G179*Parameters!$J$27,2),ROUND(G179*VLOOKUP('Overzicht deelnemers'!I179,Parameters!$E$4:$G$49,2,FALSE),2)))","v":""},{"$f":"IF(G179=\"\",\"\",IF(YEAR(Informatie!$C$1)=2015,ROUND(L179*Parameters!$C$20,2),G179*Parameters!$J$27))","v":""},"",{"$f":"IF(G179=\"\",\"\",ROUND(G179*Parameters!$C$16,2))","v":""},{"$f":"IF(G179=\"\",\"\",ROUND(G179*VLOOKUP(J179,Parameters!$E$3:$F$49,2,FALSE),2))","v":""},{"$f":"IF(G179=\"\",\"\",ROUND(G179*Parameters!$J$66,2))","v":""},"",{"$f":"IF(G179=\"\",\"\",ROUND(G179*Parameters!$C$13,2))","v":""},{"$f":"IF(G179=\"\",\"\",IF(YEAR(Informatie!$C$1)=2015,ROUND(G179*Parameters!J$44,2),ROUND(G179*VLOOKUP('Overzicht deelnemers'!I179,Parameters!$E$4:$G$49,3,FALSE),2)))","v":""},{"$f":"IF(G179=\"\",\"\",IF(YEAR(Informatie!$C$1)=2015,ROUND(T179*Parameters!$C$20,2),ROUND(G179*Parameters!$J$44,2)))","v":""},"",{"$f":"IF(G179=\"\",\"\",ROUND(G179*Parameters!C$17,2))","v":""},{"$f":"IF(G179=\"\",\"\",ROUND(G179*VLOOKUP(J179,Parameters!E$4:G$49,3),2))","v":""},{"$f":"IF(G179=\"\",\"\",ROUND(G179*Parameters!J$83,2))","v":""},""]
[null,null,null,null,0,{"$f":"IF(C180=\"\",0,IF(C180<=Parameters!$C$3,C180,Parameters!$C$3))","v":0},{"$f":"IF(C180=\"\",\"\",IF(F180<Parameters!$C$4,\"\",(F180-Parameters!$C$4)*D180))","v":""},null,{"$f":"IF(H180=\"\",\"\",YEAR(+Informatie!$C$1)-YEAR(H180))","v":""},"",{"$f":"IF(G180=\"\",\"\",ROUND(G180*Parameters!$C$12,2))","v":""},{"$f":"IF(G180=\"\",\"\",IF(YEAR(Informatie!$C$1)=2015,ROUND(G180*Parameters!$J$27,2),ROUND(G180*VLOOKUP('Overzicht deelnemers'!I180,Parameters!$E$4:$G$49,2,FALSE),2)))","v":""},{"$f":"IF(G180=\"\",\"\",IF(YEAR(Informatie!$C$1)=2015,ROUND(L180*Parameters!$C$20,2),G180*Parameters!$J$27))","v":""},"",{"$f":"IF(G180=\"\",\"\",ROUND(G180*Parameters!$C$16,2))","v":""},{"$f":"IF(G180=\"\",\"\",ROUND(G180*VLOOKUP(J180,Parameters!$E$3:$F$49,2,FALSE),2))","v":""},{"$f":"IF(G180=\"\",\"\",ROUND(G180*Parameters!$J$66,2))","v":""},"",{"$f":"IF(G180=\"\",\"\",ROUND(G180*Parameters!$C$13,2))","v":""},{"$f":"IF(G180=\"\",\"\",IF(YEAR(Informatie!$C$1)=2015,ROUND(G180*Parameters!J$44,2),ROUND(G180*VLOOKUP('Overzicht deelnemers'!I180,Parameters!$E$4:$G$49,3,FALSE),2)))","v":""},{"$f":"IF(G180=\"\",\"\",IF(YEAR(Informatie!$C$1)=2015,ROUND(T180*Parameters!$C$20,2),ROUND(G180*Parameters!$J$44,2)))","v":""},"",{"$f":"IF(G180=\"\",\"\",ROUND(G180*Parameters!C$17,2))","v":""},{"$f":"IF(G180=\"\",\"\",ROUND(G180*VLOOKUP(J180,Parameters!E$4:G$49,3),2))","v":""},{"$f":"IF(G180=\"\",\"\",ROUND(G180*Parameters!J$83,2))","v":""},""]
[null,null,null,null,0,{"$f":"IF(C181=\"\",0,IF(C181<=Parameters!$C$3,C181,Parameters!$C$3))","v":0},{"$f":"IF(C181=\"\",\"\",IF(F181<Parameters!$C$4,\"\",(F181-Parameters!$C$4)*D181))","v":""},null,{"$f":"IF(H181=\"\",\"\",YEAR(+Informatie!$C$1)-YEAR(H181))","v":""},"",{"$f":"IF(G181=\"\",\"\",ROUND(G181*Parameters!$C$12,2))","v":""},{"$f":"IF(G181=\"\",\"\",IF(YEAR(Informatie!$C$1)=2015,ROUND(G181*Parameters!$J$27,2),ROUND(G181*VLOOKUP('Overzicht deelnemers'!I181,Parameters!$E$4:$G$49,2,FALSE),2)))","v":""},{"$f":"IF(G181=\"\",\"\",IF(YEAR(Informatie!$C$1)=2015,ROUND(L181*Parameters!$C$20,2),G181*Parameters!$J$27))","v":""},"",{"$f":"IF(G181=\"\",\"\",ROUND(G181*Parameters!$C$16,2))","v":""},{"$f":"IF(G181=\"\",\"\",ROUND(G181*VLOOKUP(J181,Parameters!$E$3:$F$49,2,FALSE),2))","v":""},{"$f":"IF(G181=\"\",\"\",ROUND(G181*Parameters!$J$66,2))","v":""},"",{"$f":"IF(G181=\"\",\"\",ROUND(G181*Parameters!$C$13,2))","v":""},{"$f":"IF(G181=\"\",\"\",IF(YEAR(Informatie!$C$1)=2015,ROUND(G181*Parameters!J$44,2),ROUND(G181*VLOOKUP('Overzicht deelnemers'!I181,Parameters!$E$4:$G$49,3,FALSE),2)))","v":""},{"$f":"IF(G181=\"\",\"\",IF(YEAR(Informatie!$C$1)=2015,ROUND(T181*Parameters!$C$20,2),ROUND(G181*Parameters!$J$44,2)))","v":""},"",{"$f":"IF(G181=\"\",\"\",ROUND(G181*Parameters!C$17,2))","v":""},{"$f":"IF(G181=\"\",\"\",ROUND(G181*VLOOKUP(J181,Parameters!E$4:G$49,3),2))","v":""},{"$f":"IF(G181=\"\",\"\",ROUND(G181*Parameters!J$83,2))","v":""},""]
[null,null,null,null,0,{"$f":"IF(C182=\"\",0,IF(C182<=Parameters!$C$3,C182,Parameters!$C$3))","v":0},{"$f":"IF(C182=\"\",\"\",IF(F182<Parameters!$C$4,\"\",(F182-Parameters!$C$4)*D182))","v":""},null,{"$f":"IF(H182=\"\",\"\",YEAR(+Informatie!$C$1)-YEAR(H182))","v":""},"",{"$f":"IF(G182=\"\",\"\",ROUND(G182*Parameters!$C$12,2))","v":""},{"$f":"IF(G182=\"\",\"\",IF(YEAR(Informatie!$C$1)=2015,ROUND(G182*Parameters!$J$27,2),ROUND(G182*VLOOKUP('Overzicht deelnemers'!I182,Parameters!$E$4:$G$49,2,FALSE),2)))","v":""},{"$f":"IF(G182=\"\",\"\",IF(YEAR(Informatie!$C$1)=2015,ROUND(L182*Parameters!$C$20,2),G182*Parameters!$J$27))","v":""},"",{"$f":"IF(G182=\"\",\"\",ROUND(G182*Parameters!$C$16,2))","v":""},{"$f":"IF(G182=\"\",\"\",ROUND(G182*VLOOKUP(J182,Parameters!$E$3:$F$49,2,FALSE),2))","v":""},{"$f":"IF(G182=\"\",\"\",ROUND(G182*Parameters!$J$66,2))","v":""},"",{"$f":"IF(G182=\"\",\"\",ROUND(G182*Parameters!$C$13,2))","v":""},{"$f":"IF(G182=\"\",\"\",IF(YEAR(Informatie!$C$1)=2015,ROUND(G182*Parameters!J$44,2),ROUND(G182*VLOOKUP('Overzicht deelnemers'!I182,Parameters!$E$4:$G$49,3,FALSE),2)))","v":""},{"$f":"IF(G182=\"\",\"\",IF(YEAR(Informatie!$C$1)=2015,ROUND(T182*Parameters!$C$20,2),ROUND(G182*Parameters!$J$44,2)))","v":""},"",{"$f":"IF(G182=\"\",\"\",ROUND(G182*Parameters!C$17,2))","v":""},{"$f":"IF(G182=\"\",\"\",ROUND(G182*VLOOKUP(J182,Parameters!E$4:G$49,3),2))","v":""},{"$f":"IF(G182=\"\",\"\",ROUND(G182*Parameters!J$83,2))","v":""},""]
[null,null,null,null,0,{"$f":"IF(C183=\"\",0,IF(C183<=Parameters!$C$3,C183,Parameters!$C$3))","v":0},{"$f":"IF(C183=\"\",\"\",IF(F183<Parameters!$C$4,\"\",(F183-Parameters!$C$4)*D183))","v":""},null,{"$f":"IF(H183=\"\",\"\",YEAR(+Informatie!$C$1)-YEAR(H183))","v":""},"",{"$f":"IF(G183=\"\",\"\",ROUND(G183*Parameters!$C$12,2))","v":""},{"$f":"IF(G183=\"\",\"\",IF(YEAR(Informatie!$C$1)=2015,ROUND(G183*Parameters!$J$27,2),ROUND(G183*VLOOKUP('Overzicht deelnemers'!I183,Parameters!$E$4:$G$49,2,FALSE),2)))","v":""},{"$f":"IF(G183=\"\",\"\",IF(YEAR(Informatie!$C$1)=2015,ROUND(L183*Parameters!$C$20,2),G183*Parameters!$J$27))","v":""},"",{"$f":"IF(G183=\"\",\"\",ROUND(G183*Parameters!$C$16,2))","v":""},{"$f":"IF(G183=\"\",\"\",ROUND(G183*VLOOKUP(J183,Parameters!$E$3:$F$49,2,FALSE),2))","v":""},{"$f":"IF(G183=\"\",\"\",ROUND(G183*Parameters!$J$66,2))","v":""},"",{"$f":"IF(G183=\"\",\"\",ROUND(G183*Parameters!$C$13,2))","v":""},{"$f":"IF(G183=\"\",\"\",IF(YEAR(Informatie!$C$1)=2015,ROUND(G183*Parameters!J$44,2),ROUND(G183*VLOOKUP('Overzicht deelnemers'!I183,Parameters!$E$4:$G$49,3,FALSE),2)))","v":""},{"$f":"IF(G183=\"\",\"\",IF(YEAR(Informatie!$C$1)=2015,ROUND(T183*Parameters!$C$20,2),ROUND(G183*Parameters!$J$44,2)))","v":""},"",{"$f":"IF(G183=\"\",\"\",ROUND(G183*Parameters!C$17,2))","v":""},{"$f":"IF(G183=\"\",\"\",ROUND(G183*VLOOKUP(J183,Parameters!E$4:G$49,3),2))","v":""},{"$f":"IF(G183=\"\",\"\",ROUND(G183*Parameters!J$83,2))","v":""},""]
[null,null,null,null,0,{"$f":"IF(C184=\"\",0,IF(C184<=Parameters!$C$3,C184,Parameters!$C$3))","v":0},{"$f":"IF(C184=\"\",\"\",IF(F184<Parameters!$C$4,\"\",(F184-Parameters!$C$4)*D184))","v":""},null,{"$f":"IF(H184=\"\",\"\",YEAR(+Informatie!$C$1)-YEAR(H184))","v":""},"",{"$f":"IF(G184=\"\",\"\",ROUND(G184*Parameters!$C$12,2))","v":""},{"$f":"IF(G184=\"\",\"\",IF(YEAR(Informatie!$C$1)=2015,ROUND(G184*Parameters!$J$27,2),ROUND(G184*VLOOKUP('Overzicht deelnemers'!I184,Parameters!$E$4:$G$49,2,FALSE),2)))","v":""},{"$f":"IF(G184=\"\",\"\",IF(YEAR(Informatie!$C$1)=2015,ROUND(L184*Parameters!$C$20,2),G184*Parameters!$J$27))","v":""},"",{"$f":"IF(G184=\"\",\"\",ROUND(G184*Parameters!$C$16,2))","v":""},{"$f":"IF(G184=\"\",\"\",ROUND(G184*VLOOKUP(J184,Parameters!$E$3:$F$49,2,FALSE),2))","v":""},{"$f":"IF(G184=\"\",\"\",ROUND(G184*Parameters!$J$66,2))","v":""},"",{"$f":"IF(G184=\"\",\"\",ROUND(G184*Parameters!$C$13,2))","v":""},{"$f":"IF(G184=\"\",\"\",IF(YEAR(Informatie!$C$1)=2015,ROUND(G184*Parameters!J$44,2),ROUND(G184*VLOOKUP('Overzicht deelnemers'!I184,Parameters!$E$4:$G$49,3,FALSE),2)))","v":""},{"$f":"IF(G184=\"\",\"\",IF(YEAR(Informatie!$C$1)=2015,ROUND(T184*Parameters!$C$20,2),ROUND(G184*Parameters!$J$44,2)))","v":""},"",{"$f":"IF(G184=\"\",\"\",ROUND(G184*Parameters!C$17,2))","v":""},{"$f":"IF(G184=\"\",\"\",ROUND(G184*VLOOKUP(J184,Parameters!E$4:G$49,3),2))","v":""},{"$f":"IF(G184=\"\",\"\",ROUND(G184*Parameters!J$83,2))","v":""},""]
[null,null,null,null,0,{"$f":"IF(C185=\"\",0,IF(C185<=Parameters!$C$3,C185,Parameters!$C$3))","v":0},{"$f":"IF(C185=\"\",\"\",IF(F185<Parameters!$C$4,\"\",(F185-Parameters!$C$4)*D185))","v":""},null,{"$f":"IF(H185=\"\",\"\",YEAR(+Informatie!$C$1)-YEAR(H185))","v":""},"",{"$f":"IF(G185=\"\",\"\",ROUND(G185*Parameters!$C$12,2))","v":""},{"$f":"IF(G185=\"\",\"\",IF(YEAR(Informatie!$C$1)=2015,ROUND(G185*Parameters!$J$27,2),ROUND(G185*VLOOKUP('Overzicht deelnemers'!I185,Parameters!$E$4:$G$49,2,FALSE),2)))","v":""},{"$f":"IF(G185=\"\",\"\",IF(YEAR(Informatie!$C$1)=2015,ROUND(L185*Parameters!$C$20,2),G185*Parameters!$J$27))","v":""},"",{"$f":"IF(G185=\"\",\"\",ROUND(G185*Parameters!$C$16,2))","v":""},{"$f":"IF(G185=\"\",\"\",ROUND(G185*VLOOKUP(J185,Parameters!$E$3:$F$49,2,FALSE),2))","v":""},{"$f":"IF(G185=\"\",\"\",ROUND(G185*Parameters!$J$66,2))","v":""},"",{"$f":"IF(G185=\"\",\"\",ROUND(G185*Parameters!$C$13,2))","v":""},{"$f":"IF(G185=\"\",\"\",IF(YEAR(Informatie!$C$1)=2015,ROUND(G185*Parameters!J$44,2),ROUND(G185*VLOOKUP('Overzicht deelnemers'!I185,Parameters!$E$4:$G$49,3,FALSE),2)))","v":""},{"$f":"IF(G185=\"\",\"\",IF(YEAR(Informatie!$C$1)=2015,ROUND(T185*Parameters!$C$20,2),ROUND(G185*Parameters!$J$44,2)))","v":""},"",{"$f":"IF(G185=\"\",\"\",ROUND(G185*Parameters!C$17,2))","v":""},{"$f":"IF(G185=\"\",\"\",ROUND(G185*VLOOKUP(J185,Parameters!E$4:G$49,3),2))","v":""},{"$f":"IF(G185=\"\",\"\",ROUND(G185*Parameters!J$83,2))","v":""},""]
[null,null,null,null,0,{"$f":"IF(C186=\"\",0,IF(C186<=Parameters!$C$3,C186,Parameters!$C$3))","v":0},{"$f":"IF(C186=\"\",\"\",IF(F186<Parameters!$C$4,\"\",(F186-Parameters!$C$4)*D186))","v":""},null,{"$f":"IF(H186=\"\",\"\",YEAR(+Informatie!$C$1)-YEAR(H186))","v":""},"",{"$f":"IF(G186=\"\",\"\",ROUND(G186*Parameters!$C$12,2))","v":""},{"$f":"IF(G186=\"\",\"\",IF(YEAR(Informatie!$C$1)=2015,ROUND(G186*Parameters!$J$27,2),ROUND(G186*VLOOKUP('Overzicht deelnemers'!I186,Parameters!$E$4:$G$49,2,FALSE),2)))","v":""},{"$f":"IF(G186=\"\",\"\",IF(YEAR(Informatie!$C$1)=2015,ROUND(L186*Parameters!$C$20,2),G186*Parameters!$J$27))","v":""},"",{"$f":"IF(G186=\"\",\"\",ROUND(G186*Parameters!$C$16,2))","v":""},{"$f":"IF(G186=\"\",\"\",ROUND(G186*VLOOKUP(J186,Parameters!$E$3:$F$49,2,FALSE),2))","v":""},{"$f":"IF(G186=\"\",\"\",ROUND(G186*Parameters!$J$66,2))","v":""},"",{"$f":"IF(G186=\"\",\"\",ROUND(G186*Parameters!$C$13,2))","v":""},{"$f":"IF(G186=\"\",\"\",IF(YEAR(Informatie!$C$1)=2015,ROUND(G186*Parameters!J$44,2),ROUND(G186*VLOOKUP('Overzicht deelnemers'!I186,Parameters!$E$4:$G$49,3,FALSE),2)))","v":""},{"$f":"IF(G186=\"\",\"\",IF(YEAR(Informatie!$C$1)=2015,ROUND(T186*Parameters!$C$20,2),ROUND(G186*Parameters!$J$44,2)))","v":""},"",{"$f":"IF(G186=\"\",\"\",ROUND(G186*Parameters!C$17,2))","v":""},{"$f":"IF(G186=\"\",\"\",ROUND(G186*VLOOKUP(J186,Parameters!E$4:G$49,3),2))","v":""},{"$f":"IF(G186=\"\",\"\",ROUND(G186*Parameters!J$83,2))","v":""},""]
[null,null,null,null,0,{"$f":"IF(C187=\"\",0,IF(C187<=Parameters!$C$3,C187,Parameters!$C$3))","v":0},{"$f":"IF(C187=\"\",\"\",IF(F187<Parameters!$C$4,\"\",(F187-Parameters!$C$4)*D187))","v":""},null,{"$f":"IF(H187=\"\",\"\",YEAR(+Informatie!$C$1)-YEAR(H187))","v":""},"",{"$f":"IF(G187=\"\",\"\",ROUND(G187*Parameters!$C$12,2))","v":""},{"$f":"IF(G187=\"\",\"\",IF(YEAR(Informatie!$C$1)=2015,ROUND(G187*Parameters!$J$27,2),ROUND(G187*VLOOKUP('Overzicht deelnemers'!I187,Parameters!$E$4:$G$49,2,FALSE),2)))","v":""},{"$f":"IF(G187=\"\",\"\",IF(YEAR(Informatie!$C$1)=2015,ROUND(L187*Parameters!$C$20,2),G187*Parameters!$J$27))","v":""},"",{"$f":"IF(G187=\"\",\"\",ROUND(G187*Parameters!$C$16,2))","v":""},{"$f":"IF(G187=\"\",\"\",ROUND(G187*VLOOKUP(J187,Parameters!$E$3:$F$49,2,FALSE),2))","v":""},{"$f":"IF(G187=\"\",\"\",ROUND(G187*Parameters!$J$66,2))","v":""},"",{"$f":"IF(G187=\"\",\"\",ROUND(G187*Parameters!$C$13,2))","v":""},{"$f":"IF(G187=\"\",\"\",IF(YEAR(Informatie!$C$1)=2015,ROUND(G187*Parameters!J$44,2),ROUND(G187*VLOOKUP('Overzicht deelnemers'!I187,Parameters!$E$4:$G$49,3,FALSE),2)))","v":""},{"$f":"IF(G187=\"\",\"\",IF(YEAR(Informatie!$C$1)=2015,ROUND(T187*Parameters!$C$20,2),ROUND(G187*Parameters!$J$44,2)))","v":""},"",{"$f":"IF(G187=\"\",\"\",ROUND(G187*Parameters!C$17,2))","v":""},{"$f":"IF(G187=\"\",\"\",ROUND(G187*VLOOKUP(J187,Parameters!E$4:G$49,3),2))","v":""},{"$f":"IF(G187=\"\",\"\",ROUND(G187*Parameters!J$83,2))","v":""},""]
[null,null,null,null,0,{"$f":"IF(C188=\"\",0,IF(C188<=Parameters!$C$3,C188,Parameters!$C$3))","v":0},{"$f":"IF(C188=\"\",\"\",IF(F188<Parameters!$C$4,\"\",(F188-Parameters!$C$4)*D188))","v":""},null,{"$f":"IF(H188=\"\",\"\",YEAR(+Informatie!$C$1)-YEAR(H188))","v":""},"",{"$f":"IF(G188=\"\",\"\",ROUND(G188*Parameters!$C$12,2))","v":""},{"$f":"IF(G188=\"\",\"\",IF(YEAR(Informatie!$C$1)=2015,ROUND(G188*Parameters!$J$27,2),ROUND(G188*VLOOKUP('Overzicht deelnemers'!I188,Parameters!$E$4:$G$49,2,FALSE),2)))","v":""},{"$f":"IF(G188=\"\",\"\",IF(YEAR(Informatie!$C$1)=2015,ROUND(L188*Parameters!$C$20,2),G188*Parameters!$J$27))","v":""},"",{"$f":"IF(G188=\"\",\"\",ROUND(G188*Parameters!$C$16,2))","v":""},{"$f":"IF(G188=\"\",\"\",ROUND(G188*VLOOKUP(J188,Parameters!$E$3:$F$49,2,FALSE),2))","v":""},{"$f":"IF(G188=\"\",\"\",ROUND(G188*Parameters!$J$66,2))","v":""},"",{"$f":"IF(G188=\"\",\"\",ROUND(G188*Parameters!$C$13,2))","v":""},{"$f":"IF(G188=\"\",\"\",IF(YEAR(Informatie!$C$1)=2015,ROUND(G188*Parameters!J$44,2),ROUND(G188*VLOOKUP('Overzicht deelnemers'!I188,Parameters!$E$4:$G$49,3,FALSE),2)))","v":""},{"$f":"IF(G188=\"\",\"\",IF(YEAR(Informatie!$C$1)=2015,ROUND(T188*Parameters!$C$20,2),ROUND(G188*Parameters!$J$44,2)))","v":""},"",{"$f":"IF(G188=\"\",\"\",ROUND(G188*Parameters!C$17,2))","v":""},{"$f":"IF(G188=\"\",\"\",ROUND(G188*VLOOKUP(J188,Parameters!E$4:G$49,3),2))","v":""},{"$f":"IF(G188=\"\",\"\",ROUND(G188*Parameters!J$83,2))","v":""},""]
[null,null,null,null,0,{"$f":"IF(C189=\"\",0,IF(C189<=Parameters!$C$3,C189,Parameters!$C$3))","v":0},{"$f":"IF(C189=\"\",\"\",IF(F189<Parameters!$C$4,\"\",(F189-Parameters!$C$4)*D189))","v":""},null,{"$f":"IF(H189=\"\",\"\",YEAR(+Informatie!$C$1)-YEAR(H189))","v":""},"",{"$f":"IF(G189=\"\",\"\",ROUND(G189*Parameters!$C$12,2))","v":""},{"$f":"IF(G189=\"\",\"\",IF(YEAR(Informatie!$C$1)=2015,ROUND(G189*Parameters!$J$27,2),ROUND(G189*VLOOKUP('Overzicht deelnemers'!I189,Parameters!$E$4:$G$49,2,FALSE),2)))","v":""},{"$f":"IF(G189=\"\",\"\",IF(YEAR(Informatie!$C$1)=2015,ROUND(L189*Parameters!$C$20,2),G189*Parameters!$J$27))","v":""},"",{"$f":"IF(G189=\"\",\"\",ROUND(G189*Parameters!$C$16,2))","v":""},{"$f":"IF(G189=\"\",\"\",ROUND(G189*VLOOKUP(J189,Parameters!$E$3:$F$49,2,FALSE),2))","v":""},{"$f":"IF(G189=\"\",\"\",ROUND(G189*Parameters!$J$66,2))","v":""},"",{"$f":"IF(G189=\"\",\"\",ROUND(G189*Parameters!$C$13,2))","v":""},{"$f":"IF(G189=\"\",\"\",IF(YEAR(Informatie!$C$1)=2015,ROUND(G189*Parameters!J$44,2),ROUND(G189*VLOOKUP('Overzicht deelnemers'!I189,Parameters!$E$4:$G$49,3,FALSE),2)))","v":""},{"$f":"IF(G189=\"\",\"\",IF(YEAR(Informatie!$C$1)=2015,ROUND(T189*Parameters!$C$20,2),ROUND(G189*Parameters!$J$44,2)))","v":""},"",{"$f":"IF(G189=\"\",\"\",ROUND(G189*Parameters!C$17,2))","v":""},{"$f":"IF(G189=\"\",\"\",ROUND(G189*VLOOKUP(J189,Parameters!E$4:G$49,3),2))","v":""},{"$f":"IF(G189=\"\",\"\",ROUND(G189*Parameters!J$83,2))","v":""},""]
[null,null,null,null,0,{"$f":"IF(C190=\"\",0,IF(C190<=Parameters!$C$3,C190,Parameters!$C$3))","v":0},{"$f":"IF(C190=\"\",\"\",IF(F190<Parameters!$C$4,\"\",(F190-Parameters!$C$4)*D190))","v":""},null,{"$f":"IF(H190=\"\",\"\",YEAR(+Informatie!$C$1)-YEAR(H190))","v":""},"",{"$f":"IF(G190=\"\",\"\",ROUND(G190*Parameters!$C$12,2))","v":""},{"$f":"IF(G190=\"\",\"\",IF(YEAR(Informatie!$C$1)=2015,ROUND(G190*Parameters!$J$27,2),ROUND(G190*VLOOKUP('Overzicht deelnemers'!I190,Parameters!$E$4:$G$49,2,FALSE),2)))","v":""},{"$f":"IF(G190=\"\",\"\",IF(YEAR(Informatie!$C$1)=2015,ROUND(L190*Parameters!$C$20,2),G190*Parameters!$J$27))","v":""},"",{"$f":"IF(G190=\"\",\"\",ROUND(G190*Parameters!$C$16,2))","v":""},{"$f":"IF(G190=\"\",\"\",ROUND(G190*VLOOKUP(J190,Parameters!$E$3:$F$49,2,FALSE),2))","v":""},{"$f":"IF(G190=\"\",\"\",ROUND(G190*Parameters!$J$66,2))","v":""},"",{"$f":"IF(G190=\"\",\"\",ROUND(G190*Parameters!$C$13,2))","v":""},{"$f":"IF(G190=\"\",\"\",IF(YEAR(Informatie!$C$1)=2015,ROUND(G190*Parameters!J$44,2),ROUND(G190*VLOOKUP('Overzicht deelnemers'!I190,Parameters!$E$4:$G$49,3,FALSE),2)))","v":""},{"$f":"IF(G190=\"\",\"\",IF(YEAR(Informatie!$C$1)=2015,ROUND(T190*Parameters!$C$20,2),ROUND(G190*Parameters!$J$44,2)))","v":""},"",{"$f":"IF(G190=\"\",\"\",ROUND(G190*Parameters!C$17,2))","v":""},{"$f":"IF(G190=\"\",\"\",ROUND(G190*VLOOKUP(J190,Parameters!E$4:G$49,3),2))","v":""},{"$f":"IF(G190=\"\",\"\",ROUND(G190*Parameters!J$83,2))","v":""},""]
[null,null,null,null,0,{"$f":"IF(C191=\"\",0,IF(C191<=Parameters!$C$3,C191,Parameters!$C$3))","v":0},{"$f":"IF(C191=\"\",\"\",IF(F191<Parameters!$C$4,\"\",(F191-Parameters!$C$4)*D191))","v":""},null,{"$f":"IF(H191=\"\",\"\",YEAR(+Informatie!$C$1)-YEAR(H191))","v":""},"",{"$f":"IF(G191=\"\",\"\",ROUND(G191*Parameters!$C$12,2))","v":""},{"$f":"IF(G191=\"\",\"\",IF(YEAR(Informatie!$C$1)=2015,ROUND(G191*Parameters!$J$27,2),ROUND(G191*VLOOKUP('Overzicht deelnemers'!I191,Parameters!$E$4:$G$49,2,FALSE),2)))","v":""},{"$f":"IF(G191=\"\",\"\",IF(YEAR(Informatie!$C$1)=2015,ROUND(L191*Parameters!$C$20,2),G191*Parameters!$J$27))","v":""},"",{"$f":"IF(G191=\"\",\"\",ROUND(G191*Parameters!$C$16,2))","v":""},{"$f":"IF(G191=\"\",\"\",ROUND(G191*VLOOKUP(J191,Parameters!$E$3:$F$49,2,FALSE),2))","v":""},{"$f":"IF(G191=\"\",\"\",ROUND(G191*Parameters!$J$66,2))","v":""},"",{"$f":"IF(G191=\"\",\"\",ROUND(G191*Parameters!$C$13,2))","v":""},{"$f":"IF(G191=\"\",\"\",IF(YEAR(Informatie!$C$1)=2015,ROUND(G191*Parameters!J$44,2),ROUND(G191*VLOOKUP('Overzicht deelnemers'!I191,Parameters!$E$4:$G$49,3,FALSE),2)))","v":""},{"$f":"IF(G191=\"\",\"\",IF(YEAR(Informatie!$C$1)=2015,ROUND(T191*Parameters!$C$20,2),ROUND(G191*Parameters!$J$44,2)))","v":""},"",{"$f":"IF(G191=\"\",\"\",ROUND(G191*Parameters!C$17,2))","v":""},{"$f":"IF(G191=\"\",\"\",ROUND(G191*VLOOKUP(J191,Parameters!E$4:G$49,3),2))","v":""},{"$f":"IF(G191=\"\",\"\",ROUND(G191*Parameters!J$83,2))","v":""},""]
[null,null,null,null,0,{"$f":"IF(C192=\"\",0,IF(C192<=Parameters!$C$3,C192,Parameters!$C$3))","v":0},{"$f":"IF(C192=\"\",\"\",IF(F192<Parameters!$C$4,\"\",(F192-Parameters!$C$4)*D192))","v":""},null,{"$f":"IF(H192=\"\",\"\",YEAR(+Informatie!$C$1)-YEAR(H192))","v":""},"",{"$f":"IF(G192=\"\",\"\",ROUND(G192*Parameters!$C$12,2))","v":""},{"$f":"IF(G192=\"\",\"\",IF(YEAR(Informatie!$C$1)=2015,ROUND(G192*Parameters!$J$27,2),ROUND(G192*VLOOKUP('Overzicht deelnemers'!I192,Parameters!$E$4:$G$49,2,FALSE),2)))","v":""},{"$f":"IF(G192=\"\",\"\",IF(YEAR(Informatie!$C$1)=2015,ROUND(L192*Parameters!$C$20,2),G192*Parameters!$J$27))","v":""},"",{"$f":"IF(G192=\"\",\"\",ROUND(G192*Parameters!$C$16,2))","v":""},{"$f":"IF(G192=\"\",\"\",ROUND(G192*VLOOKUP(J192,Parameters!$E$3:$F$49,2,FALSE),2))","v":""},{"$f":"IF(G192=\"\",\"\",ROUND(G192*Parameters!$J$66,2))","v":""},"",{"$f":"IF(G192=\"\",\"\",ROUND(G192*Parameters!$C$13,2))","v":""},{"$f":"IF(G192=\"\",\"\",IF(YEAR(Informatie!$C$1)=2015,ROUND(G192*Parameters!J$44,2),ROUND(G192*VLOOKUP('Overzicht deelnemers'!I192,Parameters!$E$4:$G$49,3,FALSE),2)))","v":""},{"$f":"IF(G192=\"\",\"\",IF(YEAR(Informatie!$C$1)=2015,ROUND(T192*Parameters!$C$20,2),ROUND(G192*Parameters!$J$44,2)))","v":""},"",{"$f":"IF(G192=\"\",\"\",ROUND(G192*Parameters!C$17,2))","v":""},{"$f":"IF(G192=\"\",\"\",ROUND(G192*VLOOKUP(J192,Parameters!E$4:G$49,3),2))","v":""},{"$f":"IF(G192=\"\",\"\",ROUND(G192*Parameters!J$83,2))","v":""},""]
[null,null,null,null,0,{"$f":"IF(C193=\"\",0,IF(C193<=Parameters!$C$3,C193,Parameters!$C$3))","v":0},{"$f":"IF(C193=\"\",\"\",IF(F193<Parameters!$C$4,\"\",(F193-Parameters!$C$4)*D193))","v":""},null,{"$f":"IF(H193=\"\",\"\",YEAR(+Informatie!$C$1)-YEAR(H193))","v":""},"",{"$f":"IF(G193=\"\",\"\",ROUND(G193*Parameters!$C$12,2))","v":""},{"$f":"IF(G193=\"\",\"\",IF(YEAR(Informatie!$C$1)=2015,ROUND(G193*Parameters!$J$27,2),ROUND(G193*VLOOKUP('Overzicht deelnemers'!I193,Parameters!$E$4:$G$49,2,FALSE),2)))","v":""},{"$f":"IF(G193=\"\",\"\",IF(YEAR(Informatie!$C$1)=2015,ROUND(L193*Parameters!$C$20,2),G193*Parameters!$J$27))","v":""},"",{"$f":"IF(G193=\"\",\"\",ROUND(G193*Parameters!$C$16,2))","v":""},{"$f":"IF(G193=\"\",\"\",ROUND(G193*VLOOKUP(J193,Parameters!$E$3:$F$49,2,FALSE),2))","v":""},{"$f":"IF(G193=\"\",\"\",ROUND(G193*Parameters!$J$66,2))","v":""},"",{"$f":"IF(G193=\"\",\"\",ROUND(G193*Parameters!$C$13,2))","v":""},{"$f":"IF(G193=\"\",\"\",IF(YEAR(Informatie!$C$1)=2015,ROUND(G193*Parameters!J$44,2),ROUND(G193*VLOOKUP('Overzicht deelnemers'!I193,Parameters!$E$4:$G$49,3,FALSE),2)))","v":""},{"$f":"IF(G193=\"\",\"\",IF(YEAR(Informatie!$C$1)=2015,ROUND(T193*Parameters!$C$20,2),ROUND(G193*Parameters!$J$44,2)))","v":""},"",{"$f":"IF(G193=\"\",\"\",ROUND(G193*Parameters!C$17,2))","v":""},{"$f":"IF(G193=\"\",\"\",ROUND(G193*VLOOKUP(J193,Parameters!E$4:G$49,3),2))","v":""},{"$f":"IF(G193=\"\",\"\",ROUND(G193*Parameters!J$83,2))","v":""},""]
[null,null,null,null,0,{"$f":"IF(C194=\"\",0,IF(C194<=Parameters!$C$3,C194,Parameters!$C$3))","v":0},{"$f":"IF(C194=\"\",\"\",IF(F194<Parameters!$C$4,\"\",(F194-Parameters!$C$4)*D194))","v":""},null,{"$f":"IF(H194=\"\",\"\",YEAR(+Informatie!$C$1)-YEAR(H194))","v":""},{"$f":"IF(H194=\"\",\"\",I194+1)","v":""},{"$f":"IF(G194=\"\",\"\",ROUND(G194*Parameters!$C$12,2))","v":""},{"$f":"IF(G194=\"\",\"\",IF(YEAR(Informatie!$C$1)=2015,ROUND(G194*Parameters!$J$27,2),ROUND(G194*VLOOKUP('Overzicht deelnemers'!I194,Parameters!$E$4:$G$49,2,FALSE),2)))","v":""},{"$f":"IF(G194=\"\",\"\",IF(YEAR(Informatie!$C$1)=2015,ROUND(L194*Parameters!$C$20,2),G194*Parameters!$J$27))","v":""},"",{"$f":"IF(G194=\"\",\"\",ROUND(G194*Parameters!$C$16,2))","v":""},{"$f":"IF(G194=\"\",\"\",ROUND(G194*VLOOKUP(J194,Parameters!$E$3:$F$49,2,FALSE),2))","v":""},{"$f":"IF(G194=\"\",\"\",ROUND(G194*Parameters!$J$66,2))","v":""},"",{"$f":"IF(G194=\"\",\"\",ROUND(G194*Parameters!$C$13,2))","v":""},{"$f":"IF(G194=\"\",\"\",IF(YEAR(Informatie!$C$1)=2015,ROUND(G194*Parameters!J$44,2),ROUND(G194*VLOOKUP('Overzicht deelnemers'!I194,Parameters!$E$4:$G$49,3,FALSE),2)))","v":""},{"$f":"IF(G194=\"\",\"\",IF(YEAR(Informatie!$C$1)=2015,ROUND(T194*Parameters!$C$20,2),ROUND(G194*Parameters!$J$44,2)))","v":""},"",{"$f":"IF(G194=\"\",\"\",ROUND(G194*Parameters!C$17,2))","v":""},{"$f":"IF(G194=\"\",\"\",ROUND(G194*VLOOKUP(J194,Parameters!E$4:G$49,3),2))","v":""},{"$f":"IF(G194=\"\",\"\",ROUND(G194*Parameters!J$83,2))","v":""},""]
[null,null,null,null,{"$f":"C195*D195","v":0},{"$f":"IF(C195=\"\",0,IF(C195<=Parameters!$C$3,C195,Parameters!$C$3))","v":0},{"$f":"IF(C195=\"\",\"\",IF(F195<Parameters!$C$4,\"\",(F195-Parameters!$C$4)*D195))","v":""},null,{"$f":"IF(H195=\"\",\"\",YEAR(+Informatie!$C$1)-YEAR(H195))","v":""},"",{"$f":"IF(G195=\"\",\"\",ROUND(G195*Parameters!$C$12,2))","v":""},{"$f":"IF(G195=\"\",\"\",IF(YEAR(Informatie!$C$1)=2015,ROUND(G195*Parameters!$J$27,2),ROUND(G195*VLOOKUP('Overzicht deelnemers'!I195,Parameters!$E$4:$G$49,2,FALSE),2)))","v":""},{"$f":"IF(G195=\"\",\"\",IF(YEAR(Informatie!$C$1)=2015,ROUND(L195*Parameters!$C$20,2),G195*Parameters!$J$27))","v":""},{"$f":"IF(G195=\"\",\"\",ROUND(L195-M195,2))","v":""},{"$f":"IF(G195=\"\",\"\",ROUND(G195*Parameters!$C$16,2))","v":""},{"$f":"IF(G195=\"\",\"\",ROUND(G195*VLOOKUP(J195,Parameters!$E$3:$F$49,2,FALSE),2))","v":""},{"$f":"IF(G195=\"\",\"\",ROUND(G195*Parameters!$J$66,2))","v":""},{"$f":"IF(G195=\"\",\"\",ROUND(P195-Q195,2))","v":""},{"$f":"IF(G195=\"\",\"\",ROUND(G195*Parameters!$C$13,2))","v":""},{"$f":"IF(G195=\"\",\"\",IF(YEAR(Informatie!$C$1)=2015,ROUND(G195*Parameters!J$44,2),ROUND(G195*VLOOKUP('Overzicht deelnemers'!I195,Parameters!$E$4:$G$49,3,FALSE),2)))","v":""},{"$f":"IF(G195=\"\",\"\",IF(YEAR(Informatie!$C$1)=2015,ROUND(T195*Parameters!$C$20,2),ROUND(G195*Parameters!$J$44,2)))","v":""},{"$f":"IF(G195=\"\",\"\",ROUND(T195-U195,2))","v":""},{"$f":"IF(G195=\"\",\"\",ROUND(G195*Parameters!C$17,2))","v":""},{"$f":"IF(G195=\"\",\"\",ROUND(G195*VLOOKUP(J195,Parameters!E$4:G$49,3),2))","v":""},{"$f":"IF(G195=\"\",\"\",ROUND(G195*Parameters!J$83,2))","v":""},{"$f":"IF(G195=\"\",\"\",ROUND(X195-Y195,2))","v":""}]
[null,null,null,null,0,{"$f":"IF(C196=\"\",0,IF(C196<=Parameters!$C$3,C196,Parameters!$C$3))","v":0},{"$f":"IF(C196=\"\",\"\",IF(F196<Parameters!$C$4,\"\",(F196-Parameters!$C$4)*D196))","v":""},null,{"$f":"IF(H196=\"\",\"\",YEAR(+Informatie!$C$1)-YEAR(H196))","v":""},"",{"$f":"IF(G196=\"\",\"\",ROUND(G196*Parameters!$C$12,2))","v":""},{"$f":"IF(G196=\"\",\"\",IF(YEAR(Informatie!$C$1)=2015,ROUND(G196*Parameters!$J$27,2),ROUND(G196*VLOOKUP('Overzicht deelnemers'!I196,Parameters!$E$4:$G$49,2,FALSE),2)))","v":""},{"$f":"IF(G196=\"\",\"\",IF(YEAR(Informatie!$C$1)=2015,ROUND(L196*Parameters!$C$20,2),G196*Parameters!$J$27))","v":""},"",{"$f":"IF(G196=\"\",\"\",ROUND(G196*Parameters!$C$16,2))","v":""},{"$f":"IF(G196=\"\",\"\",ROUND(G196*VLOOKUP(J196,Parameters!$E$3:$F$49,2,FALSE),2))","v":""},{"$f":"IF(G196=\"\",\"\",ROUND(G196*Parameters!$J$66,2))","v":""},"",{"$f":"IF(G196=\"\",\"\",ROUND(G196*Parameters!$C$13,2))","v":""},{"$f":"IF(G196=\"\",\"\",IF(YEAR(Informatie!$C$1)=2015,ROUND(G196*Parameters!J$44,2),ROUND(G196*VLOOKUP('Overzicht deelnemers'!I196,Parameters!$E$4:$G$49,3,FALSE),2)))","v":""},{"$f":"IF(G196=\"\",\"\",IF(YEAR(Informatie!$C$1)=2015,ROUND(T196*Parameters!$C$20,2),ROUND(G196*Parameters!$J$44,2)))","v":""},"",{"$f":"IF(G196=\"\",\"\",ROUND(G196*Parameters!C$17,2))","v":""},{"$f":"IF(G196=\"\",\"\",ROUND(G196*VLOOKUP(J196,Parameters!E$4:G$49,3),2))","v":""},{"$f":"IF(G196=\"\",\"\",ROUND(G196*Parameters!J$83,2))","v":""},""]
[null,null,null,null,0,{"$f":"IF(C197=\"\",0,IF(C197<=Parameters!$C$3,C197,Parameters!$C$3))","v":0},{"$f":"IF(C197=\"\",\"\",IF(F197<Parameters!$C$4,\"\",(F197-Parameters!$C$4)*D197))","v":""},null,{"$f":"IF(H197=\"\",\"\",YEAR(+Informatie!$C$1)-YEAR(H197))","v":""},"",{"$f":"IF(G197=\"\",\"\",ROUND(G197*Parameters!$C$12,2))","v":""},{"$f":"IF(G197=\"\",\"\",IF(YEAR(Informatie!$C$1)=2015,ROUND(G197*Parameters!$J$27,2),ROUND(G197*VLOOKUP('Overzicht deelnemers'!I197,Parameters!$E$4:$G$49,2,FALSE),2)))","v":""},{"$f":"IF(G197=\"\",\"\",IF(YEAR(Informatie!$C$1)=2015,ROUND(L197*Parameters!$C$20,2),G197*Parameters!$J$27))","v":""},"",{"$f":"IF(G197=\"\",\"\",ROUND(G197*Parameters!$C$16,2))","v":""},{"$f":"IF(G197=\"\",\"\",ROUND(G197*VLOOKUP(J197,Parameters!$E$3:$F$49,2,FALSE),2))","v":""},{"$f":"IF(G197=\"\",\"\",ROUND(G197*Parameters!$J$66,2))","v":""},"",{"$f":"IF(G197=\"\",\"\",ROUND(G197*Parameters!$C$13,2))","v":""},{"$f":"IF(G197=\"\",\"\",IF(YEAR(Informatie!$C$1)=2015,ROUND(G197*Parameters!J$44,2),ROUND(G197*VLOOKUP('Overzicht deelnemers'!I197,Parameters!$E$4:$G$49,3,FALSE),2)))","v":""},{"$f":"IF(G197=\"\",\"\",IF(YEAR(Informatie!$C$1)=2015,ROUND(T197*Parameters!$C$20,2),ROUND(G197*Parameters!$J$44,2)))","v":""},"",{"$f":"IF(G197=\"\",\"\",ROUND(G197*Parameters!C$17,2))","v":""},{"$f":"IF(G197=\"\",\"\",ROUND(G197*VLOOKUP(J197,Parameters!E$4:G$49,3),2))","v":""},{"$f":"IF(G197=\"\",\"\",ROUND(G197*Parameters!J$83,2))","v":""},""]
[null,null,null,null,0,{"$f":"IF(C198=\"\",0,IF(C198<=Parameters!$C$3,C198,Parameters!$C$3))","v":0},{"$f":"IF(C198=\"\",\"\",IF(F198<Parameters!$C$4,\"\",(F198-Parameters!$C$4)*D198))","v":""},null,{"$f":"IF(H198=\"\",\"\",YEAR(+Informatie!$C$1)-YEAR(H198))","v":""},"",{"$f":"IF(G198=\"\",\"\",ROUND(G198*Parameters!$C$12,2))","v":""},{"$f":"IF(G198=\"\",\"\",IF(YEAR(Informatie!$C$1)=2015,ROUND(G198*Parameters!$J$27,2),ROUND(G198*VLOOKUP('Overzicht deelnemers'!I198,Parameters!$E$4:$G$49,2,FALSE),2)))","v":""},{"$f":"IF(G198=\"\",\"\",IF(YEAR(Informatie!$C$1)=2015,ROUND(L198*Parameters!$C$20,2),G198*Parameters!$J$27))","v":""},"",{"$f":"IF(G198=\"\",\"\",ROUND(G198*Parameters!$C$16,2))","v":""},{"$f":"IF(G198=\"\",\"\",ROUND(G198*VLOOKUP(J198,Parameters!$E$3:$F$49,2,FALSE),2))","v":""},{"$f":"IF(G198=\"\",\"\",ROUND(G198*Parameters!$J$66,2))","v":""},"",{"$f":"IF(G198=\"\",\"\",ROUND(G198*Parameters!$C$13,2))","v":""},{"$f":"IF(G198=\"\",\"\",IF(YEAR(Informatie!$C$1)=2015,ROUND(G198*Parameters!J$44,2),ROUND(G198*VLOOKUP('Overzicht deelnemers'!I198,Parameters!$E$4:$G$49,3,FALSE),2)))","v":""},{"$f":"IF(G198=\"\",\"\",IF(YEAR(Informatie!$C$1)=2015,ROUND(T198*Parameters!$C$20,2),ROUND(G198*Parameters!$J$44,2)))","v":""},"",{"$f":"IF(G198=\"\",\"\",ROUND(G198*Parameters!C$17,2))","v":""},{"$f":"IF(G198=\"\",\"\",ROUND(G198*VLOOKUP(J198,Parameters!E$4:G$49,3),2))","v":""},{"$f":"IF(G198=\"\",\"\",ROUND(G198*Parameters!J$83,2))","v":""},""]
[null,null,null,null,0,{"$f":"IF(C199=\"\",0,IF(C199<=Parameters!$C$3,C199,Parameters!$C$3))","v":0},{"$f":"IF(C199=\"\",\"\",IF(F199<Parameters!$C$4,\"\",(F199-Parameters!$C$4)*D199))","v":""},null,{"$f":"IF(H199=\"\",\"\",YEAR(+Informatie!$C$1)-YEAR(H199))","v":""},"",{"$f":"IF(G199=\"\",\"\",ROUND(G199*Parameters!$C$12,2))","v":""},{"$f":"IF(G199=\"\",\"\",IF(YEAR(Informatie!$C$1)=2015,ROUND(G199*Parameters!$J$27,2),ROUND(G199*VLOOKUP('Overzicht deelnemers'!I199,Parameters!$E$4:$G$49,2,FALSE),2)))","v":""},{"$f":"IF(G199=\"\",\"\",IF(YEAR(Informatie!$C$1)=2015,ROUND(L199*Parameters!$C$20,2),G199*Parameters!$J$27))","v":""},"",{"$f":"IF(G199=\"\",\"\",ROUND(G199*Parameters!$C$16,2))","v":""},{"$f":"IF(G199=\"\",\"\",ROUND(G199*VLOOKUP(J199,Parameters!$E$3:$F$49,2,FALSE),2))","v":""},{"$f":"IF(G199=\"\",\"\",ROUND(G199*Parameters!$J$66,2))","v":""},"",{"$f":"IF(G199=\"\",\"\",ROUND(G199*Parameters!$C$13,2))","v":""},{"$f":"IF(G199=\"\",\"\",IF(YEAR(Informatie!$C$1)=2015,ROUND(G199*Parameters!J$44,2),ROUND(G199*VLOOKUP('Overzicht deelnemers'!I199,Parameters!$E$4:$G$49,3,FALSE),2)))","v":""},{"$f":"IF(G199=\"\",\"\",IF(YEAR(Informatie!$C$1)=2015,ROUND(T199*Parameters!$C$20,2),ROUND(G199*Parameters!$J$44,2)))","v":""},"",{"$f":"IF(G199=\"\",\"\",ROUND(G199*Parameters!C$17,2))","v":""},{"$f":"IF(G199=\"\",\"\",ROUND(G199*VLOOKUP(J199,Parameters!E$4:G$49,3),2))","v":""},{"$f":"IF(G199=\"\",\"\",ROUND(G199*Parameters!J$83,2))","v":""},""]
[null,null,null,null,0,{"$f":"IF(C200=\"\",0,IF(C200<=Parameters!$C$3,C200,Parameters!$C$3))","v":0},{"$f":"IF(C200=\"\",\"\",IF(F200<Parameters!$C$4,\"\",(F200-Parameters!$C$4)*D200))","v":""},null,{"$f":"IF(H200=\"\",\"\",YEAR(+Informatie!$C$1)-YEAR(H200))","v":""},"",{"$f":"IF(G200=\"\",\"\",ROUND(G200*Parameters!$C$12,2))","v":""},{"$f":"IF(G200=\"\",\"\",IF(YEAR(Informatie!$C$1)=2015,ROUND(G200*Parameters!$J$27,2),ROUND(G200*VLOOKUP('Overzicht deelnemers'!I200,Parameters!$E$4:$G$49,2,FALSE),2)))","v":""},{"$f":"IF(G200=\"\",\"\",IF(YEAR(Informatie!$C$1)=2015,ROUND(L200*Parameters!$C$20,2),G200*Parameters!$J$27))","v":""},"",{"$f":"IF(G200=\"\",\"\",ROUND(G200*Parameters!$C$16,2))","v":""},{"$f":"IF(G200=\"\",\"\",ROUND(G200*VLOOKUP(J200,Parameters!$E$3:$F$49,2,FALSE),2))","v":""},{"$f":"IF(G200=\"\",\"\",ROUND(G200*Parameters!$J$66,2))","v":""},"",{"$f":"IF(G200=\"\",\"\",ROUND(G200*Parameters!$C$13,2))","v":""},{"$f":"IF(G200=\"\",\"\",IF(YEAR(Informatie!$C$1)=2015,ROUND(G200*Parameters!J$44,2),ROUND(G200*VLOOKUP('Overzicht deelnemers'!I200,Parameters!$E$4:$G$49,3,FALSE),2)))","v":""},{"$f":"IF(G200=\"\",\"\",IF(YEAR(Informatie!$C$1)=2015,ROUND(T200*Parameters!$C$20,2),ROUND(G200*Parameters!$J$44,2)))","v":""},"",{"$f":"IF(G200=\"\",\"\",ROUND(G200*Parameters!C$17,2))","v":""},{"$f":"IF(G200=\"\",\"\",ROUND(G200*VLOOKUP(J200,Parameters!E$4:G$49,3),2))","v":""},{"$f":"IF(G200=\"\",\"\",ROUND(G200*Parameters!J$83,2))","v":""},""]
[null,null,null,null,{"$f":"C201*D201","v":0},{"$f":"IF(C201=\"\",0,IF(C201<=Parameters!$C$3,C201,Parameters!$C$3))","v":0},{"$f":"IF(C201=\"\",\"\",IF(F201<Parameters!$C$4,\"\",(F201-Parameters!$C$4)*D201))","v":""},null,{"$f":"IF(H201=\"\",\"\",YEAR(+Informatie!$C$1)-YEAR(H201))","v":""},{"$f":"IF(H201=\"\",\"\",I201+1)","v":""},{"$f":"IF(G201=\"\",\"\",ROUND(G201*Parameters!$C$12,2))","v":""},{"$f":"IF(G201=\"\",\"\",IF(YEAR(Informatie!$C$1)=2015,ROUND(G201*Parameters!$J$27,2),ROUND(G201*VLOOKUP('Overzicht deelnemers'!I201,Parameters!$E$4:$G$49,2,FALSE),2)))","v":""},{"$f":"IF(G201=\"\",\"\",IF(YEAR(Informatie!$C$1)=2015,ROUND(L201*Parameters!$C$20,2),G201*Parameters!$J$27))","v":""},{"$f":"IF(G201=\"\",\"\",ROUND(L201-M201,2))","v":""},{"$f":"IF(G201=\"\",\"\",ROUND(G201*Parameters!$C$16,2))","v":""},{"$f":"IF(G201=\"\",\"\",ROUND(G201*VLOOKUP(J201,Parameters!$E$3:$F$49,2,FALSE),2))","v":""},{"$f":"IF(G201=\"\",\"\",ROUND(G201*Parameters!$J$66,2))","v":""},{"$f":"IF(G201=\"\",\"\",ROUND(P201-Q201,2))","v":""},{"$f":"IF(G201=\"\",\"\",ROUND(G201*Parameters!$C$13,2))","v":""},{"$f":"IF(G201=\"\",\"\",IF(YEAR(Informatie!$C$1)=2015,ROUND(G201*Parameters!J$44,2),ROUND(G201*VLOOKUP('Overzicht deelnemers'!I201,Parameters!$E$4:$G$49,3,FALSE),2)))","v":""},{"$f":"IF(G201=\"\",\"\",IF(YEAR(Informatie!$C$1)=2015,ROUND(T201*Parameters!$C$20,2),ROUND(G201*Parameters!$J$44,2)))","v":""},{"$f":"IF(G201=\"\",\"\",ROUND(T201-U201,2))","v":""},{"$f":"IF(G201=\"\",\"\",ROUND(G201*Parameters!C$17,2))","v":""},{"$f":"IF(G201=\"\",\"\",ROUND(G201*VLOOKUP(J201,Parameters!E$4:G$49,3),2))","v":""},{"$f":"IF(G201=\"\",\"\",ROUND(G201*Parameters!J$83,2))","v":""},{"$f":"IF(G201=\"\",\"\",ROUND(X201-Y201,2))","v":""}]
[null,null,null,null,0,{"$f":"IF(C202=\"\",0,IF(C202<=Parameters!$C$3,C202,Parameters!$C$3))","v":0},{"$f":"IF(C202=\"\",\"\",IF(F202<Parameters!$C$4,\"\",(F202-Parameters!$C$4)*D202))","v":""},null,{"$f":"IF(H202=\"\",\"\",YEAR(+Informatie!$C$1)-YEAR(H202))","v":""},"",{"$f":"IF(G202=\"\",\"\",ROUND(G202*Parameters!$C$12,2))","v":""},{"$f":"IF(G202=\"\",\"\",IF(YEAR(Informatie!$C$1)=2015,ROUND(G202*Parameters!$J$27,2),ROUND(G202*VLOOKUP('Overzicht deelnemers'!I202,Parameters!$E$4:$G$49,2,FALSE),2)))","v":""},{"$f":"IF(G202=\"\",\"\",IF(YEAR(Informatie!$C$1)=2015,ROUND(L202*Parameters!$C$20,2),G202*Parameters!$J$27))","v":""},"",{"$f":"IF(G202=\"\",\"\",ROUND(G202*Parameters!$C$16,2))","v":""},{"$f":"IF(G202=\"\",\"\",ROUND(G202*VLOOKUP(J202,Parameters!$E$3:$F$49,2,FALSE),2))","v":""},{"$f":"IF(G202=\"\",\"\",ROUND(G202*Parameters!$J$66,2))","v":""},"",{"$f":"IF(G202=\"\",\"\",ROUND(G202*Parameters!$C$13,2))","v":""},{"$f":"IF(G202=\"\",\"\",IF(YEAR(Informatie!$C$1)=2015,ROUND(G202*Parameters!J$44,2),ROUND(G202*VLOOKUP('Overzicht deelnemers'!I202,Parameters!$E$4:$G$49,3,FALSE),2)))","v":""},{"$f":"IF(G202=\"\",\"\",IF(YEAR(Informatie!$C$1)=2015,ROUND(T202*Parameters!$C$20,2),ROUND(G202*Parameters!$J$44,2)))","v":""},"",{"$f":"IF(G202=\"\",\"\",ROUND(G202*Parameters!C$17,2))","v":""},{"$f":"IF(G202=\"\",\"\",ROUND(G202*VLOOKUP(J202,Parameters!E$4:G$49,3),2))","v":""},{"$f":"IF(G202=\"\",\"\",ROUND(G202*Parameters!J$83,2))","v":""},""]
[null,null,null,null,0,{"$f":"IF(C203=\"\",0,IF(C203<=Parameters!$C$3,C203,Parameters!$C$3))","v":0},{"$f":"IF(C203=\"\",\"\",IF(F203<Parameters!$C$4,\"\",(F203-Parameters!$C$4)*D203))","v":""},null,{"$f":"IF(H203=\"\",\"\",YEAR(+Informatie!$C$1)-YEAR(H203))","v":""},"",{"$f":"IF(G203=\"\",\"\",ROUND(G203*Parameters!$C$12,2))","v":""},{"$f":"IF(G203=\"\",\"\",IF(YEAR(Informatie!$C$1)=2015,ROUND(G203*Parameters!$J$27,2),ROUND(G203*VLOOKUP('Overzicht deelnemers'!I203,Parameters!$E$4:$G$49,2,FALSE),2)))","v":""},{"$f":"IF(G203=\"\",\"\",IF(YEAR(Informatie!$C$1)=2015,ROUND(L203*Parameters!$C$20,2),G203*Parameters!$J$27))","v":""},"",{"$f":"IF(G203=\"\",\"\",ROUND(G203*Parameters!$C$16,2))","v":""},{"$f":"IF(G203=\"\",\"\",ROUND(G203*VLOOKUP(J203,Parameters!$E$3:$F$49,2,FALSE),2))","v":""},{"$f":"IF(G203=\"\",\"\",ROUND(G203*Parameters!$J$66,2))","v":""},"",{"$f":"IF(G203=\"\",\"\",ROUND(G203*Parameters!$C$13,2))","v":""},{"$f":"IF(G203=\"\",\"\",IF(YEAR(Informatie!$C$1)=2015,ROUND(G203*Parameters!J$44,2),ROUND(G203*VLOOKUP('Overzicht deelnemers'!I203,Parameters!$E$4:$G$49,3,FALSE),2)))","v":""},{"$f":"IF(G203=\"\",\"\",IF(YEAR(Informatie!$C$1)=2015,ROUND(T203*Parameters!$C$20,2),ROUND(G203*Parameters!$J$44,2)))","v":""},"",{"$f":"IF(G203=\"\",\"\",ROUND(G203*Parameters!C$17,2))","v":""},{"$f":"IF(G203=\"\",\"\",ROUND(G203*VLOOKUP(J203,Parameters!E$4:G$49,3),2))","v":""},{"$f":"IF(G203=\"\",\"\",ROUND(G203*Parameters!J$83,2))","v":""},""]
[null,null,null,null,0,{"$f":"IF(C204=\"\",0,IF(C204<=Parameters!$C$3,C204,Parameters!$C$3))","v":0},{"$f":"IF(C204=\"\",\"\",IF(F204<Parameters!$C$4,\"\",(F204-Parameters!$C$4)*D204))","v":""},null,{"$f":"IF(H204=\"\",\"\",YEAR(+Informatie!$C$1)-YEAR(H204))","v":""},"",{"$f":"IF(G204=\"\",\"\",ROUND(G204*Parameters!$C$12,2))","v":""},{"$f":"IF(G204=\"\",\"\",IF(YEAR(Informatie!$C$1)=2015,ROUND(G204*Parameters!$J$27,2),ROUND(G204*VLOOKUP('Overzicht deelnemers'!I204,Parameters!$E$4:$G$49,2,FALSE),2)))","v":""},{"$f":"IF(G204=\"\",\"\",IF(YEAR(Informatie!$C$1)=2015,ROUND(L204*Parameters!$C$20,2),G204*Parameters!$J$27))","v":""},"",{"$f":"IF(G204=\"\",\"\",ROUND(G204*Parameters!$C$16,2))","v":""},{"$f":"IF(G204=\"\",\"\",ROUND(G204*VLOOKUP(J204,Parameters!$E$3:$F$49,2,FALSE),2))","v":""},{"$f":"IF(G204=\"\",\"\",ROUND(G204*Parameters!$J$66,2))","v":""},"",{"$f":"IF(G204=\"\",\"\",ROUND(G204*Parameters!$C$13,2))","v":""},{"$f":"IF(G204=\"\",\"\",IF(YEAR(Informatie!$C$1)=2015,ROUND(G204*Parameters!J$44,2),ROUND(G204*VLOOKUP('Overzicht deelnemers'!I204,Parameters!$E$4:$G$49,3,FALSE),2)))","v":""},{"$f":"IF(G204=\"\",\"\",IF(YEAR(Informatie!$C$1)=2015,ROUND(T204*Parameters!$C$20,2),ROUND(G204*Parameters!$J$44,2)))","v":""},"",{"$f":"IF(G204=\"\",\"\",ROUND(G204*Parameters!C$17,2))","v":""},{"$f":"IF(G204=\"\",\"\",ROUND(G204*VLOOKUP(J204,Parameters!E$4:G$49,3),2))","v":""},{"$f":"IF(G204=\"\",\"\",ROUND(G204*Parameters!J$83,2))","v":""},""]
[null,null,null,null,0,{"$f":"IF(C205=\"\",0,IF(C205<=Parameters!$C$3,C205,Parameters!$C$3))","v":0},{"$f":"IF(C205=\"\",\"\",IF(F205<Parameters!$C$4,\"\",(F205-Parameters!$C$4)*D205))","v":""},null,{"$f":"IF(H205=\"\",\"\",YEAR(+Informatie!$C$1)-YEAR(H205))","v":""},"",{"$f":"IF(G205=\"\",\"\",ROUND(G205*Parameters!$C$12,2))","v":""},{"$f":"IF(G205=\"\",\"\",IF(YEAR(Informatie!$C$1)=2015,ROUND(G205*Parameters!$J$27,2),ROUND(G205*VLOOKUP('Overzicht deelnemers'!I205,Parameters!$E$4:$G$49,2,FALSE),2)))","v":""},{"$f":"IF(G205=\"\",\"\",IF(YEAR(Informatie!$C$1)=2015,ROUND(L205*Parameters!$C$20,2),G205*Parameters!$J$27))","v":""},"",{"$f":"IF(G205=\"\",\"\",ROUND(G205*Parameters!$C$16,2))","v":""},{"$f":"IF(G205=\"\",\"\",ROUND(G205*VLOOKUP(J205,Parameters!$E$3:$F$49,2,FALSE),2))","v":""},{"$f":"IF(G205=\"\",\"\",ROUND(G205*Parameters!$J$66,2))","v":""},"",{"$f":"IF(G205=\"\",\"\",ROUND(G205*Parameters!$C$13,2))","v":""},{"$f":"IF(G205=\"\",\"\",IF(YEAR(Informatie!$C$1)=2015,ROUND(G205*Parameters!J$44,2),ROUND(G205*VLOOKUP('Overzicht deelnemers'!I205,Parameters!$E$4:$G$49,3,FALSE),2)))","v":""},{"$f":"IF(G205=\"\",\"\",IF(YEAR(Informatie!$C$1)=2015,ROUND(T205*Parameters!$C$20,2),ROUND(G205*Parameters!$J$44,2)))","v":""},"",{"$f":"IF(G205=\"\",\"\",ROUND(G205*Parameters!C$17,2))","v":""},{"$f":"IF(G205=\"\",\"\",ROUND(G205*VLOOKUP(J205,Parameters!E$4:G$49,3),2))","v":""},{"$f":"IF(G205=\"\",\"\",ROUND(G205*Parameters!J$83,2))","v":""},""]
[null,null,null,null,0,{"$f":"IF(C206=\"\",0,IF(C206<=Parameters!$C$3,C206,Parameters!$C$3))","v":0},{"$f":"IF(C206=\"\",\"\",IF(F206<Parameters!$C$4,\"\",(F206-Parameters!$C$4)*D206))","v":""},null,{"$f":"IF(H206=\"\",\"\",YEAR(+Informatie!$C$1)-YEAR(H206))","v":""},"",{"$f":"IF(G206=\"\",\"\",ROUND(G206*Parameters!$C$12,2))","v":""},{"$f":"IF(G206=\"\",\"\",IF(YEAR(Informatie!$C$1)=2015,ROUND(G206*Parameters!$J$27,2),ROUND(G206*VLOOKUP('Overzicht deelnemers'!I206,Parameters!$E$4:$G$49,2,FALSE),2)))","v":""},{"$f":"IF(G206=\"\",\"\",IF(YEAR(Informatie!$C$1)=2015,ROUND(L206*Parameters!$C$20,2),G206*Parameters!$J$27))","v":""},"",{"$f":"IF(G206=\"\",\"\",ROUND(G206*Parameters!$C$16,2))","v":""},{"$f":"IF(G206=\"\",\"\",ROUND(G206*VLOOKUP(J206,Parameters!$E$3:$F$49,2,FALSE),2))","v":""},{"$f":"IF(G206=\"\",\"\",ROUND(G206*Parameters!$J$66,2))","v":""},"",{"$f":"IF(G206=\"\",\"\",ROUND(G206*Parameters!$C$13,2))","v":""},{"$f":"IF(G206=\"\",\"\",IF(YEAR(Informatie!$C$1)=2015,ROUND(G206*Parameters!J$44,2),ROUND(G206*VLOOKUP('Overzicht deelnemers'!I206,Parameters!$E$4:$G$49,3,FALSE),2)))","v":""},{"$f":"IF(G206=\"\",\"\",IF(YEAR(Informatie!$C$1)=2015,ROUND(T206*Parameters!$C$20,2),ROUND(G206*Parameters!$J$44,2)))","v":""},"",{"$f":"IF(G206=\"\",\"\",ROUND(G206*Parameters!C$17,2))","v":""},{"$f":"IF(G206=\"\",\"\",ROUND(G206*VLOOKUP(J206,Parameters!E$4:G$49,3),2))","v":""},{"$f":"IF(G206=\"\",\"\",ROUND(G206*Parameters!J$83,2))","v":""},""]
[null,null,null,null,0,{"$f":"IF(C207=\"\",0,IF(C207<=Parameters!$C$3,C207,Parameters!$C$3))","v":0},{"$f":"IF(C207=\"\",\"\",IF(F207<Parameters!$C$4,\"\",(F207-Parameters!$C$4)*D207))","v":""},null,{"$f":"IF(H207=\"\",\"\",YEAR(+Informatie!$C$1)-YEAR(H207))","v":""},"",{"$f":"IF(G207=\"\",\"\",ROUND(G207*Parameters!$C$12,2))","v":""},{"$f":"IF(G207=\"\",\"\",IF(YEAR(Informatie!$C$1)=2015,ROUND(G207*Parameters!$J$27,2),ROUND(G207*VLOOKUP('Overzicht deelnemers'!I207,Parameters!$E$4:$G$49,2,FALSE),2)))","v":""},{"$f":"IF(G207=\"\",\"\",IF(YEAR(Informatie!$C$1)=2015,ROUND(L207*Parameters!$C$20,2),G207*Parameters!$J$27))","v":""},"",{"$f":"IF(G207=\"\",\"\",ROUND(G207*Parameters!$C$16,2))","v":""},{"$f":"IF(G207=\"\",\"\",ROUND(G207*VLOOKUP(J207,Parameters!$E$3:$F$49,2,FALSE),2))","v":""},{"$f":"IF(G207=\"\",\"\",ROUND(G207*Parameters!$J$66,2))","v":""},"",{"$f":"IF(G207=\"\",\"\",ROUND(G207*Parameters!$C$13,2))","v":""},{"$f":"IF(G207=\"\",\"\",IF(YEAR(Informatie!$C$1)=2015,ROUND(G207*Parameters!J$44,2),ROUND(G207*VLOOKUP('Overzicht deelnemers'!I207,Parameters!$E$4:$G$49,3,FALSE),2)))","v":""},{"$f":"IF(G207=\"\",\"\",IF(YEAR(Informatie!$C$1)=2015,ROUND(T207*Parameters!$C$20,2),ROUND(G207*Parameters!$J$44,2)))","v":""},"",{"$f":"IF(G207=\"\",\"\",ROUND(G207*Parameters!C$17,2))","v":""},{"$f":"IF(G207=\"\",\"\",ROUND(G207*VLOOKUP(J207,Parameters!E$4:G$49,3),2))","v":""},{"$f":"IF(G207=\"\",\"\",ROUND(G207*Parameters!J$83,2))","v":""},""]
[null,null,null,null,0,{"$f":"IF(C208=\"\",0,IF(C208<=Parameters!$C$3,C208,Parameters!$C$3))","v":0},{"$f":"IF(C208=\"\",\"\",IF(F208<Parameters!$C$4,\"\",(F208-Parameters!$C$4)*D208))","v":""},null,{"$f":"IF(H208=\"\",\"\",YEAR(+Informatie!$C$1)-YEAR(H208))","v":""},"",{"$f":"IF(G208=\"\",\"\",ROUND(G208*Parameters!$C$12,2))","v":""},{"$f":"IF(G208=\"\",\"\",IF(YEAR(Informatie!$C$1)=2015,ROUND(G208*Parameters!$J$27,2),ROUND(G208*VLOOKUP('Overzicht deelnemers'!I208,Parameters!$E$4:$G$49,2,FALSE),2)))","v":""},{"$f":"IF(G208=\"\",\"\",IF(YEAR(Informatie!$C$1)=2015,ROUND(L208*Parameters!$C$20,2),G208*Parameters!$J$27))","v":""},"",{"$f":"IF(G208=\"\",\"\",ROUND(G208*Parameters!$C$16,2))","v":""},{"$f":"IF(G208=\"\",\"\",ROUND(G208*VLOOKUP(J208,Parameters!$E$3:$F$49,2,FALSE),2))","v":""},{"$f":"IF(G208=\"\",\"\",ROUND(G208*Parameters!$J$66,2))","v":""},"",{"$f":"IF(G208=\"\",\"\",ROUND(G208*Parameters!$C$13,2))","v":""},{"$f":"IF(G208=\"\",\"\",IF(YEAR(Informatie!$C$1)=2015,ROUND(G208*Parameters!J$44,2),ROUND(G208*VLOOKUP('Overzicht deelnemers'!I208,Parameters!$E$4:$G$49,3,FALSE),2)))","v":""},{"$f":"IF(G208=\"\",\"\",IF(YEAR(Informatie!$C$1)=2015,ROUND(T208*Parameters!$C$20,2),ROUND(G208*Parameters!$J$44,2)))","v":""},"",{"$f":"IF(G208=\"\",\"\",ROUND(G208*Parameters!C$17,2))","v":""},{"$f":"IF(G208=\"\",\"\",ROUND(G208*VLOOKUP(J208,Parameters!E$4:G$49,3),2))","v":""},{"$f":"IF(G208=\"\",\"\",ROUND(G208*Parameters!J$83,2))","v":""},""]
[null,null,null,null,0,{"$f":"IF(C209=\"\",0,IF(C209<=Parameters!$C$3,C209,Parameters!$C$3))","v":0},{"$f":"IF(C209=\"\",\"\",IF(F209<Parameters!$C$4,\"\",(F209-Parameters!$C$4)*D209))","v":""},null,{"$f":"IF(H209=\"\",\"\",YEAR(+Informatie!$C$1)-YEAR(H209))","v":""},"",{"$f":"IF(G209=\"\",\"\",ROUND(G209*Parameters!$C$12,2))","v":""},{"$f":"IF(G209=\"\",\"\",IF(YEAR(Informatie!$C$1)=2015,ROUND(G209*Parameters!$J$27,2),ROUND(G209*VLOOKUP('Overzicht deelnemers'!I209,Parameters!$E$4:$G$49,2,FALSE),2)))","v":""},{"$f":"IF(G209=\"\",\"\",IF(YEAR(Informatie!$C$1)=2015,ROUND(L209*Parameters!$C$20,2),G209*Parameters!$J$27))","v":""},"",{"$f":"IF(G209=\"\",\"\",ROUND(G209*Parameters!$C$16,2))","v":""},{"$f":"IF(G209=\"\",\"\",ROUND(G209*VLOOKUP(J209,Parameters!$E$3:$F$49,2,FALSE),2))","v":""},{"$f":"IF(G209=\"\",\"\",ROUND(G209*Parameters!$J$66,2))","v":""},"",{"$f":"IF(G209=\"\",\"\",ROUND(G209*Parameters!$C$13,2))","v":""},{"$f":"IF(G209=\"\",\"\",IF(YEAR(Informatie!$C$1)=2015,ROUND(G209*Parameters!J$44,2),ROUND(G209*VLOOKUP('Overzicht deelnemers'!I209,Parameters!$E$4:$G$49,3,FALSE),2)))","v":""},{"$f":"IF(G209=\"\",\"\",IF(YEAR(Informatie!$C$1)=2015,ROUND(T209*Parameters!$C$20,2),ROUND(G209*Parameters!$J$44,2)))","v":""},"",{"$f":"IF(G209=\"\",\"\",ROUND(G209*Parameters!C$17,2))","v":""},{"$f":"IF(G209=\"\",\"\",ROUND(G209*VLOOKUP(J209,Parameters!E$4:G$49,3),2))","v":""},{"$f":"IF(G209=\"\",\"\",ROUND(G209*Parameters!J$83,2))","v":""},""]
[null,null,null,null,0,{"$f":"IF(C210=\"\",0,IF(C210<=Parameters!$C$3,C210,Parameters!$C$3))","v":0},{"$f":"IF(C210=\"\",\"\",IF(F210<Parameters!$C$4,\"\",(F210-Parameters!$C$4)*D210))","v":""},null,{"$f":"IF(H210=\"\",\"\",YEAR(+Informatie!$C$1)-YEAR(H210))","v":""},"",{"$f":"IF(G210=\"\",\"\",ROUND(G210*Parameters!$C$12,2))","v":""},{"$f":"IF(G210=\"\",\"\",IF(YEAR(Informatie!$C$1)=2015,ROUND(G210*Parameters!$J$27,2),ROUND(G210*VLOOKUP('Overzicht deelnemers'!I210,Parameters!$E$4:$G$49,2,FALSE),2)))","v":""},{"$f":"IF(G210=\"\",\"\",IF(YEAR(Informatie!$C$1)=2015,ROUND(L210*Parameters!$C$20,2),G210*Parameters!$J$27))","v":""},"",{"$f":"IF(G210=\"\",\"\",ROUND(G210*Parameters!$C$16,2))","v":""},{"$f":"IF(G210=\"\",\"\",ROUND(G210*VLOOKUP(J210,Parameters!$E$3:$F$49,2,FALSE),2))","v":""},{"$f":"IF(G210=\"\",\"\",ROUND(G210*Parameters!$J$66,2))","v":""},"",{"$f":"IF(G210=\"\",\"\",ROUND(G210*Parameters!$C$13,2))","v":""},{"$f":"IF(G210=\"\",\"\",IF(YEAR(Informatie!$C$1)=2015,ROUND(G210*Parameters!J$44,2),ROUND(G210*VLOOKUP('Overzicht deelnemers'!I210,Parameters!$E$4:$G$49,3,FALSE),2)))","v":""},{"$f":"IF(G210=\"\",\"\",IF(YEAR(Informatie!$C$1)=2015,ROUND(T210*Parameters!$C$20,2),ROUND(G210*Parameters!$J$44,2)))","v":""},"",{"$f":"IF(G210=\"\",\"\",ROUND(G210*Parameters!C$17,2))","v":""},{"$f":"IF(G210=\"\",\"\",ROUND(G210*VLOOKUP(J210,Parameters!E$4:G$49,3),2))","v":""},{"$f":"IF(G210=\"\",\"\",ROUND(G210*Parameters!J$83,2))","v":""},""]
[null,null,null,null,0,{"$f":"IF(C211=\"\",0,IF(C211<=Parameters!$C$3,C211,Parameters!$C$3))","v":0},{"$f":"IF(C211=\"\",\"\",IF(F211<Parameters!$C$4,\"\",(F211-Parameters!$C$4)*D211))","v":""},null,{"$f":"IF(H211=\"\",\"\",YEAR(+Informatie!$C$1)-YEAR(H211))","v":""},"",{"$f":"IF(G211=\"\",\"\",ROUND(G211*Parameters!$C$12,2))","v":""},{"$f":"IF(G211=\"\",\"\",IF(YEAR(Informatie!$C$1)=2015,ROUND(G211*Parameters!$J$27,2),ROUND(G211*VLOOKUP('Overzicht deelnemers'!I211,Parameters!$E$4:$G$49,2,FALSE),2)))","v":""},{"$f":"IF(G211=\"\",\"\",IF(YEAR(Informatie!$C$1)=2015,ROUND(L211*Parameters!$C$20,2),G211*Parameters!$J$27))","v":""},"",{"$f":"IF(G211=\"\",\"\",ROUND(G211*Parameters!$C$16,2))","v":""},{"$f":"IF(G211=\"\",\"\",ROUND(G211*VLOOKUP(J211,Parameters!$E$3:$F$49,2,FALSE),2))","v":""},{"$f":"IF(G211=\"\",\"\",ROUND(G211*Parameters!$J$66,2))","v":""},"",{"$f":"IF(G211=\"\",\"\",ROUND(G211*Parameters!$C$13,2))","v":""},{"$f":"IF(G211=\"\",\"\",IF(YEAR(Informatie!$C$1)=2015,ROUND(G211*Parameters!J$44,2),ROUND(G211*VLOOKUP('Overzicht deelnemers'!I211,Parameters!$E$4:$G$49,3,FALSE),2)))","v":""},{"$f":"IF(G211=\"\",\"\",IF(YEAR(Informatie!$C$1)=2015,ROUND(T211*Parameters!$C$20,2),ROUND(G211*Parameters!$J$44,2)))","v":""},"",{"$f":"IF(G211=\"\",\"\",ROUND(G211*Parameters!C$17,2))","v":""},{"$f":"IF(G211=\"\",\"\",ROUND(G211*VLOOKUP(J211,Parameters!E$4:G$49,3),2))","v":""},{"$f":"IF(G211=\"\",\"\",ROUND(G211*Parameters!J$83,2))","v":""},""]
[null,null,null,null,0,{"$f":"IF(C212=\"\",0,IF(C212<=Parameters!$C$3,C212,Parameters!$C$3))","v":0},{"$f":"IF(C212=\"\",\"\",IF(F212<Parameters!$C$4,\"\",(F212-Parameters!$C$4)*D212))","v":""},null,{"$f":"IF(H212=\"\",\"\",YEAR(+Informatie!$C$1)-YEAR(H212))","v":""},"",{"$f":"IF(G212=\"\",\"\",ROUND(G212*Parameters!$C$12,2))","v":""},{"$f":"IF(G212=\"\",\"\",IF(YEAR(Informatie!$C$1)=2015,ROUND(G212*Parameters!$J$27,2),ROUND(G212*VLOOKUP('Overzicht deelnemers'!I212,Parameters!$E$4:$G$49,2,FALSE),2)))","v":""},{"$f":"IF(G212=\"\",\"\",IF(YEAR(Informatie!$C$1)=2015,ROUND(L212*Parameters!$C$20,2),G212*Parameters!$J$27))","v":""},"",{"$f":"IF(G212=\"\",\"\",ROUND(G212*Parameters!$C$16,2))","v":""},{"$f":"IF(G212=\"\",\"\",ROUND(G212*VLOOKUP(J212,Parameters!$E$3:$F$49,2,FALSE),2))","v":""},{"$f":"IF(G212=\"\",\"\",ROUND(G212*Parameters!$J$66,2))","v":""},"",{"$f":"IF(G212=\"\",\"\",ROUND(G212*Parameters!$C$13,2))","v":""},{"$f":"IF(G212=\"\",\"\",IF(YEAR(Informatie!$C$1)=2015,ROUND(G212*Parameters!J$44,2),ROUND(G212*VLOOKUP('Overzicht deelnemers'!I212,Parameters!$E$4:$G$49,3,FALSE),2)))","v":""},{"$f":"IF(G212=\"\",\"\",IF(YEAR(Informatie!$C$1)=2015,ROUND(T212*Parameters!$C$20,2),ROUND(G212*Parameters!$J$44,2)))","v":""},"",{"$f":"IF(G212=\"\",\"\",ROUND(G212*Parameters!C$17,2))","v":""},{"$f":"IF(G212=\"\",\"\",ROUND(G212*VLOOKUP(J212,Parameters!E$4:G$49,3),2))","v":""},{"$f":"IF(G212=\"\",\"\",ROUND(G212*Parameters!J$83,2))","v":""},""]
[null,null,null,null,0,{"$f":"IF(C213=\"\",0,IF(C213<=Parameters!$C$3,C213,Parameters!$C$3))","v":0},{"$f":"IF(C213=\"\",\"\",IF(F213<Parameters!$C$4,\"\",(F213-Parameters!$C$4)*D213))","v":""},null,{"$f":"IF(H213=\"\",\"\",YEAR(+Informatie!$C$1)-YEAR(H213))","v":""},"",{"$f":"IF(G213=\"\",\"\",ROUND(G213*Parameters!$C$12,2))","v":""},{"$f":"IF(G213=\"\",\"\",IF(YEAR(Informatie!$C$1)=2015,ROUND(G213*Parameters!$J$27,2),ROUND(G213*VLOOKUP('Overzicht deelnemers'!I213,Parameters!$E$4:$G$49,2,FALSE),2)))","v":""},{"$f":"IF(G213=\"\",\"\",IF(YEAR(Informatie!$C$1)=2015,ROUND(L213*Parameters!$C$20,2),G213*Parameters!$J$27))","v":""},"",{"$f":"IF(G213=\"\",\"\",ROUND(G213*Parameters!$C$16,2))","v":""},{"$f":"IF(G213=\"\",\"\",ROUND(G213*VLOOKUP(J213,Parameters!$E$3:$F$49,2,FALSE),2))","v":""},{"$f":"IF(G213=\"\",\"\",ROUND(G213*Parameters!$J$66,2))","v":""},"",{"$f":"IF(G213=\"\",\"\",ROUND(G213*Parameters!$C$13,2))","v":""},{"$f":"IF(G213=\"\",\"\",IF(YEAR(Informatie!$C$1)=2015,ROUND(G213*Parameters!J$44,2),ROUND(G213*VLOOKUP('Overzicht deelnemers'!I213,Parameters!$E$4:$G$49,3,FALSE),2)))","v":""},{"$f":"IF(G213=\"\",\"\",IF(YEAR(Informatie!$C$1)=2015,ROUND(T213*Parameters!$C$20,2),ROUND(G213*Parameters!$J$44,2)))","v":""},"",{"$f":"IF(G213=\"\",\"\",ROUND(G213*Parameters!C$17,2))","v":""},{"$f":"IF(G213=\"\",\"\",ROUND(G213*VLOOKUP(J213,Parameters!E$4:G$49,3),2))","v":""},{"$f":"IF(G213=\"\",\"\",ROUND(G213*Parameters!J$83,2))","v":""},""]
[null,null,null,null,0,{"$f":"IF(C214=\"\",0,IF(C214<=Parameters!$C$3,C214,Parameters!$C$3))","v":0},{"$f":"IF(C214=\"\",\"\",IF(F214<Parameters!$C$4,\"\",(F214-Parameters!$C$4)*D214))","v":""},null,{"$f":"IF(H214=\"\",\"\",YEAR(+Informatie!$C$1)-YEAR(H214))","v":""},"",{"$f":"IF(G214=\"\",\"\",ROUND(G214*Parameters!$C$12,2))","v":""},{"$f":"IF(G214=\"\",\"\",IF(YEAR(Informatie!$C$1)=2015,ROUND(G214*Parameters!$J$27,2),ROUND(G214*VLOOKUP('Overzicht deelnemers'!I214,Parameters!$E$4:$G$49,2,FALSE),2)))","v":""},{"$f":"IF(G214=\"\",\"\",IF(YEAR(Informatie!$C$1)=2015,ROUND(L214*Parameters!$C$20,2),G214*Parameters!$J$27))","v":""},"",{"$f":"IF(G214=\"\",\"\",ROUND(G214*Parameters!$C$16,2))","v":""},{"$f":"IF(G214=\"\",\"\",ROUND(G214*VLOOKUP(J214,Parameters!$E$3:$F$49,2,FALSE),2))","v":""},{"$f":"IF(G214=\"\",\"\",ROUND(G214*Parameters!$J$66,2))","v":""},"",{"$f":"IF(G214=\"\",\"\",ROUND(G214*Parameters!$C$13,2))","v":""},{"$f":"IF(G214=\"\",\"\",IF(YEAR(Informatie!$C$1)=2015,ROUND(G214*Parameters!J$44,2),ROUND(G214*VLOOKUP('Overzicht deelnemers'!I214,Parameters!$E$4:$G$49,3,FALSE),2)))","v":""},{"$f":"IF(G214=\"\",\"\",IF(YEAR(Informatie!$C$1)=2015,ROUND(T214*Parameters!$C$20,2),ROUND(G214*Parameters!$J$44,2)))","v":""},"",{"$f":"IF(G214=\"\",\"\",ROUND(G214*Parameters!C$17,2))","v":""},{"$f":"IF(G214=\"\",\"\",ROUND(G214*VLOOKUP(J214,Parameters!E$4:G$49,3),2))","v":""},{"$f":"IF(G214=\"\",\"\",ROUND(G214*Parameters!J$83,2))","v":""},""]
[null,null,null,null,0,{"$f":"IF(C215=\"\",0,IF(C215<=Parameters!$C$3,C215,Parameters!$C$3))","v":0},{"$f":"IF(C215=\"\",\"\",IF(F215<Parameters!$C$4,\"\",(F215-Parameters!$C$4)*D215))","v":""},null,{"$f":"IF(H215=\"\",\"\",YEAR(+Informatie!$C$1)-YEAR(H215))","v":""},"",{"$f":"IF(G215=\"\",\"\",ROUND(G215*Parameters!$C$12,2))","v":""},{"$f":"IF(G215=\"\",\"\",IF(YEAR(Informatie!$C$1)=2015,ROUND(G215*Parameters!$J$27,2),ROUND(G215*VLOOKUP('Overzicht deelnemers'!I215,Parameters!$E$4:$G$49,2,FALSE),2)))","v":""},{"$f":"IF(G215=\"\",\"\",IF(YEAR(Informatie!$C$1)=2015,ROUND(L215*Parameters!$C$20,2),G215*Parameters!$J$27))","v":""},"",{"$f":"IF(G215=\"\",\"\",ROUND(G215*Parameters!$C$16,2))","v":""},{"$f":"IF(G215=\"\",\"\",ROUND(G215*VLOOKUP(J215,Parameters!$E$3:$F$49,2,FALSE),2))","v":""},{"$f":"IF(G215=\"\",\"\",ROUND(G215*Parameters!$J$66,2))","v":""},"",{"$f":"IF(G215=\"\",\"\",ROUND(G215*Parameters!$C$13,2))","v":""},{"$f":"IF(G215=\"\",\"\",IF(YEAR(Informatie!$C$1)=2015,ROUND(G215*Parameters!J$44,2),ROUND(G215*VLOOKUP('Overzicht deelnemers'!I215,Parameters!$E$4:$G$49,3,FALSE),2)))","v":""},{"$f":"IF(G215=\"\",\"\",IF(YEAR(Informatie!$C$1)=2015,ROUND(T215*Parameters!$C$20,2),ROUND(G215*Parameters!$J$44,2)))","v":""},"",{"$f":"IF(G215=\"\",\"\",ROUND(G215*Parameters!C$17,2))","v":""},{"$f":"IF(G215=\"\",\"\",ROUND(G215*VLOOKUP(J215,Parameters!E$4:G$49,3),2))","v":""},{"$f":"IF(G215=\"\",\"\",ROUND(G215*Parameters!J$83,2))","v":""},""]
[null,null,null,null,0,{"$f":"IF(C216=\"\",0,IF(C216<=Parameters!$C$3,C216,Parameters!$C$3))","v":0},{"$f":"IF(C216=\"\",\"\",IF(F216<Parameters!$C$4,\"\",(F216-Parameters!$C$4)*D216))","v":""},null,{"$f":"IF(H216=\"\",\"\",YEAR(+Informatie!$C$1)-YEAR(H216))","v":""},"",{"$f":"IF(G216=\"\",\"\",ROUND(G216*Parameters!$C$12,2))","v":""},{"$f":"IF(G216=\"\",\"\",IF(YEAR(Informatie!$C$1)=2015,ROUND(G216*Parameters!$J$27,2),ROUND(G216*VLOOKUP('Overzicht deelnemers'!I216,Parameters!$E$4:$G$49,2,FALSE),2)))","v":""},{"$f":"IF(G216=\"\",\"\",IF(YEAR(Informatie!$C$1)=2015,ROUND(L216*Parameters!$C$20,2),G216*Parameters!$J$27))","v":""},"",{"$f":"IF(G216=\"\",\"\",ROUND(G216*Parameters!$C$16,2))","v":""},{"$f":"IF(G216=\"\",\"\",ROUND(G216*VLOOKUP(J216,Parameters!$E$3:$F$49,2,FALSE),2))","v":""},{"$f":"IF(G216=\"\",\"\",ROUND(G216*Parameters!$J$66,2))","v":""},"",{"$f":"IF(G216=\"\",\"\",ROUND(G216*Parameters!$C$13,2))","v":""},{"$f":"IF(G216=\"\",\"\",IF(YEAR(Informatie!$C$1)=2015,ROUND(G216*Parameters!J$44,2),ROUND(G216*VLOOKUP('Overzicht deelnemers'!I216,Parameters!$E$4:$G$49,3,FALSE),2)))","v":""},{"$f":"IF(G216=\"\",\"\",IF(YEAR(Informatie!$C$1)=2015,ROUND(T216*Parameters!$C$20,2),ROUND(G216*Parameters!$J$44,2)))","v":""},"",{"$f":"IF(G216=\"\",\"\",ROUND(G216*Parameters!C$17,2))","v":""},{"$f":"IF(G216=\"\",\"\",ROUND(G216*VLOOKUP(J216,Parameters!E$4:G$49,3),2))","v":""},{"$f":"IF(G216=\"\",\"\",ROUND(G216*Parameters!J$83,2))","v":""},""]
[null,null,null,null,0,{"$f":"IF(C217=\"\",0,IF(C217<=Parameters!$C$3,C217,Parameters!$C$3))","v":0},{"$f":"IF(C217=\"\",\"\",IF(F217<Parameters!$C$4,\"\",(F217-Parameters!$C$4)*D217))","v":""},null,{"$f":"IF(H217=\"\",\"\",YEAR(+Informatie!$C$1)-YEAR(H217))","v":""},"",{"$f":"IF(G217=\"\",\"\",ROUND(G217*Parameters!$C$12,2))","v":""},{"$f":"IF(G217=\"\",\"\",IF(YEAR(Informatie!$C$1)=2015,ROUND(G217*Parameters!$J$27,2),ROUND(G217*VLOOKUP('Overzicht deelnemers'!I217,Parameters!$E$4:$G$49,2,FALSE),2)))","v":""},{"$f":"IF(G217=\"\",\"\",IF(YEAR(Informatie!$C$1)=2015,ROUND(L217*Parameters!$C$20,2),G217*Parameters!$J$27))","v":""},"",{"$f":"IF(G217=\"\",\"\",ROUND(G217*Parameters!$C$16,2))","v":""},{"$f":"IF(G217=\"\",\"\",ROUND(G217*VLOOKUP(J217,Parameters!$E$3:$F$49,2,FALSE),2))","v":""},{"$f":"IF(G217=\"\",\"\",ROUND(G217*Parameters!$J$66,2))","v":""},"",{"$f":"IF(G217=\"\",\"\",ROUND(G217*Parameters!$C$13,2))","v":""},{"$f":"IF(G217=\"\",\"\",IF(YEAR(Informatie!$C$1)=2015,ROUND(G217*Parameters!J$44,2),ROUND(G217*VLOOKUP('Overzicht deelnemers'!I217,Parameters!$E$4:$G$49,3,FALSE),2)))","v":""},{"$f":"IF(G217=\"\",\"\",IF(YEAR(Informatie!$C$1)=2015,ROUND(T217*Parameters!$C$20,2),ROUND(G217*Parameters!$J$44,2)))","v":""},"",{"$f":"IF(G217=\"\",\"\",ROUND(G217*Parameters!C$17,2))","v":""},{"$f":"IF(G217=\"\",\"\",ROUND(G217*VLOOKUP(J217,Parameters!E$4:G$49,3),2))","v":""},{"$f":"IF(G217=\"\",\"\",ROUND(G217*Parameters!J$83,2))","v":""},""]
[null,null,null,null,0,{"$f":"IF(C218=\"\",0,IF(C218<=Parameters!$C$3,C218,Parameters!$C$3))","v":0},{"$f":"IF(C218=\"\",\"\",IF(F218<Parameters!$C$4,\"\",(F218-Parameters!$C$4)*D218))","v":""},null,{"$f":"IF(H218=\"\",\"\",YEAR(+Informatie!$C$1)-YEAR(H218))","v":""},"",{"$f":"IF(G218=\"\",\"\",ROUND(G218*Parameters!$C$12,2))","v":""},{"$f":"IF(G218=\"\",\"\",IF(YEAR(Informatie!$C$1)=2015,ROUND(G218*Parameters!$J$27,2),ROUND(G218*VLOOKUP('Overzicht deelnemers'!I218,Parameters!$E$4:$G$49,2,FALSE),2)))","v":""},{"$f":"IF(G218=\"\",\"\",IF(YEAR(Informatie!$C$1)=2015,ROUND(L218*Parameters!$C$20,2),G218*Parameters!$J$27))","v":""},"",{"$f":"IF(G218=\"\",\"\",ROUND(G218*Parameters!$C$16,2))","v":""},{"$f":"IF(G218=\"\",\"\",ROUND(G218*VLOOKUP(J218,Parameters!$E$3:$F$49,2,FALSE),2))","v":""},{"$f":"IF(G218=\"\",\"\",ROUND(G218*Parameters!$J$66,2))","v":""},"",{"$f":"IF(G218=\"\",\"\",ROUND(G218*Parameters!$C$13,2))","v":""},{"$f":"IF(G218=\"\",\"\",IF(YEAR(Informatie!$C$1)=2015,ROUND(G218*Parameters!J$44,2),ROUND(G218*VLOOKUP('Overzicht deelnemers'!I218,Parameters!$E$4:$G$49,3,FALSE),2)))","v":""},{"$f":"IF(G218=\"\",\"\",IF(YEAR(Informatie!$C$1)=2015,ROUND(T218*Parameters!$C$20,2),ROUND(G218*Parameters!$J$44,2)))","v":""},"",{"$f":"IF(G218=\"\",\"\",ROUND(G218*Parameters!C$17,2))","v":""},{"$f":"IF(G218=\"\",\"\",ROUND(G218*VLOOKUP(J218,Parameters!E$4:G$49,3),2))","v":""},{"$f":"IF(G218=\"\",\"\",ROUND(G218*Parameters!J$83,2))","v":""},""]
[null,null,null,null,0,{"$f":"IF(C219=\"\",0,IF(C219<=Parameters!$C$3,C219,Parameters!$C$3))","v":0},{"$f":"IF(C219=\"\",\"\",IF(F219<Parameters!$C$4,\"\",(F219-Parameters!$C$4)*D219))","v":""},null,{"$f":"IF(H219=\"\",\"\",YEAR(+Informatie!$C$1)-YEAR(H219))","v":""},"",{"$f":"IF(G219=\"\",\"\",ROUND(G219*Parameters!$C$12,2))","v":""},{"$f":"IF(G219=\"\",\"\",IF(YEAR(Informatie!$C$1)=2015,ROUND(G219*Parameters!$J$27,2),ROUND(G219*VLOOKUP('Overzicht deelnemers'!I219,Parameters!$E$4:$G$49,2,FALSE),2)))","v":""},{"$f":"IF(G219=\"\",\"\",IF(YEAR(Informatie!$C$1)=2015,ROUND(L219*Parameters!$C$20,2),G219*Parameters!$J$27))","v":""},"",{"$f":"IF(G219=\"\",\"\",ROUND(G219*Parameters!$C$16,2))","v":""},{"$f":"IF(G219=\"\",\"\",ROUND(G219*VLOOKUP(J219,Parameters!$E$3:$F$49,2,FALSE),2))","v":""},{"$f":"IF(G219=\"\",\"\",ROUND(G219*Parameters!$J$66,2))","v":""},"",{"$f":"IF(G219=\"\",\"\",ROUND(G219*Parameters!$C$13,2))","v":""},{"$f":"IF(G219=\"\",\"\",IF(YEAR(Informatie!$C$1)=2015,ROUND(G219*Parameters!J$44,2),ROUND(G219*VLOOKUP('Overzicht deelnemers'!I219,Parameters!$E$4:$G$49,3,FALSE),2)))","v":""},{"$f":"IF(G219=\"\",\"\",IF(YEAR(Informatie!$C$1)=2015,ROUND(T219*Parameters!$C$20,2),ROUND(G219*Parameters!$J$44,2)))","v":""},"",{"$f":"IF(G219=\"\",\"\",ROUND(G219*Parameters!C$17,2))","v":""},{"$f":"IF(G219=\"\",\"\",ROUND(G219*VLOOKUP(J219,Parameters!E$4:G$49,3),2))","v":""},{"$f":"IF(G219=\"\",\"\",ROUND(G219*Parameters!J$83,2))","v":""},""]
[null,null,null,null,0,{"$f":"IF(C220=\"\",0,IF(C220<=Parameters!$C$3,C220,Parameters!$C$3))","v":0},{"$f":"IF(C220=\"\",\"\",IF(F220<Parameters!$C$4,\"\",(F220-Parameters!$C$4)*D220))","v":""},null,{"$f":"IF(H220=\"\",\"\",YEAR(+Informatie!$C$1)-YEAR(H220))","v":""},"",{"$f":"IF(G220=\"\",\"\",ROUND(G220*Parameters!$C$12,2))","v":""},{"$f":"IF(G220=\"\",\"\",IF(YEAR(Informatie!$C$1)=2015,ROUND(G220*Parameters!$J$27,2),ROUND(G220*VLOOKUP('Overzicht deelnemers'!I220,Parameters!$E$4:$G$49,2,FALSE),2)))","v":""},{"$f":"IF(G220=\"\",\"\",IF(YEAR(Informatie!$C$1)=2015,ROUND(L220*Parameters!$C$20,2),G220*Parameters!$J$27))","v":""},"",{"$f":"IF(G220=\"\",\"\",ROUND(G220*Parameters!$C$16,2))","v":""},{"$f":"IF(G220=\"\",\"\",ROUND(G220*VLOOKUP(J220,Parameters!$E$3:$F$49,2,FALSE),2))","v":""},{"$f":"IF(G220=\"\",\"\",ROUND(G220*Parameters!$J$66,2))","v":""},"",{"$f":"IF(G220=\"\",\"\",ROUND(G220*Parameters!$C$13,2))","v":""},{"$f":"IF(G220=\"\",\"\",IF(YEAR(Informatie!$C$1)=2015,ROUND(G220*Parameters!J$44,2),ROUND(G220*VLOOKUP('Overzicht deelnemers'!I220,Parameters!$E$4:$G$49,3,FALSE),2)))","v":""},{"$f":"IF(G220=\"\",\"\",IF(YEAR(Informatie!$C$1)=2015,ROUND(T220*Parameters!$C$20,2),ROUND(G220*Parameters!$J$44,2)))","v":""},"",{"$f":"IF(G220=\"\",\"\",ROUND(G220*Parameters!C$17,2))","v":""},{"$f":"IF(G220=\"\",\"\",ROUND(G220*VLOOKUP(J220,Parameters!E$4:G$49,3),2))","v":""},{"$f":"IF(G220=\"\",\"\",ROUND(G220*Parameters!J$83,2))","v":""},""]
[null,null,null,null,0,{"$f":"IF(C221=\"\",0,IF(C221<=Parameters!$C$3,C221,Parameters!$C$3))","v":0},{"$f":"IF(C221=\"\",\"\",IF(F221<Parameters!$C$4,\"\",(F221-Parameters!$C$4)*D221))","v":""},null,{"$f":"IF(H221=\"\",\"\",YEAR(+Informatie!$C$1)-YEAR(H221))","v":""},"",{"$f":"IF(G221=\"\",\"\",ROUND(G221*Parameters!$C$12,2))","v":""},{"$f":"IF(G221=\"\",\"\",IF(YEAR(Informatie!$C$1)=2015,ROUND(G221*Parameters!$J$27,2),ROUND(G221*VLOOKUP('Overzicht deelnemers'!I221,Parameters!$E$4:$G$49,2,FALSE),2)))","v":""},{"$f":"IF(G221=\"\",\"\",IF(YEAR(Informatie!$C$1)=2015,ROUND(L221*Parameters!$C$20,2),G221*Parameters!$J$27))","v":""},"",{"$f":"IF(G221=\"\",\"\",ROUND(G221*Parameters!$C$16,2))","v":""},{"$f":"IF(G221=\"\",\"\",ROUND(G221*VLOOKUP(J221,Parameters!$E$3:$F$49,2,FALSE),2))","v":""},{"$f":"IF(G221=\"\",\"\",ROUND(G221*Parameters!$J$66,2))","v":""},"",{"$f":"IF(G221=\"\",\"\",ROUND(G221*Parameters!$C$13,2))","v":""},{"$f":"IF(G221=\"\",\"\",IF(YEAR(Informatie!$C$1)=2015,ROUND(G221*Parameters!J$44,2),ROUND(G221*VLOOKUP('Overzicht deelnemers'!I221,Parameters!$E$4:$G$49,3,FALSE),2)))","v":""},{"$f":"IF(G221=\"\",\"\",IF(YEAR(Informatie!$C$1)=2015,ROUND(T221*Parameters!$C$20,2),ROUND(G221*Parameters!$J$44,2)))","v":""},"",{"$f":"IF(G221=\"\",\"\",ROUND(G221*Parameters!C$17,2))","v":""},{"$f":"IF(G221=\"\",\"\",ROUND(G221*VLOOKUP(J221,Parameters!E$4:G$49,3),2))","v":""},{"$f":"IF(G221=\"\",\"\",ROUND(G221*Parameters!J$83,2))","v":""},""]
[null,null,null,null,0,{"$f":"IF(C222=\"\",0,IF(C222<=Parameters!$C$3,C222,Parameters!$C$3))","v":0},{"$f":"IF(C222=\"\",\"\",IF(F222<Parameters!$C$4,\"\",(F222-Parameters!$C$4)*D222))","v":""},null,{"$f":"IF(H222=\"\",\"\",YEAR(+Informatie!$C$1)-YEAR(H222))","v":""},"",{"$f":"IF(G222=\"\",\"\",ROUND(G222*Parameters!$C$12,2))","v":""},{"$f":"IF(G222=\"\",\"\",IF(YEAR(Informatie!$C$1)=2015,ROUND(G222*Parameters!$J$27,2),ROUND(G222*VLOOKUP('Overzicht deelnemers'!I222,Parameters!$E$4:$G$49,2,FALSE),2)))","v":""},{"$f":"IF(G222=\"\",\"\",IF(YEAR(Informatie!$C$1)=2015,ROUND(L222*Parameters!$C$20,2),G222*Parameters!$J$27))","v":""},"",{"$f":"IF(G222=\"\",\"\",ROUND(G222*Parameters!$C$16,2))","v":""},{"$f":"IF(G222=\"\",\"\",ROUND(G222*VLOOKUP(J222,Parameters!$E$3:$F$49,2,FALSE),2))","v":""},{"$f":"IF(G222=\"\",\"\",ROUND(G222*Parameters!$J$66,2))","v":""},"",{"$f":"IF(G222=\"\",\"\",ROUND(G222*Parameters!$C$13,2))","v":""},{"$f":"IF(G222=\"\",\"\",IF(YEAR(Informatie!$C$1)=2015,ROUND(G222*Parameters!J$44,2),ROUND(G222*VLOOKUP('Overzicht deelnemers'!I222,Parameters!$E$4:$G$49,3,FALSE),2)))","v":""},{"$f":"IF(G222=\"\",\"\",IF(YEAR(Informatie!$C$1)=2015,ROUND(T222*Parameters!$C$20,2),ROUND(G222*Parameters!$J$44,2)))","v":""},"",{"$f":"IF(G222=\"\",\"\",ROUND(G222*Parameters!C$17,2))","v":""},{"$f":"IF(G222=\"\",\"\",ROUND(G222*VLOOKUP(J222,Parameters!E$4:G$49,3),2))","v":""},{"$f":"IF(G222=\"\",\"\",ROUND(G222*Parameters!J$83,2))","v":""},""]
[null,null,null,null,0,{"$f":"IF(C223=\"\",0,IF(C223<=Parameters!$C$3,C223,Parameters!$C$3))","v":0},{"$f":"IF(C223=\"\",\"\",IF(F223<Parameters!$C$4,\"\",(F223-Parameters!$C$4)*D223))","v":""},null,{"$f":"IF(H223=\"\",\"\",YEAR(+Informatie!$C$1)-YEAR(H223))","v":""},"",{"$f":"IF(G223=\"\",\"\",ROUND(G223*Parameters!$C$12,2))","v":""},{"$f":"IF(G223=\"\",\"\",IF(YEAR(Informatie!$C$1)=2015,ROUND(G223*Parameters!$J$27,2),ROUND(G223*VLOOKUP('Overzicht deelnemers'!I223,Parameters!$E$4:$G$49,2,FALSE),2)))","v":""},{"$f":"IF(G223=\"\",\"\",IF(YEAR(Informatie!$C$1)=2015,ROUND(L223*Parameters!$C$20,2),G223*Parameters!$J$27))","v":""},"",{"$f":"IF(G223=\"\",\"\",ROUND(G223*Parameters!$C$16,2))","v":""},{"$f":"IF(G223=\"\",\"\",ROUND(G223*VLOOKUP(J223,Parameters!$E$3:$F$49,2,FALSE),2))","v":""},{"$f":"IF(G223=\"\",\"\",ROUND(G223*Parameters!$J$66,2))","v":""},"",{"$f":"IF(G223=\"\",\"\",ROUND(G223*Parameters!$C$13,2))","v":""},{"$f":"IF(G223=\"\",\"\",IF(YEAR(Informatie!$C$1)=2015,ROUND(G223*Parameters!J$44,2),ROUND(G223*VLOOKUP('Overzicht deelnemers'!I223,Parameters!$E$4:$G$49,3,FALSE),2)))","v":""},{"$f":"IF(G223=\"\",\"\",IF(YEAR(Informatie!$C$1)=2015,ROUND(T223*Parameters!$C$20,2),ROUND(G223*Parameters!$J$44,2)))","v":""},"",{"$f":"IF(G223=\"\",\"\",ROUND(G223*Parameters!C$17,2))","v":""},{"$f":"IF(G223=\"\",\"\",ROUND(G223*VLOOKUP(J223,Parameters!E$4:G$49,3),2))","v":""},{"$f":"IF(G223=\"\",\"\",ROUND(G223*Parameters!J$83,2))","v":""},""]
[null,null,null,null,0,{"$f":"IF(C224=\"\",0,IF(C224<=Parameters!$C$3,C224,Parameters!$C$3))","v":0},{"$f":"IF(C224=\"\",\"\",IF(F224<Parameters!$C$4,\"\",(F224-Parameters!$C$4)*D224))","v":""},null,{"$f":"IF(H224=\"\",\"\",YEAR(+Informatie!$C$1)-YEAR(H224))","v":""},"",{"$f":"IF(G224=\"\",\"\",ROUND(G224*Parameters!$C$12,2))","v":""},{"$f":"IF(G224=\"\",\"\",IF(YEAR(Informatie!$C$1)=2015,ROUND(G224*Parameters!$J$27,2),ROUND(G224*VLOOKUP('Overzicht deelnemers'!I224,Parameters!$E$4:$G$49,2,FALSE),2)))","v":""},{"$f":"IF(G224=\"\",\"\",IF(YEAR(Informatie!$C$1)=2015,ROUND(L224*Parameters!$C$20,2),G224*Parameters!$J$27))","v":""},"",{"$f":"IF(G224=\"\",\"\",ROUND(G224*Parameters!$C$16,2))","v":""},{"$f":"IF(G224=\"\",\"\",ROUND(G224*VLOOKUP(J224,Parameters!$E$3:$F$49,2,FALSE),2))","v":""},{"$f":"IF(G224=\"\",\"\",ROUND(G224*Parameters!$J$66,2))","v":""},"",{"$f":"IF(G224=\"\",\"\",ROUND(G224*Parameters!$C$13,2))","v":""},{"$f":"IF(G224=\"\",\"\",IF(YEAR(Informatie!$C$1)=2015,ROUND(G224*Parameters!J$44,2),ROUND(G224*VLOOKUP('Overzicht deelnemers'!I224,Parameters!$E$4:$G$49,3,FALSE),2)))","v":""},{"$f":"IF(G224=\"\",\"\",IF(YEAR(Informatie!$C$1)=2015,ROUND(T224*Parameters!$C$20,2),ROUND(G224*Parameters!$J$44,2)))","v":""},"",{"$f":"IF(G224=\"\",\"\",ROUND(G224*Parameters!C$17,2))","v":""},{"$f":"IF(G224=\"\",\"\",ROUND(G224*VLOOKUP(J224,Parameters!E$4:G$49,3),2))","v":""},{"$f":"IF(G224=\"\",\"\",ROUND(G224*Parameters!J$83,2))","v":""},""]
[null,null,null,null,0,{"$f":"IF(C225=\"\",0,IF(C225<=Parameters!$C$3,C225,Parameters!$C$3))","v":0},{"$f":"IF(C225=\"\",\"\",IF(F225<Parameters!$C$4,\"\",(F225-Parameters!$C$4)*D225))","v":""},null,{"$f":"IF(H225=\"\",\"\",YEAR(+Informatie!$C$1)-YEAR(H225))","v":""},"",{"$f":"IF(G225=\"\",\"\",ROUND(G225*Parameters!$C$12,2))","v":""},{"$f":"IF(G225=\"\",\"\",IF(YEAR(Informatie!$C$1)=2015,ROUND(G225*Parameters!$J$27,2),ROUND(G225*VLOOKUP('Overzicht deelnemers'!I225,Parameters!$E$4:$G$49,2,FALSE),2)))","v":""},{"$f":"IF(G225=\"\",\"\",IF(YEAR(Informatie!$C$1)=2015,ROUND(L225*Parameters!$C$20,2),G225*Parameters!$J$27))","v":""},"",{"$f":"IF(G225=\"\",\"\",ROUND(G225*Parameters!$C$16,2))","v":""},{"$f":"IF(G225=\"\",\"\",ROUND(G225*VLOOKUP(J225,Parameters!$E$3:$F$49,2,FALSE),2))","v":""},{"$f":"IF(G225=\"\",\"\",ROUND(G225*Parameters!$J$66,2))","v":""},"",{"$f":"IF(G225=\"\",\"\",ROUND(G225*Parameters!$C$13,2))","v":""},{"$f":"IF(G225=\"\",\"\",IF(YEAR(Informatie!$C$1)=2015,ROUND(G225*Parameters!J$44,2),ROUND(G225*VLOOKUP('Overzicht deelnemers'!I225,Parameters!$E$4:$G$49,3,FALSE),2)))","v":""},{"$f":"IF(G225=\"\",\"\",IF(YEAR(Informatie!$C$1)=2015,ROUND(T225*Parameters!$C$20,2),ROUND(G225*Parameters!$J$44,2)))","v":""},"",{"$f":"IF(G225=\"\",\"\",ROUND(G225*Parameters!C$17,2))","v":""},{"$f":"IF(G225=\"\",\"\",ROUND(G225*VLOOKUP(J225,Parameters!E$4:G$49,3),2))","v":""},{"$f":"IF(G225=\"\",\"\",ROUND(G225*Parameters!J$83,2))","v":""},""]
[null,null,null,null,0,{"$f":"IF(C226=\"\",0,IF(C226<=Parameters!$C$3,C226,Parameters!$C$3))","v":0},{"$f":"IF(C226=\"\",\"\",IF(F226<Parameters!$C$4,\"\",(F226-Parameters!$C$4)*D226))","v":""},null,{"$f":"IF(H226=\"\",\"\",YEAR(+Informatie!$C$1)-YEAR(H226))","v":""},"",{"$f":"IF(G226=\"\",\"\",ROUND(G226*Parameters!$C$12,2))","v":""},{"$f":"IF(G226=\"\",\"\",IF(YEAR(Informatie!$C$1)=2015,ROUND(G226*Parameters!$J$27,2),ROUND(G226*VLOOKUP('Overzicht deelnemers'!I226,Parameters!$E$4:$G$49,2,FALSE),2)))","v":""},{"$f":"IF(G226=\"\",\"\",IF(YEAR(Informatie!$C$1)=2015,ROUND(L226*Parameters!$C$20,2),G226*Parameters!$J$27))","v":""},"",{"$f":"IF(G226=\"\",\"\",ROUND(G226*Parameters!$C$16,2))","v":""},{"$f":"IF(G226=\"\",\"\",ROUND(G226*VLOOKUP(J226,Parameters!$E$3:$F$49,2,FALSE),2))","v":""},{"$f":"IF(G226=\"\",\"\",ROUND(G226*Parameters!$J$66,2))","v":""},"",{"$f":"IF(G226=\"\",\"\",ROUND(G226*Parameters!$C$13,2))","v":""},{"$f":"IF(G226=\"\",\"\",IF(YEAR(Informatie!$C$1)=2015,ROUND(G226*Parameters!J$44,2),ROUND(G226*VLOOKUP('Overzicht deelnemers'!I226,Parameters!$E$4:$G$49,3,FALSE),2)))","v":""},{"$f":"IF(G226=\"\",\"\",IF(YEAR(Informatie!$C$1)=2015,ROUND(T226*Parameters!$C$20,2),ROUND(G226*Parameters!$J$44,2)))","v":""},"",{"$f":"IF(G226=\"\",\"\",ROUND(G226*Parameters!C$17,2))","v":""},{"$f":"IF(G226=\"\",\"\",ROUND(G226*VLOOKUP(J226,Parameters!E$4:G$49,3),2))","v":""},{"$f":"IF(G226=\"\",\"\",ROUND(G226*Parameters!J$83,2))","v":""},""]
[null,null,null,null,0,{"$f":"IF(C227=\"\",0,IF(C227<=Parameters!$C$3,C227,Parameters!$C$3))","v":0},{"$f":"IF(C227=\"\",\"\",IF(F227<Parameters!$C$4,\"\",(F227-Parameters!$C$4)*D227))","v":""},null,{"$f":"IF(H227=\"\",\"\",YEAR(+Informatie!$C$1)-YEAR(H227))","v":""},"",{"$f":"IF(G227=\"\",\"\",ROUND(G227*Parameters!$C$12,2))","v":""},{"$f":"IF(G227=\"\",\"\",IF(YEAR(Informatie!$C$1)=2015,ROUND(G227*Parameters!$J$27,2),ROUND(G227*VLOOKUP('Overzicht deelnemers'!I227,Parameters!$E$4:$G$49,2,FALSE),2)))","v":""},{"$f":"IF(G227=\"\",\"\",IF(YEAR(Informatie!$C$1)=2015,ROUND(L227*Parameters!$C$20,2),G227*Parameters!$J$27))","v":""},"",{"$f":"IF(G227=\"\",\"\",ROUND(G227*Parameters!$C$16,2))","v":""},{"$f":"IF(G227=\"\",\"\",ROUND(G227*VLOOKUP(J227,Parameters!$E$3:$F$49,2,FALSE),2))","v":""},{"$f":"IF(G227=\"\",\"\",ROUND(G227*Parameters!$J$66,2))","v":""},"",{"$f":"IF(G227=\"\",\"\",ROUND(G227*Parameters!$C$13,2))","v":""},{"$f":"IF(G227=\"\",\"\",IF(YEAR(Informatie!$C$1)=2015,ROUND(G227*Parameters!J$44,2),ROUND(G227*VLOOKUP('Overzicht deelnemers'!I227,Parameters!$E$4:$G$49,3,FALSE),2)))","v":""},{"$f":"IF(G227=\"\",\"\",IF(YEAR(Informatie!$C$1)=2015,ROUND(T227*Parameters!$C$20,2),ROUND(G227*Parameters!$J$44,2)))","v":""},"",{"$f":"IF(G227=\"\",\"\",ROUND(G227*Parameters!C$17,2))","v":""},{"$f":"IF(G227=\"\",\"\",ROUND(G227*VLOOKUP(J227,Parameters!E$4:G$49,3),2))","v":""},{"$f":"IF(G227=\"\",\"\",ROUND(G227*Parameters!J$83,2))","v":""},""]
[null,null,null,null,0,{"$f":"IF(C228=\"\",0,IF(C228<=Parameters!$C$3,C228,Parameters!$C$3))","v":0},{"$f":"IF(C228=\"\",\"\",IF(F228<Parameters!$C$4,\"\",(F228-Parameters!$C$4)*D228))","v":""},null,{"$f":"IF(H228=\"\",\"\",YEAR(+Informatie!$C$1)-YEAR(H228))","v":""},"",{"$f":"IF(G228=\"\",\"\",ROUND(G228*Parameters!$C$12,2))","v":""},{"$f":"IF(G228=\"\",\"\",IF(YEAR(Informatie!$C$1)=2015,ROUND(G228*Parameters!$J$27,2),ROUND(G228*VLOOKUP('Overzicht deelnemers'!I228,Parameters!$E$4:$G$49,2,FALSE),2)))","v":""},{"$f":"IF(G228=\"\",\"\",IF(YEAR(Informatie!$C$1)=2015,ROUND(L228*Parameters!$C$20,2),G228*Parameters!$J$27))","v":""},"",{"$f":"IF(G228=\"\",\"\",ROUND(G228*Parameters!$C$16,2))","v":""},{"$f":"IF(G228=\"\",\"\",ROUND(G228*VLOOKUP(J228,Parameters!$E$3:$F$49,2,FALSE),2))","v":""},{"$f":"IF(G228=\"\",\"\",ROUND(G228*Parameters!$J$66,2))","v":""},"",{"$f":"IF(G228=\"\",\"\",ROUND(G228*Parameters!$C$13,2))","v":""},{"$f":"IF(G228=\"\",\"\",IF(YEAR(Informatie!$C$1)=2015,ROUND(G228*Parameters!J$44,2),ROUND(G228*VLOOKUP('Overzicht deelnemers'!I228,Parameters!$E$4:$G$49,3,FALSE),2)))","v":""},{"$f":"IF(G228=\"\",\"\",IF(YEAR(Informatie!$C$1)=2015,ROUND(T228*Parameters!$C$20,2),ROUND(G228*Parameters!$J$44,2)))","v":""},"",{"$f":"IF(G228=\"\",\"\",ROUND(G228*Parameters!C$17,2))","v":""},{"$f":"IF(G228=\"\",\"\",ROUND(G228*VLOOKUP(J228,Parameters!E$4:G$49,3),2))","v":""},{"$f":"IF(G228=\"\",\"\",ROUND(G228*Parameters!J$83,2))","v":""},""]
[null,null,null,null,0,{"$f":"IF(C229=\"\",0,IF(C229<=Parameters!$C$3,C229,Parameters!$C$3))","v":0},{"$f":"IF(C229=\"\",\"\",IF(F229<Parameters!$C$4,\"\",(F229-Parameters!$C$4)*D229))","v":""},null,{"$f":"IF(H229=\"\",\"\",YEAR(+Informatie!$C$1)-YEAR(H229))","v":""},"",{"$f":"IF(G229=\"\",\"\",ROUND(G229*Parameters!$C$12,2))","v":""},{"$f":"IF(G229=\"\",\"\",IF(YEAR(Informatie!$C$1)=2015,ROUND(G229*Parameters!$J$27,2),ROUND(G229*VLOOKUP('Overzicht deelnemers'!I229,Parameters!$E$4:$G$49,2,FALSE),2)))","v":""},{"$f":"IF(G229=\"\",\"\",IF(YEAR(Informatie!$C$1)=2015,ROUND(L229*Parameters!$C$20,2),G229*Parameters!$J$27))","v":""},"",{"$f":"IF(G229=\"\",\"\",ROUND(G229*Parameters!$C$16,2))","v":""},{"$f":"IF(G229=\"\",\"\",ROUND(G229*VLOOKUP(J229,Parameters!$E$3:$F$49,2,FALSE),2))","v":""},{"$f":"IF(G229=\"\",\"\",ROUND(G229*Parameters!$J$66,2))","v":""},"",{"$f":"IF(G229=\"\",\"\",ROUND(G229*Parameters!$C$13,2))","v":""},{"$f":"IF(G229=\"\",\"\",IF(YEAR(Informatie!$C$1)=2015,ROUND(G229*Parameters!J$44,2),ROUND(G229*VLOOKUP('Overzicht deelnemers'!I229,Parameters!$E$4:$G$49,3,FALSE),2)))","v":""},{"$f":"IF(G229=\"\",\"\",IF(YEAR(Informatie!$C$1)=2015,ROUND(T229*Parameters!$C$20,2),ROUND(G229*Parameters!$J$44,2)))","v":""},"",{"$f":"IF(G229=\"\",\"\",ROUND(G229*Parameters!C$17,2))","v":""},{"$f":"IF(G229=\"\",\"\",ROUND(G229*VLOOKUP(J229,Parameters!E$4:G$49,3),2))","v":""},{"$f":"IF(G229=\"\",\"\",ROUND(G229*Parameters!J$83,2))","v":""},""]
[null,null,null,null,0,{"$f":"IF(C230=\"\",0,IF(C230<=Parameters!$C$3,C230,Parameters!$C$3))","v":0},{"$f":"IF(C230=\"\",\"\",IF(F230<Parameters!$C$4,\"\",(F230-Parameters!$C$4)*D230))","v":""},null,{"$f":"IF(H230=\"\",\"\",YEAR(+Informatie!$C$1)-YEAR(H230))","v":""},"",{"$f":"IF(G230=\"\",\"\",ROUND(G230*Parameters!$C$12,2))","v":""},{"$f":"IF(G230=\"\",\"\",IF(YEAR(Informatie!$C$1)=2015,ROUND(G230*Parameters!$J$27,2),ROUND(G230*VLOOKUP('Overzicht deelnemers'!I230,Parameters!$E$4:$G$49,2,FALSE),2)))","v":""},{"$f":"IF(G230=\"\",\"\",IF(YEAR(Informatie!$C$1)=2015,ROUND(L230*Parameters!$C$20,2),G230*Parameters!$J$27))","v":""},"",{"$f":"IF(G230=\"\",\"\",ROUND(G230*Parameters!$C$16,2))","v":""},{"$f":"IF(G230=\"\",\"\",ROUND(G230*VLOOKUP(J230,Parameters!$E$3:$F$49,2,FALSE),2))","v":""},{"$f":"IF(G230=\"\",\"\",ROUND(G230*Parameters!$J$66,2))","v":""},"",{"$f":"IF(G230=\"\",\"\",ROUND(G230*Parameters!$C$13,2))","v":""},{"$f":"IF(G230=\"\",\"\",IF(YEAR(Informatie!$C$1)=2015,ROUND(G230*Parameters!J$44,2),ROUND(G230*VLOOKUP('Overzicht deelnemers'!I230,Parameters!$E$4:$G$49,3,FALSE),2)))","v":""},{"$f":"IF(G230=\"\",\"\",IF(YEAR(Informatie!$C$1)=2015,ROUND(T230*Parameters!$C$20,2),ROUND(G230*Parameters!$J$44,2)))","v":""},"",{"$f":"IF(G230=\"\",\"\",ROUND(G230*Parameters!C$17,2))","v":""},{"$f":"IF(G230=\"\",\"\",ROUND(G230*VLOOKUP(J230,Parameters!E$4:G$49,3),2))","v":""},{"$f":"IF(G230=\"\",\"\",ROUND(G230*Parameters!J$83,2))","v":""},""]
[null,null,null,null,0,{"$f":"IF(C231=\"\",0,IF(C231<=Parameters!$C$3,C231,Parameters!$C$3))","v":0},{"$f":"IF(C231=\"\",\"\",IF(F231<Parameters!$C$4,\"\",(F231-Parameters!$C$4)*D231))","v":""},null,{"$f":"IF(H231=\"\",\"\",YEAR(+Informatie!$C$1)-YEAR(H231))","v":""},"",{"$f":"IF(G231=\"\",\"\",ROUND(G231*Parameters!$C$12,2))","v":""},{"$f":"IF(G231=\"\",\"\",IF(YEAR(Informatie!$C$1)=2015,ROUND(G231*Parameters!$J$27,2),ROUND(G231*VLOOKUP('Overzicht deelnemers'!I231,Parameters!$E$4:$G$49,2,FALSE),2)))","v":""},{"$f":"IF(G231=\"\",\"\",IF(YEAR(Informatie!$C$1)=2015,ROUND(L231*Parameters!$C$20,2),G231*Parameters!$J$27))","v":""},"",{"$f":"IF(G231=\"\",\"\",ROUND(G231*Parameters!$C$16,2))","v":""},{"$f":"IF(G231=\"\",\"\",ROUND(G231*VLOOKUP(J231,Parameters!$E$3:$F$49,2,FALSE),2))","v":""},{"$f":"IF(G231=\"\",\"\",ROUND(G231*Parameters!$J$66,2))","v":""},"",{"$f":"IF(G231=\"\",\"\",ROUND(G231*Parameters!$C$13,2))","v":""},{"$f":"IF(G231=\"\",\"\",IF(YEAR(Informatie!$C$1)=2015,ROUND(G231*Parameters!J$44,2),ROUND(G231*VLOOKUP('Overzicht deelnemers'!I231,Parameters!$E$4:$G$49,3,FALSE),2)))","v":""},{"$f":"IF(G231=\"\",\"\",IF(YEAR(Informatie!$C$1)=2015,ROUND(T231*Parameters!$C$20,2),ROUND(G231*Parameters!$J$44,2)))","v":""},"",{"$f":"IF(G231=\"\",\"\",ROUND(G231*Parameters!C$17,2))","v":""},{"$f":"IF(G231=\"\",\"\",ROUND(G231*VLOOKUP(J231,Parameters!E$4:G$49,3),2))","v":""},{"$f":"IF(G231=\"\",\"\",ROUND(G231*Parameters!J$83,2))","v":""},""]
[null,null,null,null,0,{"$f":"IF(C232=\"\",0,IF(C232<=Parameters!$C$3,C232,Parameters!$C$3))","v":0},{"$f":"IF(C232=\"\",\"\",IF(F232<Parameters!$C$4,\"\",(F232-Parameters!$C$4)*D232))","v":""},null,{"$f":"IF(H232=\"\",\"\",YEAR(+Informatie!$C$1)-YEAR(H232))","v":""},"",{"$f":"IF(G232=\"\",\"\",ROUND(G232*Parameters!$C$12,2))","v":""},{"$f":"IF(G232=\"\",\"\",IF(YEAR(Informatie!$C$1)=2015,ROUND(G232*Parameters!$J$27,2),ROUND(G232*VLOOKUP('Overzicht deelnemers'!I232,Parameters!$E$4:$G$49,2,FALSE),2)))","v":""},{"$f":"IF(G232=\"\",\"\",IF(YEAR(Informatie!$C$1)=2015,ROUND(L232*Parameters!$C$20,2),G232*Parameters!$J$27))","v":""},"",{"$f":"IF(G232=\"\",\"\",ROUND(G232*Parameters!$C$16,2))","v":""},{"$f":"IF(G232=\"\",\"\",ROUND(G232*VLOOKUP(J232,Parameters!$E$3:$F$49,2,FALSE),2))","v":""},{"$f":"IF(G232=\"\",\"\",ROUND(G232*Parameters!$J$66,2))","v":""},"",{"$f":"IF(G232=\"\",\"\",ROUND(G232*Parameters!$C$13,2))","v":""},{"$f":"IF(G232=\"\",\"\",IF(YEAR(Informatie!$C$1)=2015,ROUND(G232*Parameters!J$44,2),ROUND(G232*VLOOKUP('Overzicht deelnemers'!I232,Parameters!$E$4:$G$49,3,FALSE),2)))","v":""},{"$f":"IF(G232=\"\",\"\",IF(YEAR(Informatie!$C$1)=2015,ROUND(T232*Parameters!$C$20,2),ROUND(G232*Parameters!$J$44,2)))","v":""},"",{"$f":"IF(G232=\"\",\"\",ROUND(G232*Parameters!C$17,2))","v":""},{"$f":"IF(G232=\"\",\"\",ROUND(G232*VLOOKUP(J232,Parameters!E$4:G$49,3),2))","v":""},{"$f":"IF(G232=\"\",\"\",ROUND(G232*Parameters!J$83,2))","v":""},""]
[null,null,null,null,0,{"$f":"IF(C233=\"\",0,IF(C233<=Parameters!$C$3,C233,Parameters!$C$3))","v":0},{"$f":"IF(C233=\"\",\"\",IF(F233<Parameters!$C$4,\"\",(F233-Parameters!$C$4)*D233))","v":""},null,{"$f":"IF(H233=\"\",\"\",YEAR(+Informatie!$C$1)-YEAR(H233))","v":""},"",{"$f":"IF(G233=\"\",\"\",ROUND(G233*Parameters!$C$12,2))","v":""},{"$f":"IF(G233=\"\",\"\",IF(YEAR(Informatie!$C$1)=2015,ROUND(G233*Parameters!$J$27,2),ROUND(G233*VLOOKUP('Overzicht deelnemers'!I233,Parameters!$E$4:$G$49,2,FALSE),2)))","v":""},{"$f":"IF(G233=\"\",\"\",IF(YEAR(Informatie!$C$1)=2015,ROUND(L233*Parameters!$C$20,2),G233*Parameters!$J$27))","v":""},"",{"$f":"IF(G233=\"\",\"\",ROUND(G233*Parameters!$C$16,2))","v":""},{"$f":"IF(G233=\"\",\"\",ROUND(G233*VLOOKUP(J233,Parameters!$E$3:$F$49,2,FALSE),2))","v":""},{"$f":"IF(G233=\"\",\"\",ROUND(G233*Parameters!$J$66,2))","v":""},"",{"$f":"IF(G233=\"\",\"\",ROUND(G233*Parameters!$C$13,2))","v":""},{"$f":"IF(G233=\"\",\"\",IF(YEAR(Informatie!$C$1)=2015,ROUND(G233*Parameters!J$44,2),ROUND(G233*VLOOKUP('Overzicht deelnemers'!I233,Parameters!$E$4:$G$49,3,FALSE),2)))","v":""},{"$f":"IF(G233=\"\",\"\",IF(YEAR(Informatie!$C$1)=2015,ROUND(T233*Parameters!$C$20,2),ROUND(G233*Parameters!$J$44,2)))","v":""},"",{"$f":"IF(G233=\"\",\"\",ROUND(G233*Parameters!C$17,2))","v":""},{"$f":"IF(G233=\"\",\"\",ROUND(G233*VLOOKUP(J233,Parameters!E$4:G$49,3),2))","v":""},{"$f":"IF(G233=\"\",\"\",ROUND(G233*Parameters!J$83,2))","v":""},""]
[null,null,null,null,0,{"$f":"IF(C234=\"\",0,IF(C234<=Parameters!$C$3,C234,Parameters!$C$3))","v":0},{"$f":"IF(C234=\"\",\"\",IF(F234<Parameters!$C$4,\"\",(F234-Parameters!$C$4)*D234))","v":""},null,{"$f":"IF(H234=\"\",\"\",YEAR(+Informatie!$C$1)-YEAR(H234))","v":""},"",{"$f":"IF(G234=\"\",\"\",ROUND(G234*Parameters!$C$12,2))","v":""},{"$f":"IF(G234=\"\",\"\",IF(YEAR(Informatie!$C$1)=2015,ROUND(G234*Parameters!$J$27,2),ROUND(G234*VLOOKUP('Overzicht deelnemers'!I234,Parameters!$E$4:$G$49,2,FALSE),2)))","v":""},{"$f":"IF(G234=\"\",\"\",IF(YEAR(Informatie!$C$1)=2015,ROUND(L234*Parameters!$C$20,2),G234*Parameters!$J$27))","v":""},"",{"$f":"IF(G234=\"\",\"\",ROUND(G234*Parameters!$C$16,2))","v":""},{"$f":"IF(G234=\"\",\"\",ROUND(G234*VLOOKUP(J234,Parameters!$E$3:$F$49,2,FALSE),2))","v":""},{"$f":"IF(G234=\"\",\"\",ROUND(G234*Parameters!$J$66,2))","v":""},"",{"$f":"IF(G234=\"\",\"\",ROUND(G234*Parameters!$C$13,2))","v":""},{"$f":"IF(G234=\"\",\"\",IF(YEAR(Informatie!$C$1)=2015,ROUND(G234*Parameters!J$44,2),ROUND(G234*VLOOKUP('Overzicht deelnemers'!I234,Parameters!$E$4:$G$49,3,FALSE),2)))","v":""},{"$f":"IF(G234=\"\",\"\",IF(YEAR(Informatie!$C$1)=2015,ROUND(T234*Parameters!$C$20,2),ROUND(G234*Parameters!$J$44,2)))","v":""},"",{"$f":"IF(G234=\"\",\"\",ROUND(G234*Parameters!C$17,2))","v":""},{"$f":"IF(G234=\"\",\"\",ROUND(G234*VLOOKUP(J234,Parameters!E$4:G$49,3),2))","v":""},{"$f":"IF(G234=\"\",\"\",ROUND(G234*Parameters!J$83,2))","v":""},""]
[null,null,null,null,0,{"$f":"IF(C235=\"\",0,IF(C235<=Parameters!$C$3,C235,Parameters!$C$3))","v":0},{"$f":"IF(C235=\"\",\"\",IF(F235<Parameters!$C$4,\"\",(F235-Parameters!$C$4)*D235))","v":""},null,{"$f":"IF(H235=\"\",\"\",YEAR(+Informatie!$C$1)-YEAR(H235))","v":""},"",{"$f":"IF(G235=\"\",\"\",ROUND(G235*Parameters!$C$12,2))","v":""},{"$f":"IF(G235=\"\",\"\",IF(YEAR(Informatie!$C$1)=2015,ROUND(G235*Parameters!$J$27,2),ROUND(G235*VLOOKUP('Overzicht deelnemers'!I235,Parameters!$E$4:$G$49,2,FALSE),2)))","v":""},{"$f":"IF(G235=\"\",\"\",IF(YEAR(Informatie!$C$1)=2015,ROUND(L235*Parameters!$C$20,2),G235*Parameters!$J$27))","v":""},"",{"$f":"IF(G235=\"\",\"\",ROUND(G235*Parameters!$C$16,2))","v":""},{"$f":"IF(G235=\"\",\"\",ROUND(G235*VLOOKUP(J235,Parameters!$E$3:$F$49,2,FALSE),2))","v":""},{"$f":"IF(G235=\"\",\"\",ROUND(G235*Parameters!$J$66,2))","v":""},"",{"$f":"IF(G235=\"\",\"\",ROUND(G235*Parameters!$C$13,2))","v":""},{"$f":"IF(G235=\"\",\"\",IF(YEAR(Informatie!$C$1)=2015,ROUND(G235*Parameters!J$44,2),ROUND(G235*VLOOKUP('Overzicht deelnemers'!I235,Parameters!$E$4:$G$49,3,FALSE),2)))","v":""},{"$f":"IF(G235=\"\",\"\",IF(YEAR(Informatie!$C$1)=2015,ROUND(T235*Parameters!$C$20,2),ROUND(G235*Parameters!$J$44,2)))","v":""},"",{"$f":"IF(G235=\"\",\"\",ROUND(G235*Parameters!C$17,2))","v":""},{"$f":"IF(G235=\"\",\"\",ROUND(G235*VLOOKUP(J235,Parameters!E$4:G$49,3),2))","v":""},{"$f":"IF(G235=\"\",\"\",ROUND(G235*Parameters!J$83,2))","v":""},""]
[null,null,null,null,0,{"$f":"IF(C236=\"\",0,IF(C236<=Parameters!$C$3,C236,Parameters!$C$3))","v":0},{"$f":"IF(C236=\"\",\"\",IF(F236<Parameters!$C$4,\"\",(F236-Parameters!$C$4)*D236))","v":""},null,{"$f":"IF(H236=\"\",\"\",YEAR(+Informatie!$C$1)-YEAR(H236))","v":""},"",{"$f":"IF(G236=\"\",\"\",ROUND(G236*Parameters!$C$12,2))","v":""},{"$f":"IF(G236=\"\",\"\",IF(YEAR(Informatie!$C$1)=2015,ROUND(G236*Parameters!$J$27,2),ROUND(G236*VLOOKUP('Overzicht deelnemers'!I236,Parameters!$E$4:$G$49,2,FALSE),2)))","v":""},{"$f":"IF(G236=\"\",\"\",IF(YEAR(Informatie!$C$1)=2015,ROUND(L236*Parameters!$C$20,2),G236*Parameters!$J$27))","v":""},"",{"$f":"IF(G236=\"\",\"\",ROUND(G236*Parameters!$C$16,2))","v":""},{"$f":"IF(G236=\"\",\"\",ROUND(G236*VLOOKUP(J236,Parameters!$E$3:$F$49,2,FALSE),2))","v":""},{"$f":"IF(G236=\"\",\"\",ROUND(G236*Parameters!$J$66,2))","v":""},"",{"$f":"IF(G236=\"\",\"\",ROUND(G236*Parameters!$C$13,2))","v":""},{"$f":"IF(G236=\"\",\"\",IF(YEAR(Informatie!$C$1)=2015,ROUND(G236*Parameters!J$44,2),ROUND(G236*VLOOKUP('Overzicht deelnemers'!I236,Parameters!$E$4:$G$49,3,FALSE),2)))","v":""},{"$f":"IF(G236=\"\",\"\",IF(YEAR(Informatie!$C$1)=2015,ROUND(T236*Parameters!$C$20,2),ROUND(G236*Parameters!$J$44,2)))","v":""},"",{"$f":"IF(G236=\"\",\"\",ROUND(G236*Parameters!C$17,2))","v":""},{"$f":"IF(G236=\"\",\"\",ROUND(G236*VLOOKUP(J236,Parameters!E$4:G$49,3),2))","v":""},{"$f":"IF(G236=\"\",\"\",ROUND(G236*Parameters!J$83,2))","v":""},""]
[null,null,null,null,0,{"$f":"IF(C237=\"\",0,IF(C237<=Parameters!$C$3,C237,Parameters!$C$3))","v":0},{"$f":"IF(C237=\"\",\"\",IF(F237<Parameters!$C$4,\"\",(F237-Parameters!$C$4)*D237))","v":""},null,{"$f":"IF(H237=\"\",\"\",YEAR(+Informatie!$C$1)-YEAR(H237))","v":""},"",{"$f":"IF(G237=\"\",\"\",ROUND(G237*Parameters!$C$12,2))","v":""},{"$f":"IF(G237=\"\",\"\",IF(YEAR(Informatie!$C$1)=2015,ROUND(G237*Parameters!$J$27,2),ROUND(G237*VLOOKUP('Overzicht deelnemers'!I237,Parameters!$E$4:$G$49,2,FALSE),2)))","v":""},{"$f":"IF(G237=\"\",\"\",IF(YEAR(Informatie!$C$1)=2015,ROUND(L237*Parameters!$C$20,2),G237*Parameters!$J$27))","v":""},"",{"$f":"IF(G237=\"\",\"\",ROUND(G237*Parameters!$C$16,2))","v":""},{"$f":"IF(G237=\"\",\"\",ROUND(G237*VLOOKUP(J237,Parameters!$E$3:$F$49,2,FALSE),2))","v":""},{"$f":"IF(G237=\"\",\"\",ROUND(G237*Parameters!$J$66,2))","v":""},"",{"$f":"IF(G237=\"\",\"\",ROUND(G237*Parameters!$C$13,2))","v":""},{"$f":"IF(G237=\"\",\"\",IF(YEAR(Informatie!$C$1)=2015,ROUND(G237*Parameters!J$44,2),ROUND(G237*VLOOKUP('Overzicht deelnemers'!I237,Parameters!$E$4:$G$49,3,FALSE),2)))","v":""},{"$f":"IF(G237=\"\",\"\",IF(YEAR(Informatie!$C$1)=2015,ROUND(T237*Parameters!$C$20,2),ROUND(G237*Parameters!$J$44,2)))","v":""},"",{"$f":"IF(G237=\"\",\"\",ROUND(G237*Parameters!C$17,2))","v":""},{"$f":"IF(G237=\"\",\"\",ROUND(G237*VLOOKUP(J237,Parameters!E$4:G$49,3),2))","v":""},{"$f":"IF(G237=\"\",\"\",ROUND(G237*Parameters!J$83,2))","v":""},""]
[null,null,null,null,0,{"$f":"IF(C238=\"\",0,IF(C238<=Parameters!$C$3,C238,Parameters!$C$3))","v":0},{"$f":"IF(C238=\"\",\"\",IF(F238<Parameters!$C$4,\"\",(F238-Parameters!$C$4)*D238))","v":""},null,{"$f":"IF(H238=\"\",\"\",YEAR(+Informatie!$C$1)-YEAR(H238))","v":""},"",{"$f":"IF(G238=\"\",\"\",ROUND(G238*Parameters!$C$12,2))","v":""},{"$f":"IF(G238=\"\",\"\",IF(YEAR(Informatie!$C$1)=2015,ROUND(G238*Parameters!$J$27,2),ROUND(G238*VLOOKUP('Overzicht deelnemers'!I238,Parameters!$E$4:$G$49,2,FALSE),2)))","v":""},{"$f":"IF(G238=\"\",\"\",IF(YEAR(Informatie!$C$1)=2015,ROUND(L238*Parameters!$C$20,2),G238*Parameters!$J$27))","v":""},"",{"$f":"IF(G238=\"\",\"\",ROUND(G238*Parameters!$C$16,2))","v":""},{"$f":"IF(G238=\"\",\"\",ROUND(G238*VLOOKUP(J238,Parameters!$E$3:$F$49,2,FALSE),2))","v":""},{"$f":"IF(G238=\"\",\"\",ROUND(G238*Parameters!$J$66,2))","v":""},"",{"$f":"IF(G238=\"\",\"\",ROUND(G238*Parameters!$C$13,2))","v":""},{"$f":"IF(G238=\"\",\"\",IF(YEAR(Informatie!$C$1)=2015,ROUND(G238*Parameters!J$44,2),ROUND(G238*VLOOKUP('Overzicht deelnemers'!I238,Parameters!$E$4:$G$49,3,FALSE),2)))","v":""},{"$f":"IF(G238=\"\",\"\",IF(YEAR(Informatie!$C$1)=2015,ROUND(T238*Parameters!$C$20,2),ROUND(G238*Parameters!$J$44,2)))","v":""},"",{"$f":"IF(G238=\"\",\"\",ROUND(G238*Parameters!C$17,2))","v":""},{"$f":"IF(G238=\"\",\"\",ROUND(G238*VLOOKUP(J238,Parameters!E$4:G$49,3),2))","v":""},{"$f":"IF(G238=\"\",\"\",ROUND(G238*Parameters!J$83,2))","v":""},""]
[null,null,null,null,0,{"$f":"IF(C239=\"\",0,IF(C239<=Parameters!$C$3,C239,Parameters!$C$3))","v":0},{"$f":"IF(C239=\"\",\"\",IF(F239<Parameters!$C$4,\"\",(F239-Parameters!$C$4)*D239))","v":""},null,{"$f":"IF(H239=\"\",\"\",YEAR(+Informatie!$C$1)-YEAR(H239))","v":""},"",{"$f":"IF(G239=\"\",\"\",ROUND(G239*Parameters!$C$12,2))","v":""},{"$f":"IF(G239=\"\",\"\",IF(YEAR(Informatie!$C$1)=2015,ROUND(G239*Parameters!$J$27,2),ROUND(G239*VLOOKUP('Overzicht deelnemers'!I239,Parameters!$E$4:$G$49,2,FALSE),2)))","v":""},{"$f":"IF(G239=\"\",\"\",IF(YEAR(Informatie!$C$1)=2015,ROUND(L239*Parameters!$C$20,2),G239*Parameters!$J$27))","v":""},"",{"$f":"IF(G239=\"\",\"\",ROUND(G239*Parameters!$C$16,2))","v":""},{"$f":"IF(G239=\"\",\"\",ROUND(G239*VLOOKUP(J239,Parameters!$E$3:$F$49,2,FALSE),2))","v":""},{"$f":"IF(G239=\"\",\"\",ROUND(G239*Parameters!$J$66,2))","v":""},"",{"$f":"IF(G239=\"\",\"\",ROUND(G239*Parameters!$C$13,2))","v":""},{"$f":"IF(G239=\"\",\"\",IF(YEAR(Informatie!$C$1)=2015,ROUND(G239*Parameters!J$44,2),ROUND(G239*VLOOKUP('Overzicht deelnemers'!I239,Parameters!$E$4:$G$49,3,FALSE),2)))","v":""},{"$f":"IF(G239=\"\",\"\",IF(YEAR(Informatie!$C$1)=2015,ROUND(T239*Parameters!$C$20,2),ROUND(G239*Parameters!$J$44,2)))","v":""},"",{"$f":"IF(G239=\"\",\"\",ROUND(G239*Parameters!C$17,2))","v":""},{"$f":"IF(G239=\"\",\"\",ROUND(G239*VLOOKUP(J239,Parameters!E$4:G$49,3),2))","v":""},{"$f":"IF(G239=\"\",\"\",ROUND(G239*Parameters!J$83,2))","v":""},""]
[null,null,null,null,0,{"$f":"IF(C240=\"\",0,IF(C240<=Parameters!$C$3,C240,Parameters!$C$3))","v":0},{"$f":"IF(C240=\"\",\"\",IF(F240<Parameters!$C$4,\"\",(F240-Parameters!$C$4)*D240))","v":""},null,{"$f":"IF(H240=\"\",\"\",YEAR(+Informatie!$C$1)-YEAR(H240))","v":""},"",{"$f":"IF(G240=\"\",\"\",ROUND(G240*Parameters!$C$12,2))","v":""},{"$f":"IF(G240=\"\",\"\",IF(YEAR(Informatie!$C$1)=2015,ROUND(G240*Parameters!$J$27,2),ROUND(G240*VLOOKUP('Overzicht deelnemers'!I240,Parameters!$E$4:$G$49,2,FALSE),2)))","v":""},{"$f":"IF(G240=\"\",\"\",IF(YEAR(Informatie!$C$1)=2015,ROUND(L240*Parameters!$C$20,2),G240*Parameters!$J$27))","v":""},"",{"$f":"IF(G240=\"\",\"\",ROUND(G240*Parameters!$C$16,2))","v":""},{"$f":"IF(G240=\"\",\"\",ROUND(G240*VLOOKUP(J240,Parameters!$E$3:$F$49,2,FALSE),2))","v":""},{"$f":"IF(G240=\"\",\"\",ROUND(G240*Parameters!$J$66,2))","v":""},"",{"$f":"IF(G240=\"\",\"\",ROUND(G240*Parameters!$C$13,2))","v":""},{"$f":"IF(G240=\"\",\"\",IF(YEAR(Informatie!$C$1)=2015,ROUND(G240*Parameters!J$44,2),ROUND(G240*VLOOKUP('Overzicht deelnemers'!I240,Parameters!$E$4:$G$49,3,FALSE),2)))","v":""},{"$f":"IF(G240=\"\",\"\",IF(YEAR(Informatie!$C$1)=2015,ROUND(T240*Parameters!$C$20,2),ROUND(G240*Parameters!$J$44,2)))","v":""},"",{"$f":"IF(G240=\"\",\"\",ROUND(G240*Parameters!C$17,2))","v":""},{"$f":"IF(G240=\"\",\"\",ROUND(G240*VLOOKUP(J240,Parameters!E$4:G$49,3),2))","v":""},{"$f":"IF(G240=\"\",\"\",ROUND(G240*Parameters!J$83,2))","v":""},""]
[null,null,null,null,0,{"$f":"IF(C241=\"\",0,IF(C241<=Parameters!$C$3,C241,Parameters!$C$3))","v":0},{"$f":"IF(C241=\"\",\"\",IF(F241<Parameters!$C$4,\"\",(F241-Parameters!$C$4)*D241))","v":""},null,{"$f":"IF(H241=\"\",\"\",YEAR(+Informatie!$C$1)-YEAR(H241))","v":""},"",{"$f":"IF(G241=\"\",\"\",ROUND(G241*Parameters!$C$12,2))","v":""},{"$f":"IF(G241=\"\",\"\",IF(YEAR(Informatie!$C$1)=2015,ROUND(G241*Parameters!$J$27,2),ROUND(G241*VLOOKUP('Overzicht deelnemers'!I241,Parameters!$E$4:$G$49,2,FALSE),2)))","v":""},{"$f":"IF(G241=\"\",\"\",IF(YEAR(Informatie!$C$1)=2015,ROUND(L241*Parameters!$C$20,2),G241*Parameters!$J$27))","v":""},"",{"$f":"IF(G241=\"\",\"\",ROUND(G241*Parameters!$C$16,2))","v":""},{"$f":"IF(G241=\"\",\"\",ROUND(G241*VLOOKUP(J241,Parameters!$E$3:$F$49,2,FALSE),2))","v":""},{"$f":"IF(G241=\"\",\"\",ROUND(G241*Parameters!$J$66,2))","v":""},"",{"$f":"IF(G241=\"\",\"\",ROUND(G241*Parameters!$C$13,2))","v":""},{"$f":"IF(G241=\"\",\"\",IF(YEAR(Informatie!$C$1)=2015,ROUND(G241*Parameters!J$44,2),ROUND(G241*VLOOKUP('Overzicht deelnemers'!I241,Parameters!$E$4:$G$49,3,FALSE),2)))","v":""},{"$f":"IF(G241=\"\",\"\",IF(YEAR(Informatie!$C$1)=2015,ROUND(T241*Parameters!$C$20,2),ROUND(G241*Parameters!$J$44,2)))","v":""},"",{"$f":"IF(G241=\"\",\"\",ROUND(G241*Parameters!C$17,2))","v":""},{"$f":"IF(G241=\"\",\"\",ROUND(G241*VLOOKUP(J241,Parameters!E$4:G$49,3),2))","v":""},{"$f":"IF(G241=\"\",\"\",ROUND(G241*Parameters!J$83,2))","v":""},""]
[null,null,null,null,0,{"$f":"IF(C242=\"\",0,IF(C242<=Parameters!$C$3,C242,Parameters!$C$3))","v":0},{"$f":"IF(C242=\"\",\"\",IF(F242<Parameters!$C$4,\"\",(F242-Parameters!$C$4)*D242))","v":""},null,{"$f":"IF(H242=\"\",\"\",YEAR(+Informatie!$C$1)-YEAR(H242))","v":""},"",{"$f":"IF(G242=\"\",\"\",ROUND(G242*Parameters!$C$12,2))","v":""},{"$f":"IF(G242=\"\",\"\",IF(YEAR(Informatie!$C$1)=2015,ROUND(G242*Parameters!$J$27,2),ROUND(G242*VLOOKUP('Overzicht deelnemers'!I242,Parameters!$E$4:$G$49,2,FALSE),2)))","v":""},{"$f":"IF(G242=\"\",\"\",IF(YEAR(Informatie!$C$1)=2015,ROUND(L242*Parameters!$C$20,2),G242*Parameters!$J$27))","v":""},"",{"$f":"IF(G242=\"\",\"\",ROUND(G242*Parameters!$C$16,2))","v":""},{"$f":"IF(G242=\"\",\"\",ROUND(G242*VLOOKUP(J242,Parameters!$E$3:$F$49,2,FALSE),2))","v":""},{"$f":"IF(G242=\"\",\"\",ROUND(G242*Parameters!$J$66,2))","v":""},"",{"$f":"IF(G242=\"\",\"\",ROUND(G242*Parameters!$C$13,2))","v":""},{"$f":"IF(G242=\"\",\"\",IF(YEAR(Informatie!$C$1)=2015,ROUND(G242*Parameters!J$44,2),ROUND(G242*VLOOKUP('Overzicht deelnemers'!I242,Parameters!$E$4:$G$49,3,FALSE),2)))","v":""},{"$f":"IF(G242=\"\",\"\",IF(YEAR(Informatie!$C$1)=2015,ROUND(T242*Parameters!$C$20,2),ROUND(G242*Parameters!$J$44,2)))","v":""},"",{"$f":"IF(G242=\"\",\"\",ROUND(G242*Parameters!C$17,2))","v":""},{"$f":"IF(G242=\"\",\"\",ROUND(G242*VLOOKUP(J242,Parameters!E$4:G$49,3),2))","v":""},{"$f":"IF(G242=\"\",\"\",ROUND(G242*Parameters!J$83,2))","v":""},""]
[null,null,null,null,0,{"$f":"IF(C243=\"\",0,IF(C243<=Parameters!$C$3,C243,Parameters!$C$3))","v":0},{"$f":"IF(C243=\"\",\"\",IF(F243<Parameters!$C$4,\"\",(F243-Parameters!$C$4)*D243))","v":""},null,{"$f":"IF(H243=\"\",\"\",YEAR(+Informatie!$C$1)-YEAR(H243))","v":""},"",{"$f":"IF(G243=\"\",\"\",ROUND(G243*Parameters!$C$12,2))","v":""},{"$f":"IF(G243=\"\",\"\",IF(YEAR(Informatie!$C$1)=2015,ROUND(G243*Parameters!$J$27,2),ROUND(G243*VLOOKUP('Overzicht deelnemers'!I243,Parameters!$E$4:$G$49,2,FALSE),2)))","v":""},{"$f":"IF(G243=\"\",\"\",IF(YEAR(Informatie!$C$1)=2015,ROUND(L243*Parameters!$C$20,2),G243*Parameters!$J$27))","v":""},"",{"$f":"IF(G243=\"\",\"\",ROUND(G243*Parameters!$C$16,2))","v":""},{"$f":"IF(G243=\"\",\"\",ROUND(G243*VLOOKUP(J243,Parameters!$E$3:$F$49,2,FALSE),2))","v":""},{"$f":"IF(G243=\"\",\"\",ROUND(G243*Parameters!$J$66,2))","v":""},"",{"$f":"IF(G243=\"\",\"\",ROUND(G243*Parameters!$C$13,2))","v":""},{"$f":"IF(G243=\"\",\"\",IF(YEAR(Informatie!$C$1)=2015,ROUND(G243*Parameters!J$44,2),ROUND(G243*VLOOKUP('Overzicht deelnemers'!I243,Parameters!$E$4:$G$49,3,FALSE),2)))","v":""},{"$f":"IF(G243=\"\",\"\",IF(YEAR(Informatie!$C$1)=2015,ROUND(T243*Parameters!$C$20,2),ROUND(G243*Parameters!$J$44,2)))","v":""},"",{"$f":"IF(G243=\"\",\"\",ROUND(G243*Parameters!C$17,2))","v":""},{"$f":"IF(G243=\"\",\"\",ROUND(G243*VLOOKUP(J243,Parameters!E$4:G$49,3),2))","v":""},{"$f":"IF(G243=\"\",\"\",ROUND(G243*Parameters!J$83,2))","v":""},""]
[null,null,null,null,0,{"$f":"IF(C244=\"\",0,IF(C244<=Parameters!$C$3,C244,Parameters!$C$3))","v":0},{"$f":"IF(C244=\"\",\"\",IF(F244<Parameters!$C$4,\"\",(F244-Parameters!$C$4)*D244))","v":""},null,{"$f":"IF(H244=\"\",\"\",YEAR(+Informatie!$C$1)-YEAR(H244))","v":""},"",{"$f":"IF(G244=\"\",\"\",ROUND(G244*Parameters!$C$12,2))","v":""},{"$f":"IF(G244=\"\",\"\",IF(YEAR(Informatie!$C$1)=2015,ROUND(G244*Parameters!$J$27,2),ROUND(G244*VLOOKUP('Overzicht deelnemers'!I244,Parameters!$E$4:$G$49,2,FALSE),2)))","v":""},{"$f":"IF(G244=\"\",\"\",IF(YEAR(Informatie!$C$1)=2015,ROUND(L244*Parameters!$C$20,2),G244*Parameters!$J$27))","v":""},"",{"$f":"IF(G244=\"\",\"\",ROUND(G244*Parameters!$C$16,2))","v":""},{"$f":"IF(G244=\"\",\"\",ROUND(G244*VLOOKUP(J244,Parameters!$E$3:$F$49,2,FALSE),2))","v":""},{"$f":"IF(G244=\"\",\"\",ROUND(G244*Parameters!$J$66,2))","v":""},"",{"$f":"IF(G244=\"\",\"\",ROUND(G244*Parameters!$C$13,2))","v":""},{"$f":"IF(G244=\"\",\"\",IF(YEAR(Informatie!$C$1)=2015,ROUND(G244*Parameters!J$44,2),ROUND(G244*VLOOKUP('Overzicht deelnemers'!I244,Parameters!$E$4:$G$49,3,FALSE),2)))","v":""},{"$f":"IF(G244=\"\",\"\",IF(YEAR(Informatie!$C$1)=2015,ROUND(T244*Parameters!$C$20,2),ROUND(G244*Parameters!$J$44,2)))","v":""},"",{"$f":"IF(G244=\"\",\"\",ROUND(G244*Parameters!C$17,2))","v":""},{"$f":"IF(G244=\"\",\"\",ROUND(G244*VLOOKUP(J244,Parameters!E$4:G$49,3),2))","v":""},{"$f":"IF(G244=\"\",\"\",ROUND(G244*Parameters!J$83,2))","v":""},""]
[null,null,null,null,0,{"$f":"IF(C245=\"\",0,IF(C245<=Parameters!$C$3,C245,Parameters!$C$3))","v":0},{"$f":"IF(C245=\"\",\"\",IF(F245<Parameters!$C$4,\"\",(F245-Parameters!$C$4)*D245))","v":""},null,{"$f":"IF(H245=\"\",\"\",YEAR(+Informatie!$C$1)-YEAR(H245))","v":""},"",{"$f":"IF(G245=\"\",\"\",ROUND(G245*Parameters!$C$12,2))","v":""},{"$f":"IF(G245=\"\",\"\",IF(YEAR(Informatie!$C$1)=2015,ROUND(G245*Parameters!$J$27,2),ROUND(G245*VLOOKUP('Overzicht deelnemers'!I245,Parameters!$E$4:$G$49,2,FALSE),2)))","v":""},{"$f":"IF(G245=\"\",\"\",IF(YEAR(Informatie!$C$1)=2015,ROUND(L245*Parameters!$C$20,2),G245*Parameters!$J$27))","v":""},"",{"$f":"IF(G245=\"\",\"\",ROUND(G245*Parameters!$C$16,2))","v":""},{"$f":"IF(G245=\"\",\"\",ROUND(G245*VLOOKUP(J245,Parameters!$E$3:$F$49,2,FALSE),2))","v":""},{"$f":"IF(G245=\"\",\"\",ROUND(G245*Parameters!$J$66,2))","v":""},"",{"$f":"IF(G245=\"\",\"\",ROUND(G245*Parameters!$C$13,2))","v":""},{"$f":"IF(G245=\"\",\"\",IF(YEAR(Informatie!$C$1)=2015,ROUND(G245*Parameters!J$44,2),ROUND(G245*VLOOKUP('Overzicht deelnemers'!I245,Parameters!$E$4:$G$49,3,FALSE),2)))","v":""},{"$f":"IF(G245=\"\",\"\",IF(YEAR(Informatie!$C$1)=2015,ROUND(T245*Parameters!$C$20,2),ROUND(G245*Parameters!$J$44,2)))","v":""},"",{"$f":"IF(G245=\"\",\"\",ROUND(G245*Parameters!C$17,2))","v":""},{"$f":"IF(G245=\"\",\"\",ROUND(G245*VLOOKUP(J245,Parameters!E$4:G$49,3),2))","v":""},{"$f":"IF(G245=\"\",\"\",ROUND(G245*Parameters!J$83,2))","v":""},""]
[null,null,null,null,0,{"$f":"IF(C246=\"\",0,IF(C246<=Parameters!$C$3,C246,Parameters!$C$3))","v":0},{"$f":"IF(C246=\"\",\"\",IF(F246<Parameters!$C$4,\"\",(F246-Parameters!$C$4)*D246))","v":""},null,{"$f":"IF(H246=\"\",\"\",YEAR(+Informatie!$C$1)-YEAR(H246))","v":""},"",{"$f":"IF(G246=\"\",\"\",ROUND(G246*Parameters!$C$12,2))","v":""},{"$f":"IF(G246=\"\",\"\",IF(YEAR(Informatie!$C$1)=2015,ROUND(G246*Parameters!$J$27,2),ROUND(G246*VLOOKUP('Overzicht deelnemers'!I246,Parameters!$E$4:$G$49,2,FALSE),2)))","v":""},{"$f":"IF(G246=\"\",\"\",IF(YEAR(Informatie!$C$1)=2015,ROUND(L246*Parameters!$C$20,2),G246*Parameters!$J$27))","v":""},"",{"$f":"IF(G246=\"\",\"\",ROUND(G246*Parameters!$C$16,2))","v":""},{"$f":"IF(G246=\"\",\"\",ROUND(G246*VLOOKUP(J246,Parameters!$E$3:$F$49,2,FALSE),2))","v":""},{"$f":"IF(G246=\"\",\"\",ROUND(G246*Parameters!$J$66,2))","v":""},"",{"$f":"IF(G246=\"\",\"\",ROUND(G246*Parameters!$C$13,2))","v":""},{"$f":"IF(G246=\"\",\"\",IF(YEAR(Informatie!$C$1)=2015,ROUND(G246*Parameters!J$44,2),ROUND(G246*VLOOKUP('Overzicht deelnemers'!I246,Parameters!$E$4:$G$49,3,FALSE),2)))","v":""},{"$f":"IF(G246=\"\",\"\",IF(YEAR(Informatie!$C$1)=2015,ROUND(T246*Parameters!$C$20,2),ROUND(G246*Parameters!$J$44,2)))","v":""},"",{"$f":"IF(G246=\"\",\"\",ROUND(G246*Parameters!C$17,2))","v":""},{"$f":"IF(G246=\"\",\"\",ROUND(G246*VLOOKUP(J246,Parameters!E$4:G$49,3),2))","v":""},{"$f":"IF(G246=\"\",\"\",ROUND(G246*Parameters!J$83,2))","v":""},""]
[null,null,null,null,0,{"$f":"IF(C247=\"\",0,IF(C247<=Parameters!$C$3,C247,Parameters!$C$3))","v":0},{"$f":"IF(C247=\"\",\"\",IF(F247<Parameters!$C$4,\"\",(F247-Parameters!$C$4)*D247))","v":""},null,{"$f":"IF(H247=\"\",\"\",YEAR(+Informatie!$C$1)-YEAR(H247))","v":""},"",{"$f":"IF(G247=\"\",\"\",ROUND(G247*Parameters!$C$12,2))","v":""},{"$f":"IF(G247=\"\",\"\",IF(YEAR(Informatie!$C$1)=2015,ROUND(G247*Parameters!$J$27,2),ROUND(G247*VLOOKUP('Overzicht deelnemers'!I247,Parameters!$E$4:$G$49,2,FALSE),2)))","v":""},{"$f":"IF(G247=\"\",\"\",IF(YEAR(Informatie!$C$1)=2015,ROUND(L247*Parameters!$C$20,2),G247*Parameters!$J$27))","v":""},"",{"$f":"IF(G247=\"\",\"\",ROUND(G247*Parameters!$C$16,2))","v":""},{"$f":"IF(G247=\"\",\"\",ROUND(G247*VLOOKUP(J247,Parameters!$E$3:$F$49,2,FALSE),2))","v":""},{"$f":"IF(G247=\"\",\"\",ROUND(G247*Parameters!$J$66,2))","v":""},"",{"$f":"IF(G247=\"\",\"\",ROUND(G247*Parameters!$C$13,2))","v":""},{"$f":"IF(G247=\"\",\"\",IF(YEAR(Informatie!$C$1)=2015,ROUND(G247*Parameters!J$44,2),ROUND(G247*VLOOKUP('Overzicht deelnemers'!I247,Parameters!$E$4:$G$49,3,FALSE),2)))","v":""},{"$f":"IF(G247=\"\",\"\",IF(YEAR(Informatie!$C$1)=2015,ROUND(T247*Parameters!$C$20,2),ROUND(G247*Parameters!$J$44,2)))","v":""},"",{"$f":"IF(G247=\"\",\"\",ROUND(G247*Parameters!C$17,2))","v":""},{"$f":"IF(G247=\"\",\"\",ROUND(G247*VLOOKUP(J247,Parameters!E$4:G$49,3),2))","v":""},{"$f":"IF(G247=\"\",\"\",ROUND(G247*Parameters!J$83,2))","v":""},""]
[null,null,null,null,0,{"$f":"IF(C248=\"\",0,IF(C248<=Parameters!$C$3,C248,Parameters!$C$3))","v":0},{"$f":"IF(C248=\"\",\"\",IF(F248<Parameters!$C$4,\"\",(F248-Parameters!$C$4)*D248))","v":""},null,{"$f":"IF(H248=\"\",\"\",YEAR(+Informatie!$C$1)-YEAR(H248))","v":""},"",{"$f":"IF(G248=\"\",\"\",ROUND(G248*Parameters!$C$12,2))","v":""},{"$f":"IF(G248=\"\",\"\",IF(YEAR(Informatie!$C$1)=2015,ROUND(G248*Parameters!$J$27,2),ROUND(G248*VLOOKUP('Overzicht deelnemers'!I248,Parameters!$E$4:$G$49,2,FALSE),2)))","v":""},{"$f":"IF(G248=\"\",\"\",IF(YEAR(Informatie!$C$1)=2015,ROUND(L248*Parameters!$C$20,2),G248*Parameters!$J$27))","v":""},"",{"$f":"IF(G248=\"\",\"\",ROUND(G248*Parameters!$C$16,2))","v":""},{"$f":"IF(G248=\"\",\"\",ROUND(G248*VLOOKUP(J248,Parameters!$E$3:$F$49,2,FALSE),2))","v":""},{"$f":"IF(G248=\"\",\"\",ROUND(G248*Parameters!$J$66,2))","v":""},"",{"$f":"IF(G248=\"\",\"\",ROUND(G248*Parameters!$C$13,2))","v":""},{"$f":"IF(G248=\"\",\"\",IF(YEAR(Informatie!$C$1)=2015,ROUND(G248*Parameters!J$44,2),ROUND(G248*VLOOKUP('Overzicht deelnemers'!I248,Parameters!$E$4:$G$49,3,FALSE),2)))","v":""},{"$f":"IF(G248=\"\",\"\",IF(YEAR(Informatie!$C$1)=2015,ROUND(T248*Parameters!$C$20,2),ROUND(G248*Parameters!$J$44,2)))","v":""},"",{"$f":"IF(G248=\"\",\"\",ROUND(G248*Parameters!C$17,2))","v":""},{"$f":"IF(G248=\"\",\"\",ROUND(G248*VLOOKUP(J248,Parameters!E$4:G$49,3),2))","v":""},{"$f":"IF(G248=\"\",\"\",ROUND(G248*Parameters!J$83,2))","v":""},""]
[null,null,null,null,0,{"$f":"IF(C249=\"\",0,IF(C249<=Parameters!$C$3,C249,Parameters!$C$3))","v":0},{"$f":"IF(C249=\"\",\"\",IF(F249<Parameters!$C$4,\"\",(F249-Parameters!$C$4)*D249))","v":""},null,{"$f":"IF(H249=\"\",\"\",YEAR(+Informatie!$C$1)-YEAR(H249))","v":""},"",{"$f":"IF(G249=\"\",\"\",ROUND(G249*Parameters!$C$12,2))","v":""},{"$f":"IF(G249=\"\",\"\",IF(YEAR(Informatie!$C$1)=2015,ROUND(G249*Parameters!$J$27,2),ROUND(G249*VLOOKUP('Overzicht deelnemers'!I249,Parameters!$E$4:$G$49,2,FALSE),2)))","v":""},{"$f":"IF(G249=\"\",\"\",IF(YEAR(Informatie!$C$1)=2015,ROUND(L249*Parameters!$C$20,2),G249*Parameters!$J$27))","v":""},"",{"$f":"IF(G249=\"\",\"\",ROUND(G249*Parameters!$C$16,2))","v":""},{"$f":"IF(G249=\"\",\"\",ROUND(G249*VLOOKUP(J249,Parameters!$E$3:$F$49,2,FALSE),2))","v":""},{"$f":"IF(G249=\"\",\"\",ROUND(G249*Parameters!$J$66,2))","v":""},"",{"$f":"IF(G249=\"\",\"\",ROUND(G249*Parameters!$C$13,2))","v":""},{"$f":"IF(G249=\"\",\"\",IF(YEAR(Informatie!$C$1)=2015,ROUND(G249*Parameters!J$44,2),ROUND(G249*VLOOKUP('Overzicht deelnemers'!I249,Parameters!$E$4:$G$49,3,FALSE),2)))","v":""},{"$f":"IF(G249=\"\",\"\",IF(YEAR(Informatie!$C$1)=2015,ROUND(T249*Parameters!$C$20,2),ROUND(G249*Parameters!$J$44,2)))","v":""},"",{"$f":"IF(G249=\"\",\"\",ROUND(G249*Parameters!C$17,2))","v":""},{"$f":"IF(G249=\"\",\"\",ROUND(G249*VLOOKUP(J249,Parameters!E$4:G$49,3),2))","v":""},{"$f":"IF(G249=\"\",\"\",ROUND(G249*Parameters!J$83,2))","v":""},""]
[null,null,null,null,0,{"$f":"IF(C250=\"\",0,IF(C250<=Parameters!$C$3,C250,Parameters!$C$3))","v":0},{"$f":"IF(C250=\"\",\"\",IF(F250<Parameters!$C$4,\"\",(F250-Parameters!$C$4)*D250))","v":""},null,{"$f":"IF(H250=\"\",\"\",YEAR(+Informatie!$C$1)-YEAR(H250))","v":""},"",{"$f":"IF(G250=\"\",\"\",ROUND(G250*Parameters!$C$12,2))","v":""},{"$f":"IF(G250=\"\",\"\",IF(YEAR(Informatie!$C$1)=2015,ROUND(G250*Parameters!$J$27,2),ROUND(G250*VLOOKUP('Overzicht deelnemers'!I250,Parameters!$E$4:$G$49,2,FALSE),2)))","v":""},{"$f":"IF(G250=\"\",\"\",IF(YEAR(Informatie!$C$1)=2015,ROUND(L250*Parameters!$C$20,2),G250*Parameters!$J$27))","v":""},"",{"$f":"IF(G250=\"\",\"\",ROUND(G250*Parameters!$C$16,2))","v":""},{"$f":"IF(G250=\"\",\"\",ROUND(G250*VLOOKUP(J250,Parameters!$E$3:$F$49,2,FALSE),2))","v":""},{"$f":"IF(G250=\"\",\"\",ROUND(G250*Parameters!$J$66,2))","v":""},"",{"$f":"IF(G250=\"\",\"\",ROUND(G250*Parameters!$C$13,2))","v":""},{"$f":"IF(G250=\"\",\"\",IF(YEAR(Informatie!$C$1)=2015,ROUND(G250*Parameters!J$44,2),ROUND(G250*VLOOKUP('Overzicht deelnemers'!I250,Parameters!$E$4:$G$49,3,FALSE),2)))","v":""},{"$f":"IF(G250=\"\",\"\",IF(YEAR(Informatie!$C$1)=2015,ROUND(T250*Parameters!$C$20,2),ROUND(G250*Parameters!$J$44,2)))","v":""},"",{"$f":"IF(G250=\"\",\"\",ROUND(G250*Parameters!C$17,2))","v":""},{"$f":"IF(G250=\"\",\"\",ROUND(G250*VLOOKUP(J250,Parameters!E$4:G$49,3),2))","v":""},{"$f":"IF(G250=\"\",\"\",ROUND(G250*Parameters!J$83,2))","v":""},""]
[null,null,null,null,0,{"$f":"IF(C251=\"\",0,IF(C251<=Parameters!$C$3,C251,Parameters!$C$3))","v":0},{"$f":"IF(C251=\"\",\"\",IF(F251<Parameters!$C$4,\"\",(F251-Parameters!$C$4)*D251))","v":""},null,{"$f":"IF(H251=\"\",\"\",YEAR(+Informatie!$C$1)-YEAR(H251))","v":""},"",{"$f":"IF(G251=\"\",\"\",ROUND(G251*Parameters!$C$12,2))","v":""},{"$f":"IF(G251=\"\",\"\",IF(YEAR(Informatie!$C$1)=2015,ROUND(G251*Parameters!$J$27,2),ROUND(G251*VLOOKUP('Overzicht deelnemers'!I251,Parameters!$E$4:$G$49,2,FALSE),2)))","v":""},{"$f":"IF(G251=\"\",\"\",IF(YEAR(Informatie!$C$1)=2015,ROUND(L251*Parameters!$C$20,2),G251*Parameters!$J$27))","v":""},"",{"$f":"IF(G251=\"\",\"\",ROUND(G251*Parameters!$C$16,2))","v":""},{"$f":"IF(G251=\"\",\"\",ROUND(G251*VLOOKUP(J251,Parameters!$E$3:$F$49,2,FALSE),2))","v":""},{"$f":"IF(G251=\"\",\"\",ROUND(G251*Parameters!$J$66,2))","v":""},"",{"$f":"IF(G251=\"\",\"\",ROUND(G251*Parameters!$C$13,2))","v":""},{"$f":"IF(G251=\"\",\"\",IF(YEAR(Informatie!$C$1)=2015,ROUND(G251*Parameters!J$44,2),ROUND(G251*VLOOKUP('Overzicht deelnemers'!I251,Parameters!$E$4:$G$49,3,FALSE),2)))","v":""},{"$f":"IF(G251=\"\",\"\",IF(YEAR(Informatie!$C$1)=2015,ROUND(T251*Parameters!$C$20,2),ROUND(G251*Parameters!$J$44,2)))","v":""},"",{"$f":"IF(G251=\"\",\"\",ROUND(G251*Parameters!C$17,2))","v":""},{"$f":"IF(G251=\"\",\"\",ROUND(G251*VLOOKUP(J251,Parameters!E$4:G$49,3),2))","v":""},{"$f":"IF(G251=\"\",\"\",ROUND(G251*Parameters!J$83,2))","v":""},""]
[null,null,null,null,0,{"$f":"IF(C252=\"\",0,IF(C252<=Parameters!$C$3,C252,Parameters!$C$3))","v":0},{"$f":"IF(C252=\"\",\"\",IF(F252<Parameters!$C$4,\"\",(F252-Parameters!$C$4)*D252))","v":""},null,{"$f":"IF(H252=\"\",\"\",YEAR(+Informatie!$C$1)-YEAR(H252))","v":""},"",{"$f":"IF(G252=\"\",\"\",ROUND(G252*Parameters!$C$12,2))","v":""},{"$f":"IF(G252=\"\",\"\",IF(YEAR(Informatie!$C$1)=2015,ROUND(G252*Parameters!$J$27,2),ROUND(G252*VLOOKUP('Overzicht deelnemers'!I252,Parameters!$E$4:$G$49,2,FALSE),2)))","v":""},{"$f":"IF(G252=\"\",\"\",IF(YEAR(Informatie!$C$1)=2015,ROUND(L252*Parameters!$C$20,2),G252*Parameters!$J$27))","v":""},"",{"$f":"IF(G252=\"\",\"\",ROUND(G252*Parameters!$C$16,2))","v":""},{"$f":"IF(G252=\"\",\"\",ROUND(G252*VLOOKUP(J252,Parameters!$E$3:$F$49,2,FALSE),2))","v":""},{"$f":"IF(G252=\"\",\"\",ROUND(G252*Parameters!$J$66,2))","v":""},"",{"$f":"IF(G252=\"\",\"\",ROUND(G252*Parameters!$C$13,2))","v":""},{"$f":"IF(G252=\"\",\"\",IF(YEAR(Informatie!$C$1)=2015,ROUND(G252*Parameters!J$44,2),ROUND(G252*VLOOKUP('Overzicht deelnemers'!I252,Parameters!$E$4:$G$49,3,FALSE),2)))","v":""},{"$f":"IF(G252=\"\",\"\",IF(YEAR(Informatie!$C$1)=2015,ROUND(T252*Parameters!$C$20,2),ROUND(G252*Parameters!$J$44,2)))","v":""},"",{"$f":"IF(G252=\"\",\"\",ROUND(G252*Parameters!C$17,2))","v":""},{"$f":"IF(G252=\"\",\"\",ROUND(G252*VLOOKUP(J252,Parameters!E$4:G$49,3),2))","v":""},{"$f":"IF(G252=\"\",\"\",ROUND(G252*Parameters!J$83,2))","v":""},""]
[null,null,null,null,0,{"$f":"IF(C253=\"\",0,IF(C253<=Parameters!$C$3,C253,Parameters!$C$3))","v":0},{"$f":"IF(C253=\"\",\"\",IF(F253<Parameters!$C$4,\"\",(F253-Parameters!$C$4)*D253))","v":""},null,{"$f":"IF(H253=\"\",\"\",YEAR(+Informatie!$C$1)-YEAR(H253))","v":""},"",{"$f":"IF(G253=\"\",\"\",ROUND(G253*Parameters!$C$12,2))","v":""},{"$f":"IF(G253=\"\",\"\",IF(YEAR(Informatie!$C$1)=2015,ROUND(G253*Parameters!$J$27,2),ROUND(G253*VLOOKUP('Overzicht deelnemers'!I253,Parameters!$E$4:$G$49,2,FALSE),2)))","v":""},{"$f":"IF(G253=\"\",\"\",IF(YEAR(Informatie!$C$1)=2015,ROUND(L253*Parameters!$C$20,2),G253*Parameters!$J$27))","v":""},"",{"$f":"IF(G253=\"\",\"\",ROUND(G253*Parameters!$C$16,2))","v":""},{"$f":"IF(G253=\"\",\"\",ROUND(G253*VLOOKUP(J253,Parameters!$E$3:$F$49,2,FALSE),2))","v":""},{"$f":"IF(G253=\"\",\"\",ROUND(G253*Parameters!$J$66,2))","v":""},"",{"$f":"IF(G253=\"\",\"\",ROUND(G253*Parameters!$C$13,2))","v":""},{"$f":"IF(G253=\"\",\"\",IF(YEAR(Informatie!$C$1)=2015,ROUND(G253*Parameters!J$44,2),ROUND(G253*VLOOKUP('Overzicht deelnemers'!I253,Parameters!$E$4:$G$49,3,FALSE),2)))","v":""},{"$f":"IF(G253=\"\",\"\",IF(YEAR(Informatie!$C$1)=2015,ROUND(T253*Parameters!$C$20,2),ROUND(G253*Parameters!$J$44,2)))","v":""},"",{"$f":"IF(G253=\"\",\"\",ROUND(G253*Parameters!C$17,2))","v":""},{"$f":"IF(G253=\"\",\"\",ROUND(G253*VLOOKUP(J253,Parameters!E$4:G$49,3),2))","v":""},{"$f":"IF(G253=\"\",\"\",ROUND(G253*Parameters!J$83,2))","v":""},""]
[null,null,null,null,0,{"$f":"IF(C254=\"\",0,IF(C254<=Parameters!$C$3,C254,Parameters!$C$3))","v":0},{"$f":"IF(C254=\"\",\"\",IF(F254<Parameters!$C$4,\"\",(F254-Parameters!$C$4)*D254))","v":""},null,{"$f":"IF(H254=\"\",\"\",YEAR(+Informatie!$C$1)-YEAR(H254))","v":""},"",{"$f":"IF(G254=\"\",\"\",ROUND(G254*Parameters!$C$12,2))","v":""},{"$f":"IF(G254=\"\",\"\",IF(YEAR(Informatie!$C$1)=2015,ROUND(G254*Parameters!$J$27,2),ROUND(G254*VLOOKUP('Overzicht deelnemers'!I254,Parameters!$E$4:$G$49,2,FALSE),2)))","v":""},{"$f":"IF(G254=\"\",\"\",IF(YEAR(Informatie!$C$1)=2015,ROUND(L254*Parameters!$C$20,2),G254*Parameters!$J$27))","v":""},"",{"$f":"IF(G254=\"\",\"\",ROUND(G254*Parameters!$C$16,2))","v":""},{"$f":"IF(G254=\"\",\"\",ROUND(G254*VLOOKUP(J254,Parameters!$E$3:$F$49,2,FALSE),2))","v":""},{"$f":"IF(G254=\"\",\"\",ROUND(G254*Parameters!$J$66,2))","v":""},"",{"$f":"IF(G254=\"\",\"\",ROUND(G254*Parameters!$C$13,2))","v":""},{"$f":"IF(G254=\"\",\"\",IF(YEAR(Informatie!$C$1)=2015,ROUND(G254*Parameters!J$44,2),ROUND(G254*VLOOKUP('Overzicht deelnemers'!I254,Parameters!$E$4:$G$49,3,FALSE),2)))","v":""},{"$f":"IF(G254=\"\",\"\",IF(YEAR(Informatie!$C$1)=2015,ROUND(T254*Parameters!$C$20,2),ROUND(G254*Parameters!$J$44,2)))","v":""},"",{"$f":"IF(G254=\"\",\"\",ROUND(G254*Parameters!C$17,2))","v":""},{"$f":"IF(G254=\"\",\"\",ROUND(G254*VLOOKUP(J254,Parameters!E$4:G$49,3),2))","v":""},{"$f":"IF(G254=\"\",\"\",ROUND(G254*Parameters!J$83,2))","v":""},""]
[null,null,null,null,0,{"$f":"IF(C255=\"\",0,IF(C255<=Parameters!$C$3,C255,Parameters!$C$3))","v":0},{"$f":"IF(C255=\"\",\"\",IF(F255<Parameters!$C$4,\"\",(F255-Parameters!$C$4)*D255))","v":""},null,{"$f":"IF(H255=\"\",\"\",YEAR(+Informatie!$C$1)-YEAR(H255))","v":""},"",{"$f":"IF(G255=\"\",\"\",ROUND(G255*Parameters!$C$12,2))","v":""},{"$f":"IF(G255=\"\",\"\",IF(YEAR(Informatie!$C$1)=2015,ROUND(G255*Parameters!$J$27,2),ROUND(G255*VLOOKUP('Overzicht deelnemers'!I255,Parameters!$E$4:$G$49,2,FALSE),2)))","v":""},{"$f":"IF(G255=\"\",\"\",IF(YEAR(Informatie!$C$1)=2015,ROUND(L255*Parameters!$C$20,2),G255*Parameters!$J$27))","v":""},"",{"$f":"IF(G255=\"\",\"\",ROUND(G255*Parameters!$C$16,2))","v":""},{"$f":"IF(G255=\"\",\"\",ROUND(G255*VLOOKUP(J255,Parameters!$E$3:$F$49,2,FALSE),2))","v":""},{"$f":"IF(G255=\"\",\"\",ROUND(G255*Parameters!$J$66,2))","v":""},"",{"$f":"IF(G255=\"\",\"\",ROUND(G255*Parameters!$C$13,2))","v":""},{"$f":"IF(G255=\"\",\"\",IF(YEAR(Informatie!$C$1)=2015,ROUND(G255*Parameters!J$44,2),ROUND(G255*VLOOKUP('Overzicht deelnemers'!I255,Parameters!$E$4:$G$49,3,FALSE),2)))","v":""},{"$f":"IF(G255=\"\",\"\",IF(YEAR(Informatie!$C$1)=2015,ROUND(T255*Parameters!$C$20,2),ROUND(G255*Parameters!$J$44,2)))","v":""},"",{"$f":"IF(G255=\"\",\"\",ROUND(G255*Parameters!C$17,2))","v":""},{"$f":"IF(G255=\"\",\"\",ROUND(G255*VLOOKUP(J255,Parameters!E$4:G$49,3),2))","v":""},{"$f":"IF(G255=\"\",\"\",ROUND(G255*Parameters!J$83,2))","v":""},""]
[null,null,null,null,0,{"$f":"IF(C256=\"\",0,IF(C256<=Parameters!$C$3,C256,Parameters!$C$3))","v":0},{"$f":"IF(C256=\"\",\"\",IF(F256<Parameters!$C$4,\"\",(F256-Parameters!$C$4)*D256))","v":""},null,{"$f":"IF(H256=\"\",\"\",YEAR(+Informatie!$C$1)-YEAR(H256))","v":""},"",{"$f":"IF(G256=\"\",\"\",ROUND(G256*Parameters!$C$12,2))","v":""},{"$f":"IF(G256=\"\",\"\",IF(YEAR(Informatie!$C$1)=2015,ROUND(G256*Parameters!$J$27,2),ROUND(G256*VLOOKUP('Overzicht deelnemers'!I256,Parameters!$E$4:$G$49,2,FALSE),2)))","v":""},{"$f":"IF(G256=\"\",\"\",IF(YEAR(Informatie!$C$1)=2015,ROUND(L256*Parameters!$C$20,2),G256*Parameters!$J$27))","v":""},"",{"$f":"IF(G256=\"\",\"\",ROUND(G256*Parameters!$C$16,2))","v":""},{"$f":"IF(G256=\"\",\"\",ROUND(G256*VLOOKUP(J256,Parameters!$E$3:$F$49,2,FALSE),2))","v":""},{"$f":"IF(G256=\"\",\"\",ROUND(G256*Parameters!$J$66,2))","v":""},"",{"$f":"IF(G256=\"\",\"\",ROUND(G256*Parameters!$C$13,2))","v":""},{"$f":"IF(G256=\"\",\"\",IF(YEAR(Informatie!$C$1)=2015,ROUND(G256*Parameters!J$44,2),ROUND(G256*VLOOKUP('Overzicht deelnemers'!I256,Parameters!$E$4:$G$49,3,FALSE),2)))","v":""},{"$f":"IF(G256=\"\",\"\",IF(YEAR(Informatie!$C$1)=2015,ROUND(T256*Parameters!$C$20,2),ROUND(G256*Parameters!$J$44,2)))","v":""},"",{"$f":"IF(G256=\"\",\"\",ROUND(G256*Parameters!C$17,2))","v":""},{"$f":"IF(G256=\"\",\"\",ROUND(G256*VLOOKUP(J256,Parameters!E$4:G$49,3),2))","v":""},{"$f":"IF(G256=\"\",\"\",ROUND(G256*Parameters!J$83,2))","v":""},""]
[null,null,null,null,0,{"$f":"IF(C257=\"\",0,IF(C257<=Parameters!$C$3,C257,Parameters!$C$3))","v":0},{"$f":"IF(C257=\"\",\"\",IF(F257<Parameters!$C$4,\"\",(F257-Parameters!$C$4)*D257))","v":""},null,{"$f":"IF(H257=\"\",\"\",YEAR(+Informatie!$C$1)-YEAR(H257))","v":""},"",{"$f":"IF(G257=\"\",\"\",ROUND(G257*Parameters!$C$12,2))","v":""},{"$f":"IF(G257=\"\",\"\",IF(YEAR(Informatie!$C$1)=2015,ROUND(G257*Parameters!$J$27,2),ROUND(G257*VLOOKUP('Overzicht deelnemers'!I257,Parameters!$E$4:$G$49,2,FALSE),2)))","v":""},{"$f":"IF(G257=\"\",\"\",IF(YEAR(Informatie!$C$1)=2015,ROUND(L257*Parameters!$C$20,2),G257*Parameters!$J$27))","v":""},"",{"$f":"IF(G257=\"\",\"\",ROUND(G257*Parameters!$C$16,2))","v":""},{"$f":"IF(G257=\"\",\"\",ROUND(G257*VLOOKUP(J257,Parameters!$E$3:$F$49,2,FALSE),2))","v":""},{"$f":"IF(G257=\"\",\"\",ROUND(G257*Parameters!$J$66,2))","v":""},"",{"$f":"IF(G257=\"\",\"\",ROUND(G257*Parameters!$C$13,2))","v":""},{"$f":"IF(G257=\"\",\"\",IF(YEAR(Informatie!$C$1)=2015,ROUND(G257*Parameters!J$44,2),ROUND(G257*VLOOKUP('Overzicht deelnemers'!I257,Parameters!$E$4:$G$49,3,FALSE),2)))","v":""},{"$f":"IF(G257=\"\",\"\",IF(YEAR(Informatie!$C$1)=2015,ROUND(T257*Parameters!$C$20,2),ROUND(G257*Parameters!$J$44,2)))","v":""},"",{"$f":"IF(G257=\"\",\"\",ROUND(G257*Parameters!C$17,2))","v":""},{"$f":"IF(G257=\"\",\"\",ROUND(G257*VLOOKUP(J257,Parameters!E$4:G$49,3),2))","v":""},{"$f":"IF(G257=\"\",\"\",ROUND(G257*Parameters!J$83,2))","v":""},""]
[null,null,null,null,0,{"$f":"IF(C258=\"\",0,IF(C258<=Parameters!$C$3,C258,Parameters!$C$3))","v":0},{"$f":"IF(C258=\"\",\"\",IF(F258<Parameters!$C$4,\"\",(F258-Parameters!$C$4)*D258))","v":""},null,{"$f":"IF(H258=\"\",\"\",YEAR(+Informatie!$C$1)-YEAR(H258))","v":""},"",{"$f":"IF(G258=\"\",\"\",ROUND(G258*Parameters!$C$12,2))","v":""},{"$f":"IF(G258=\"\",\"\",IF(YEAR(Informatie!$C$1)=2015,ROUND(G258*Parameters!$J$27,2),ROUND(G258*VLOOKUP('Overzicht deelnemers'!I258,Parameters!$E$4:$G$49,2,FALSE),2)))","v":""},{"$f":"IF(G258=\"\",\"\",IF(YEAR(Informatie!$C$1)=2015,ROUND(L258*Parameters!$C$20,2),G258*Parameters!$J$27))","v":""},"",{"$f":"IF(G258=\"\",\"\",ROUND(G258*Parameters!$C$16,2))","v":""},{"$f":"IF(G258=\"\",\"\",ROUND(G258*VLOOKUP(J258,Parameters!$E$3:$F$49,2,FALSE),2))","v":""},{"$f":"IF(G258=\"\",\"\",ROUND(G258*Parameters!$J$66,2))","v":""},"",{"$f":"IF(G258=\"\",\"\",ROUND(G258*Parameters!$C$13,2))","v":""},{"$f":"IF(G258=\"\",\"\",IF(YEAR(Informatie!$C$1)=2015,ROUND(G258*Parameters!J$44,2),ROUND(G258*VLOOKUP('Overzicht deelnemers'!I258,Parameters!$E$4:$G$49,3,FALSE),2)))","v":""},{"$f":"IF(G258=\"\",\"\",IF(YEAR(Informatie!$C$1)=2015,ROUND(T258*Parameters!$C$20,2),ROUND(G258*Parameters!$J$44,2)))","v":""},"",{"$f":"IF(G258=\"\",\"\",ROUND(G258*Parameters!C$17,2))","v":""},{"$f":"IF(G258=\"\",\"\",ROUND(G258*VLOOKUP(J258,Parameters!E$4:G$49,3),2))","v":""},{"$f":"IF(G258=\"\",\"\",ROUND(G258*Parameters!J$83,2))","v":""},""]
[null,null,null,null,0,{"$f":"IF(C259=\"\",0,IF(C259<=Parameters!$C$3,C259,Parameters!$C$3))","v":0},{"$f":"IF(C259=\"\",\"\",IF(F259<Parameters!$C$4,\"\",(F259-Parameters!$C$4)*D259))","v":""},null,{"$f":"IF(H259=\"\",\"\",YEAR(+Informatie!$C$1)-YEAR(H259))","v":""},"",{"$f":"IF(G259=\"\",\"\",ROUND(G259*Parameters!$C$12,2))","v":""},{"$f":"IF(G259=\"\",\"\",IF(YEAR(Informatie!$C$1)=2015,ROUND(G259*Parameters!$J$27,2),ROUND(G259*VLOOKUP('Overzicht deelnemers'!I259,Parameters!$E$4:$G$49,2,FALSE),2)))","v":""},{"$f":"IF(G259=\"\",\"\",IF(YEAR(Informatie!$C$1)=2015,ROUND(L259*Parameters!$C$20,2),G259*Parameters!$J$27))","v":""},"",{"$f":"IF(G259=\"\",\"\",ROUND(G259*Parameters!$C$16,2))","v":""},{"$f":"IF(G259=\"\",\"\",ROUND(G259*VLOOKUP(J259,Parameters!$E$3:$F$49,2,FALSE),2))","v":""},{"$f":"IF(G259=\"\",\"\",ROUND(G259*Parameters!$J$66,2))","v":""},"",{"$f":"IF(G259=\"\",\"\",ROUND(G259*Parameters!$C$13,2))","v":""},{"$f":"IF(G259=\"\",\"\",IF(YEAR(Informatie!$C$1)=2015,ROUND(G259*Parameters!J$44,2),ROUND(G259*VLOOKUP('Overzicht deelnemers'!I259,Parameters!$E$4:$G$49,3,FALSE),2)))","v":""},{"$f":"IF(G259=\"\",\"\",IF(YEAR(Informatie!$C$1)=2015,ROUND(T259*Parameters!$C$20,2),ROUND(G259*Parameters!$J$44,2)))","v":""},"",{"$f":"IF(G259=\"\",\"\",ROUND(G259*Parameters!C$17,2))","v":""},{"$f":"IF(G259=\"\",\"\",ROUND(G259*VLOOKUP(J259,Parameters!E$4:G$49,3),2))","v":""},{"$f":"IF(G259=\"\",\"\",ROUND(G259*Parameters!J$83,2))","v":""},""]
[null,null,null,null,0,{"$f":"IF(C260=\"\",0,IF(C260<=Parameters!$C$3,C260,Parameters!$C$3))","v":0},{"$f":"IF(C260=\"\",\"\",IF(F260<Parameters!$C$4,\"\",(F260-Parameters!$C$4)*D260))","v":""},null,{"$f":"IF(H260=\"\",\"\",YEAR(+Informatie!$C$1)-YEAR(H260))","v":""},"",{"$f":"IF(G260=\"\",\"\",ROUND(G260*Parameters!$C$12,2))","v":""},{"$f":"IF(G260=\"\",\"\",IF(YEAR(Informatie!$C$1)=2015,ROUND(G260*Parameters!$J$27,2),ROUND(G260*VLOOKUP('Overzicht deelnemers'!I260,Parameters!$E$4:$G$49,2,FALSE),2)))","v":""},{"$f":"IF(G260=\"\",\"\",IF(YEAR(Informatie!$C$1)=2015,ROUND(L260*Parameters!$C$20,2),G260*Parameters!$J$27))","v":""},"",{"$f":"IF(G260=\"\",\"\",ROUND(G260*Parameters!$C$16,2))","v":""},{"$f":"IF(G260=\"\",\"\",ROUND(G260*VLOOKUP(J260,Parameters!$E$3:$F$49,2,FALSE),2))","v":""},{"$f":"IF(G260=\"\",\"\",ROUND(G260*Parameters!$J$66,2))","v":""},"",{"$f":"IF(G260=\"\",\"\",ROUND(G260*Parameters!$C$13,2))","v":""},{"$f":"IF(G260=\"\",\"\",IF(YEAR(Informatie!$C$1)=2015,ROUND(G260*Parameters!J$44,2),ROUND(G260*VLOOKUP('Overzicht deelnemers'!I260,Parameters!$E$4:$G$49,3,FALSE),2)))","v":""},{"$f":"IF(G260=\"\",\"\",IF(YEAR(Informatie!$C$1)=2015,ROUND(T260*Parameters!$C$20,2),ROUND(G260*Parameters!$J$44,2)))","v":""},"",{"$f":"IF(G260=\"\",\"\",ROUND(G260*Parameters!C$17,2))","v":""},{"$f":"IF(G260=\"\",\"\",ROUND(G260*VLOOKUP(J260,Parameters!E$4:G$49,3),2))","v":""},{"$f":"IF(G260=\"\",\"\",ROUND(G260*Parameters!J$83,2))","v":""},""]
[null,null,null,null,0,{"$f":"IF(C261=\"\",0,IF(C261<=Parameters!$C$3,C261,Parameters!$C$3))","v":0},{"$f":"IF(C261=\"\",\"\",IF(F261<Parameters!$C$4,\"\",(F261-Parameters!$C$4)*D261))","v":""},null,{"$f":"IF(H261=\"\",\"\",YEAR(+Informatie!$C$1)-YEAR(H261))","v":""},"",{"$f":"IF(G261=\"\",\"\",ROUND(G261*Parameters!$C$12,2))","v":""},{"$f":"IF(G261=\"\",\"\",IF(YEAR(Informatie!$C$1)=2015,ROUND(G261*Parameters!$J$27,2),ROUND(G261*VLOOKUP('Overzicht deelnemers'!I261,Parameters!$E$4:$G$49,2,FALSE),2)))","v":""},{"$f":"IF(G261=\"\",\"\",IF(YEAR(Informatie!$C$1)=2015,ROUND(L261*Parameters!$C$20,2),G261*Parameters!$J$27))","v":""},"",{"$f":"IF(G261=\"\",\"\",ROUND(G261*Parameters!$C$16,2))","v":""},{"$f":"IF(G261=\"\",\"\",ROUND(G261*VLOOKUP(J261,Parameters!$E$3:$F$49,2,FALSE),2))","v":""},{"$f":"IF(G261=\"\",\"\",ROUND(G261*Parameters!$J$66,2))","v":""},"",{"$f":"IF(G261=\"\",\"\",ROUND(G261*Parameters!$C$13,2))","v":""},{"$f":"IF(G261=\"\",\"\",IF(YEAR(Informatie!$C$1)=2015,ROUND(G261*Parameters!J$44,2),ROUND(G261*VLOOKUP('Overzicht deelnemers'!I261,Parameters!$E$4:$G$49,3,FALSE),2)))","v":""},{"$f":"IF(G261=\"\",\"\",IF(YEAR(Informatie!$C$1)=2015,ROUND(T261*Parameters!$C$20,2),ROUND(G261*Parameters!$J$44,2)))","v":""},"",{"$f":"IF(G261=\"\",\"\",ROUND(G261*Parameters!C$17,2))","v":""},{"$f":"IF(G261=\"\",\"\",ROUND(G261*VLOOKUP(J261,Parameters!E$4:G$49,3),2))","v":""},{"$f":"IF(G261=\"\",\"\",ROUND(G261*Parameters!J$83,2))","v":""},""]
[null,null,null,null,0,{"$f":"IF(C262=\"\",0,IF(C262<=Parameters!$C$3,C262,Parameters!$C$3))","v":0},{"$f":"IF(C262=\"\",\"\",IF(F262<Parameters!$C$4,\"\",(F262-Parameters!$C$4)*D262))","v":""},null,{"$f":"IF(H262=\"\",\"\",YEAR(+Informatie!$C$1)-YEAR(H262))","v":""},"",{"$f":"IF(G262=\"\",\"\",ROUND(G262*Parameters!$C$12,2))","v":""},{"$f":"IF(G262=\"\",\"\",IF(YEAR(Informatie!$C$1)=2015,ROUND(G262*Parameters!$J$27,2),ROUND(G262*VLOOKUP('Overzicht deelnemers'!I262,Parameters!$E$4:$G$49,2,FALSE),2)))","v":""},{"$f":"IF(G262=\"\",\"\",IF(YEAR(Informatie!$C$1)=2015,ROUND(L262*Parameters!$C$20,2),G262*Parameters!$J$27))","v":""},"",{"$f":"IF(G262=\"\",\"\",ROUND(G262*Parameters!$C$16,2))","v":""},{"$f":"IF(G262=\"\",\"\",ROUND(G262*VLOOKUP(J262,Parameters!$E$3:$F$49,2,FALSE),2))","v":""},{"$f":"IF(G262=\"\",\"\",ROUND(G262*Parameters!$J$66,2))","v":""},"",{"$f":"IF(G262=\"\",\"\",ROUND(G262*Parameters!$C$13,2))","v":""},{"$f":"IF(G262=\"\",\"\",IF(YEAR(Informatie!$C$1)=2015,ROUND(G262*Parameters!J$44,2),ROUND(G262*VLOOKUP('Overzicht deelnemers'!I262,Parameters!$E$4:$G$49,3,FALSE),2)))","v":""},{"$f":"IF(G262=\"\",\"\",IF(YEAR(Informatie!$C$1)=2015,ROUND(T262*Parameters!$C$20,2),ROUND(G262*Parameters!$J$44,2)))","v":""},"",{"$f":"IF(G262=\"\",\"\",ROUND(G262*Parameters!C$17,2))","v":""},{"$f":"IF(G262=\"\",\"\",ROUND(G262*VLOOKUP(J262,Parameters!E$4:G$49,3),2))","v":""},{"$f":"IF(G262=\"\",\"\",ROUND(G262*Parameters!J$83,2))","v":""},""]
[null,null,null,null,0,{"$f":"IF(C263=\"\",0,IF(C263<=Parameters!$C$3,C263,Parameters!$C$3))","v":0},{"$f":"IF(C263=\"\",\"\",IF(F263<Parameters!$C$4,\"\",(F263-Parameters!$C$4)*D263))","v":""},null,{"$f":"IF(H263=\"\",\"\",YEAR(+Informatie!$C$1)-YEAR(H263))","v":""},"",{"$f":"IF(G263=\"\",\"\",ROUND(G263*Parameters!$C$12,2))","v":""},{"$f":"IF(G263=\"\",\"\",IF(YEAR(Informatie!$C$1)=2015,ROUND(G263*Parameters!$J$27,2),ROUND(G263*VLOOKUP('Overzicht deelnemers'!I263,Parameters!$E$4:$G$49,2,FALSE),2)))","v":""},{"$f":"IF(G263=\"\",\"\",IF(YEAR(Informatie!$C$1)=2015,ROUND(L263*Parameters!$C$20,2),G263*Parameters!$J$27))","v":""},"",{"$f":"IF(G263=\"\",\"\",ROUND(G263*Parameters!$C$16,2))","v":""},{"$f":"IF(G263=\"\",\"\",ROUND(G263*VLOOKUP(J263,Parameters!$E$3:$F$49,2,FALSE),2))","v":""},{"$f":"IF(G263=\"\",\"\",ROUND(G263*Parameters!$J$66,2))","v":""},"",{"$f":"IF(G263=\"\",\"\",ROUND(G263*Parameters!$C$13,2))","v":""},{"$f":"IF(G263=\"\",\"\",IF(YEAR(Informatie!$C$1)=2015,ROUND(G263*Parameters!J$44,2),ROUND(G263*VLOOKUP('Overzicht deelnemers'!I263,Parameters!$E$4:$G$49,3,FALSE),2)))","v":""},{"$f":"IF(G263=\"\",\"\",IF(YEAR(Informatie!$C$1)=2015,ROUND(T263*Parameters!$C$20,2),ROUND(G263*Parameters!$J$44,2)))","v":""},"",{"$f":"IF(G263=\"\",\"\",ROUND(G263*Parameters!C$17,2))","v":""},{"$f":"IF(G263=\"\",\"\",ROUND(G263*VLOOKUP(J263,Parameters!E$4:G$49,3),2))","v":""},{"$f":"IF(G263=\"\",\"\",ROUND(G263*Parameters!J$83,2))","v":""},""]
[null,null,null,null,0,{"$f":"IF(C264=\"\",0,IF(C264<=Parameters!$C$3,C264,Parameters!$C$3))","v":0},{"$f":"IF(C264=\"\",\"\",IF(F264<Parameters!$C$4,\"\",(F264-Parameters!$C$4)*D264))","v":""},null,{"$f":"IF(H264=\"\",\"\",YEAR(+Informatie!$C$1)-YEAR(H264))","v":""},"",{"$f":"IF(G264=\"\",\"\",ROUND(G264*Parameters!$C$12,2))","v":""},{"$f":"IF(G264=\"\",\"\",IF(YEAR(Informatie!$C$1)=2015,ROUND(G264*Parameters!$J$27,2),ROUND(G264*VLOOKUP('Overzicht deelnemers'!I264,Parameters!$E$4:$G$49,2,FALSE),2)))","v":""},{"$f":"IF(G264=\"\",\"\",IF(YEAR(Informatie!$C$1)=2015,ROUND(L264*Parameters!$C$20,2),G264*Parameters!$J$27))","v":""},"",{"$f":"IF(G264=\"\",\"\",ROUND(G264*Parameters!$C$16,2))","v":""},{"$f":"IF(G264=\"\",\"\",ROUND(G264*VLOOKUP(J264,Parameters!$E$3:$F$49,2,FALSE),2))","v":""},{"$f":"IF(G264=\"\",\"\",ROUND(G264*Parameters!$J$66,2))","v":""},"",{"$f":"IF(G264=\"\",\"\",ROUND(G264*Parameters!$C$13,2))","v":""},{"$f":"IF(G264=\"\",\"\",IF(YEAR(Informatie!$C$1)=2015,ROUND(G264*Parameters!J$44,2),ROUND(G264*VLOOKUP('Overzicht deelnemers'!I264,Parameters!$E$4:$G$49,3,FALSE),2)))","v":""},{"$f":"IF(G264=\"\",\"\",IF(YEAR(Informatie!$C$1)=2015,ROUND(T264*Parameters!$C$20,2),ROUND(G264*Parameters!$J$44,2)))","v":""},"",{"$f":"IF(G264=\"\",\"\",ROUND(G264*Parameters!C$17,2))","v":""},{"$f":"IF(G264=\"\",\"\",ROUND(G264*VLOOKUP(J264,Parameters!E$4:G$49,3),2))","v":""},{"$f":"IF(G264=\"\",\"\",ROUND(G264*Parameters!J$83,2))","v":""},""]
[null,null,null,null,{"$f":"C265*D265","v":0},{"$f":"IF(C265=\"\",0,IF(C265<=Parameters!$C$3,C265,Parameters!$C$3))","v":0},{"$f":"IF(C265=\"\",\"\",IF(F265<Parameters!$C$4,\"\",(F265-Parameters!$C$4)*D265))","v":""},null,{"$f":"IF(H265=\"\",\"\",YEAR(+Informatie!$C$1)-YEAR(H265))","v":""},{"$f":"IF(H265=\"\",\"\",I265+1)","v":""},{"$f":"IF(G265=\"\",\"\",ROUND(G265*Parameters!$C$12,2))","v":""},{"$f":"IF(G265=\"\",\"\",IF(YEAR(Informatie!$C$1)=2015,ROUND(G265*Parameters!$J$27,2),ROUND(G265*VLOOKUP('Overzicht deelnemers'!I265,Parameters!$E$4:$G$49,2,FALSE),2)))","v":""},{"$f":"IF(G265=\"\",\"\",IF(YEAR(Informatie!$C$1)=2015,ROUND(L265*Parameters!$C$20,2),G265*Parameters!$J$27))","v":""},{"$f":"IF(G265=\"\",\"\",ROUND(L265-M265,2))","v":""},{"$f":"IF(G265=\"\",\"\",ROUND(G265*Parameters!$C$16,2))","v":""},{"$f":"IF(G265=\"\",\"\",ROUND(G265*VLOOKUP(J265,Parameters!$E$3:$F$49,2,FALSE),2))","v":""},{"$f":"IF(G265=\"\",\"\",ROUND(G265*Parameters!$J$66,2))","v":""},{"$f":"IF(G265=\"\",\"\",ROUND(P265-Q265,2))","v":""},{"$f":"IF(G265=\"\",\"\",ROUND(G265*Parameters!$C$13,2))","v":""},{"$f":"IF(G265=\"\",\"\",IF(YEAR(Informatie!$C$1)=2015,ROUND(G265*Parameters!J$44,2),ROUND(G265*VLOOKUP('Overzicht deelnemers'!I265,Parameters!$E$4:$G$49,3,FALSE),2)))","v":""},{"$f":"IF(G265=\"\",\"\",IF(YEAR(Informatie!$C$1)=2015,ROUND(T265*Parameters!$C$20,2),ROUND(G265*Parameters!$J$44,2)))","v":""},{"$f":"IF(G265=\"\",\"\",ROUND(T265-U265,2))","v":""},{"$f":"IF(G265=\"\",\"\",ROUND(G265*Parameters!C$17,2))","v":""},{"$f":"IF(G265=\"\",\"\",ROUND(G265*VLOOKUP(J265,Parameters!E$4:G$49,3),2))","v":""},{"$f":"IF(G265=\"\",\"\",ROUND(G265*Parameters!J$83,2))","v":""},{"$f":"IF(G265=\"\",\"\",ROUND(X265-Y265,2))","v":""}]
[null,null,null,null,0,{"$f":"IF(C266=\"\",0,IF(C266<=Parameters!$C$3,C266,Parameters!$C$3))","v":0},{"$f":"IF(C266=\"\",\"\",IF(F266<Parameters!$C$4,\"\",(F266-Parameters!$C$4)*D266))","v":""},null,{"$f":"IF(H266=\"\",\"\",YEAR(+Informatie!$C$1)-YEAR(H266))","v":""},"",{"$f":"IF(G266=\"\",\"\",ROUND(G266*Parameters!$C$12,2))","v":""},{"$f":"IF(G266=\"\",\"\",IF(YEAR(Informatie!$C$1)=2015,ROUND(G266*Parameters!$J$27,2),ROUND(G266*VLOOKUP('Overzicht deelnemers'!I266,Parameters!$E$4:$G$49,2,FALSE),2)))","v":""},{"$f":"IF(G266=\"\",\"\",IF(YEAR(Informatie!$C$1)=2015,ROUND(L266*Parameters!$C$20,2),G266*Parameters!$J$27))","v":""},"",{"$f":"IF(G266=\"\",\"\",ROUND(G266*Parameters!$C$16,2))","v":""},{"$f":"IF(G266=\"\",\"\",ROUND(G266*VLOOKUP(J266,Parameters!$E$3:$F$49,2,FALSE),2))","v":""},{"$f":"IF(G266=\"\",\"\",ROUND(G266*Parameters!$J$66,2))","v":""},"",{"$f":"IF(G266=\"\",\"\",ROUND(G266*Parameters!$C$13,2))","v":""},{"$f":"IF(G266=\"\",\"\",IF(YEAR(Informatie!$C$1)=2015,ROUND(G266*Parameters!J$44,2),ROUND(G266*VLOOKUP('Overzicht deelnemers'!I266,Parameters!$E$4:$G$49,3,FALSE),2)))","v":""},{"$f":"IF(G266=\"\",\"\",IF(YEAR(Informatie!$C$1)=2015,ROUND(T266*Parameters!$C$20,2),ROUND(G266*Parameters!$J$44,2)))","v":""},"",{"$f":"IF(G266=\"\",\"\",ROUND(G266*Parameters!C$17,2))","v":""},{"$f":"IF(G266=\"\",\"\",ROUND(G266*VLOOKUP(J266,Parameters!E$4:G$49,3),2))","v":""},{"$f":"IF(G266=\"\",\"\",ROUND(G266*Parameters!J$83,2))","v":""},""]
[null,null,null,null,0,{"$f":"IF(C267=\"\",0,IF(C267<=Parameters!$C$3,C267,Parameters!$C$3))","v":0},{"$f":"IF(C267=\"\",\"\",IF(F267<Parameters!$C$4,\"\",(F267-Parameters!$C$4)*D267))","v":""},null,{"$f":"IF(H267=\"\",\"\",YEAR(+Informatie!$C$1)-YEAR(H267))","v":""},"",{"$f":"IF(G267=\"\",\"\",ROUND(G267*Parameters!$C$12,2))","v":""},{"$f":"IF(G267=\"\",\"\",IF(YEAR(Informatie!$C$1)=2015,ROUND(G267*Parameters!$J$27,2),ROUND(G267*VLOOKUP('Overzicht deelnemers'!I267,Parameters!$E$4:$G$49,2,FALSE),2)))","v":""},{"$f":"IF(G267=\"\",\"\",IF(YEAR(Informatie!$C$1)=2015,ROUND(L267*Parameters!$C$20,2),G267*Parameters!$J$27))","v":""},"",{"$f":"IF(G267=\"\",\"\",ROUND(G267*Parameters!$C$16,2))","v":""},{"$f":"IF(G267=\"\",\"\",ROUND(G267*VLOOKUP(J267,Parameters!$E$3:$F$49,2,FALSE),2))","v":""},{"$f":"IF(G267=\"\",\"\",ROUND(G267*Parameters!$J$66,2))","v":""},"",{"$f":"IF(G267=\"\",\"\",ROUND(G267*Parameters!$C$13,2))","v":""},{"$f":"IF(G267=\"\",\"\",IF(YEAR(Informatie!$C$1)=2015,ROUND(G267*Parameters!J$44,2),ROUND(G267*VLOOKUP('Overzicht deelnemers'!I267,Parameters!$E$4:$G$49,3,FALSE),2)))","v":""},{"$f":"IF(G267=\"\",\"\",IF(YEAR(Informatie!$C$1)=2015,ROUND(T267*Parameters!$C$20,2),ROUND(G267*Parameters!$J$44,2)))","v":""},"",{"$f":"IF(G267=\"\",\"\",ROUND(G267*Parameters!C$17,2))","v":""},{"$f":"IF(G267=\"\",\"\",ROUND(G267*VLOOKUP(J267,Parameters!E$4:G$49,3),2))","v":""},{"$f":"IF(G267=\"\",\"\",ROUND(G267*Parameters!J$83,2))","v":""},""]
[null,null,null,null,0,{"$f":"IF(C268=\"\",0,IF(C268<=Parameters!$C$3,C268,Parameters!$C$3))","v":0},{"$f":"IF(C268=\"\",\"\",IF(F268<Parameters!$C$4,\"\",(F268-Parameters!$C$4)*D268))","v":""},null,{"$f":"IF(H268=\"\",\"\",YEAR(+Informatie!$C$1)-YEAR(H268))","v":""},"",{"$f":"IF(G268=\"\",\"\",ROUND(G268*Parameters!$C$12,2))","v":""},{"$f":"IF(G268=\"\",\"\",IF(YEAR(Informatie!$C$1)=2015,ROUND(G268*Parameters!$J$27,2),ROUND(G268*VLOOKUP('Overzicht deelnemers'!I268,Parameters!$E$4:$G$49,2,FALSE),2)))","v":""},{"$f":"IF(G268=\"\",\"\",IF(YEAR(Informatie!$C$1)=2015,ROUND(L268*Parameters!$C$20,2),G268*Parameters!$J$27))","v":""},"",{"$f":"IF(G268=\"\",\"\",ROUND(G268*Parameters!$C$16,2))","v":""},{"$f":"IF(G268=\"\",\"\",ROUND(G268*VLOOKUP(J268,Parameters!$E$3:$F$49,2,FALSE),2))","v":""},{"$f":"IF(G268=\"\",\"\",ROUND(G268*Parameters!$J$66,2))","v":""},"",{"$f":"IF(G268=\"\",\"\",ROUND(G268*Parameters!$C$13,2))","v":""},{"$f":"IF(G268=\"\",\"\",IF(YEAR(Informatie!$C$1)=2015,ROUND(G268*Parameters!J$44,2),ROUND(G268*VLOOKUP('Overzicht deelnemers'!I268,Parameters!$E$4:$G$49,3,FALSE),2)))","v":""},{"$f":"IF(G268=\"\",\"\",IF(YEAR(Informatie!$C$1)=2015,ROUND(T268*Parameters!$C$20,2),ROUND(G268*Parameters!$J$44,2)))","v":""},"",{"$f":"IF(G268=\"\",\"\",ROUND(G268*Parameters!C$17,2))","v":""},{"$f":"IF(G268=\"\",\"\",ROUND(G268*VLOOKUP(J268,Parameters!E$4:G$49,3),2))","v":""},{"$f":"IF(G268=\"\",\"\",ROUND(G268*Parameters!J$83,2))","v":""},""]
[null,null,null,null,0,{"$f":"IF(C269=\"\",0,IF(C269<=Parameters!$C$3,C269,Parameters!$C$3))","v":0},{"$f":"IF(C269=\"\",\"\",IF(F269<Parameters!$C$4,\"\",(F269-Parameters!$C$4)*D269))","v":""},null,{"$f":"IF(H269=\"\",\"\",YEAR(+Informatie!$C$1)-YEAR(H269))","v":""},"",{"$f":"IF(G269=\"\",\"\",ROUND(G269*Parameters!$C$12,2))","v":""},{"$f":"IF(G269=\"\",\"\",IF(YEAR(Informatie!$C$1)=2015,ROUND(G269*Parameters!$J$27,2),ROUND(G269*VLOOKUP('Overzicht deelnemers'!I269,Parameters!$E$4:$G$49,2,FALSE),2)))","v":""},{"$f":"IF(G269=\"\",\"\",IF(YEAR(Informatie!$C$1)=2015,ROUND(L269*Parameters!$C$20,2),G269*Parameters!$J$27))","v":""},"",{"$f":"IF(G269=\"\",\"\",ROUND(G269*Parameters!$C$16,2))","v":""},{"$f":"IF(G269=\"\",\"\",ROUND(G269*VLOOKUP(J269,Parameters!$E$3:$F$49,2,FALSE),2))","v":""},{"$f":"IF(G269=\"\",\"\",ROUND(G269*Parameters!$J$66,2))","v":""},"",{"$f":"IF(G269=\"\",\"\",ROUND(G269*Parameters!$C$13,2))","v":""},{"$f":"IF(G269=\"\",\"\",IF(YEAR(Informatie!$C$1)=2015,ROUND(G269*Parameters!J$44,2),ROUND(G269*VLOOKUP('Overzicht deelnemers'!I269,Parameters!$E$4:$G$49,3,FALSE),2)))","v":""},{"$f":"IF(G269=\"\",\"\",IF(YEAR(Informatie!$C$1)=2015,ROUND(T269*Parameters!$C$20,2),ROUND(G269*Parameters!$J$44,2)))","v":""},"",{"$f":"IF(G269=\"\",\"\",ROUND(G269*Parameters!C$17,2))","v":""},{"$f":"IF(G269=\"\",\"\",ROUND(G269*VLOOKUP(J269,Parameters!E$4:G$49,3),2))","v":""},{"$f":"IF(G269=\"\",\"\",ROUND(G269*Parameters!J$83,2))","v":""},""]
[null,null,null,null,0,{"$f":"IF(C270=\"\",0,IF(C270<=Parameters!$C$3,C270,Parameters!$C$3))","v":0},{"$f":"IF(C270=\"\",\"\",IF(F270<Parameters!$C$4,\"\",(F270-Parameters!$C$4)*D270))","v":""},null,{"$f":"IF(H270=\"\",\"\",YEAR(+Informatie!$C$1)-YEAR(H270))","v":""},"",{"$f":"IF(G270=\"\",\"\",ROUND(G270*Parameters!$C$12,2))","v":""},{"$f":"IF(G270=\"\",\"\",IF(YEAR(Informatie!$C$1)=2015,ROUND(G270*Parameters!$J$27,2),ROUND(G270*VLOOKUP('Overzicht deelnemers'!I270,Parameters!$E$4:$G$49,2,FALSE),2)))","v":""},{"$f":"IF(G270=\"\",\"\",IF(YEAR(Informatie!$C$1)=2015,ROUND(L270*Parameters!$C$20,2),G270*Parameters!$J$27))","v":""},"",{"$f":"IF(G270=\"\",\"\",ROUND(G270*Parameters!$C$16,2))","v":""},{"$f":"IF(G270=\"\",\"\",ROUND(G270*VLOOKUP(J270,Parameters!$E$3:$F$49,2,FALSE),2))","v":""},{"$f":"IF(G270=\"\",\"\",ROUND(G270*Parameters!$J$66,2))","v":""},"",{"$f":"IF(G270=\"\",\"\",ROUND(G270*Parameters!$C$13,2))","v":""},{"$f":"IF(G270=\"\",\"\",IF(YEAR(Informatie!$C$1)=2015,ROUND(G270*Parameters!J$44,2),ROUND(G270*VLOOKUP('Overzicht deelnemers'!I270,Parameters!$E$4:$G$49,3,FALSE),2)))","v":""},{"$f":"IF(G270=\"\",\"\",IF(YEAR(Informatie!$C$1)=2015,ROUND(T270*Parameters!$C$20,2),ROUND(G270*Parameters!$J$44,2)))","v":""},"",{"$f":"IF(G270=\"\",\"\",ROUND(G270*Parameters!C$17,2))","v":""},{"$f":"IF(G270=\"\",\"\",ROUND(G270*VLOOKUP(J270,Parameters!E$4:G$49,3),2))","v":""},{"$f":"IF(G270=\"\",\"\",ROUND(G270*Parameters!J$83,2))","v":""},""]
[null,null,null,null,0,{"$f":"IF(C271=\"\",0,IF(C271<=Parameters!$C$3,C271,Parameters!$C$3))","v":0},{"$f":"IF(C271=\"\",\"\",IF(F271<Parameters!$C$4,\"\",(F271-Parameters!$C$4)*D271))","v":""},null,{"$f":"IF(H271=\"\",\"\",YEAR(+Informatie!$C$1)-YEAR(H271))","v":""},"",{"$f":"IF(G271=\"\",\"\",ROUND(G271*Parameters!$C$12,2))","v":""},{"$f":"IF(G271=\"\",\"\",IF(YEAR(Informatie!$C$1)=2015,ROUND(G271*Parameters!$J$27,2),ROUND(G271*VLOOKUP('Overzicht deelnemers'!I271,Parameters!$E$4:$G$49,2,FALSE),2)))","v":""},{"$f":"IF(G271=\"\",\"\",IF(YEAR(Informatie!$C$1)=2015,ROUND(L271*Parameters!$C$20,2),G271*Parameters!$J$27))","v":""},"",{"$f":"IF(G271=\"\",\"\",ROUND(G271*Parameters!$C$16,2))","v":""},{"$f":"IF(G271=\"\",\"\",ROUND(G271*VLOOKUP(J271,Parameters!$E$3:$F$49,2,FALSE),2))","v":""},{"$f":"IF(G271=\"\",\"\",ROUND(G271*Parameters!$J$66,2))","v":""},"",{"$f":"IF(G271=\"\",\"\",ROUND(G271*Parameters!$C$13,2))","v":""},{"$f":"IF(G271=\"\",\"\",IF(YEAR(Informatie!$C$1)=2015,ROUND(G271*Parameters!J$44,2),ROUND(G271*VLOOKUP('Overzicht deelnemers'!I271,Parameters!$E$4:$G$49,3,FALSE),2)))","v":""},{"$f":"IF(G271=\"\",\"\",IF(YEAR(Informatie!$C$1)=2015,ROUND(T271*Parameters!$C$20,2),ROUND(G271*Parameters!$J$44,2)))","v":""},"",{"$f":"IF(G271=\"\",\"\",ROUND(G271*Parameters!C$17,2))","v":""},{"$f":"IF(G271=\"\",\"\",ROUND(G271*VLOOKUP(J271,Parameters!E$4:G$49,3),2))","v":""},{"$f":"IF(G271=\"\",\"\",ROUND(G271*Parameters!J$83,2))","v":""},""]
[null,null,null,null,0,{"$f":"IF(C272=\"\",0,IF(C272<=Parameters!$C$3,C272,Parameters!$C$3))","v":0},{"$f":"IF(C272=\"\",\"\",IF(F272<Parameters!$C$4,\"\",(F272-Parameters!$C$4)*D272))","v":""},null,{"$f":"IF(H272=\"\",\"\",YEAR(+Informatie!$C$1)-YEAR(H272))","v":""},"",{"$f":"IF(G272=\"\",\"\",ROUND(G272*Parameters!$C$12,2))","v":""},{"$f":"IF(G272=\"\",\"\",IF(YEAR(Informatie!$C$1)=2015,ROUND(G272*Parameters!$J$27,2),ROUND(G272*VLOOKUP('Overzicht deelnemers'!I272,Parameters!$E$4:$G$49,2,FALSE),2)))","v":""},{"$f":"IF(G272=\"\",\"\",IF(YEAR(Informatie!$C$1)=2015,ROUND(L272*Parameters!$C$20,2),G272*Parameters!$J$27))","v":""},"",{"$f":"IF(G272=\"\",\"\",ROUND(G272*Parameters!$C$16,2))","v":""},{"$f":"IF(G272=\"\",\"\",ROUND(G272*VLOOKUP(J272,Parameters!$E$3:$F$49,2,FALSE),2))","v":""},{"$f":"IF(G272=\"\",\"\",ROUND(G272*Parameters!$J$66,2))","v":""},"",{"$f":"IF(G272=\"\",\"\",ROUND(G272*Parameters!$C$13,2))","v":""},{"$f":"IF(G272=\"\",\"\",IF(YEAR(Informatie!$C$1)=2015,ROUND(G272*Parameters!J$44,2),ROUND(G272*VLOOKUP('Overzicht deelnemers'!I272,Parameters!$E$4:$G$49,3,FALSE),2)))","v":""},{"$f":"IF(G272=\"\",\"\",IF(YEAR(Informatie!$C$1)=2015,ROUND(T272*Parameters!$C$20,2),ROUND(G272*Parameters!$J$44,2)))","v":""},"",{"$f":"IF(G272=\"\",\"\",ROUND(G272*Parameters!C$17,2))","v":""},{"$f":"IF(G272=\"\",\"\",ROUND(G272*VLOOKUP(J272,Parameters!E$4:G$49,3),2))","v":""},{"$f":"IF(G272=\"\",\"\",ROUND(G272*Parameters!J$83,2))","v":""},""]
[null,null,null,null,0,{"$f":"IF(C273=\"\",0,IF(C273<=Parameters!$C$3,C273,Parameters!$C$3))","v":0},{"$f":"IF(C273=\"\",\"\",IF(F273<Parameters!$C$4,\"\",(F273-Parameters!$C$4)*D273))","v":""},null,{"$f":"IF(H273=\"\",\"\",YEAR(+Informatie!$C$1)-YEAR(H273))","v":""},"",{"$f":"IF(G273=\"\",\"\",ROUND(G273*Parameters!$C$12,2))","v":""},{"$f":"IF(G273=\"\",\"\",IF(YEAR(Informatie!$C$1)=2015,ROUND(G273*Parameters!$J$27,2),ROUND(G273*VLOOKUP('Overzicht deelnemers'!I273,Parameters!$E$4:$G$49,2,FALSE),2)))","v":""},{"$f":"IF(G273=\"\",\"\",IF(YEAR(Informatie!$C$1)=2015,ROUND(L273*Parameters!$C$20,2),G273*Parameters!$J$27))","v":""},"",{"$f":"IF(G273=\"\",\"\",ROUND(G273*Parameters!$C$16,2))","v":""},{"$f":"IF(G273=\"\",\"\",ROUND(G273*VLOOKUP(J273,Parameters!$E$3:$F$49,2,FALSE),2))","v":""},{"$f":"IF(G273=\"\",\"\",ROUND(G273*Parameters!$J$66,2))","v":""},"",{"$f":"IF(G273=\"\",\"\",ROUND(G273*Parameters!$C$13,2))","v":""},{"$f":"IF(G273=\"\",\"\",IF(YEAR(Informatie!$C$1)=2015,ROUND(G273*Parameters!J$44,2),ROUND(G273*VLOOKUP('Overzicht deelnemers'!I273,Parameters!$E$4:$G$49,3,FALSE),2)))","v":""},{"$f":"IF(G273=\"\",\"\",IF(YEAR(Informatie!$C$1)=2015,ROUND(T273*Parameters!$C$20,2),ROUND(G273*Parameters!$J$44,2)))","v":""},"",{"$f":"IF(G273=\"\",\"\",ROUND(G273*Parameters!C$17,2))","v":""},{"$f":"IF(G273=\"\",\"\",ROUND(G273*VLOOKUP(J273,Parameters!E$4:G$49,3),2))","v":""},{"$f":"IF(G273=\"\",\"\",ROUND(G273*Parameters!J$83,2))","v":""},""]
[null,null,null,null,0,{"$f":"IF(C274=\"\",0,IF(C274<=Parameters!$C$3,C274,Parameters!$C$3))","v":0},{"$f":"IF(C274=\"\",\"\",IF(F274<Parameters!$C$4,\"\",(F274-Parameters!$C$4)*D274))","v":""},null,{"$f":"IF(H274=\"\",\"\",YEAR(+Informatie!$C$1)-YEAR(H274))","v":""},"",{"$f":"IF(G274=\"\",\"\",ROUND(G274*Parameters!$C$12,2))","v":""},{"$f":"IF(G274=\"\",\"\",IF(YEAR(Informatie!$C$1)=2015,ROUND(G274*Parameters!$J$27,2),ROUND(G274*VLOOKUP('Overzicht deelnemers'!I274,Parameters!$E$4:$G$49,2,FALSE),2)))","v":""},{"$f":"IF(G274=\"\",\"\",IF(YEAR(Informatie!$C$1)=2015,ROUND(L274*Parameters!$C$20,2),G274*Parameters!$J$27))","v":""},"",{"$f":"IF(G274=\"\",\"\",ROUND(G274*Parameters!$C$16,2))","v":""},{"$f":"IF(G274=\"\",\"\",ROUND(G274*VLOOKUP(J274,Parameters!$E$3:$F$49,2,FALSE),2))","v":""},{"$f":"IF(G274=\"\",\"\",ROUND(G274*Parameters!$J$66,2))","v":""},"",{"$f":"IF(G274=\"\",\"\",ROUND(G274*Parameters!$C$13,2))","v":""},{"$f":"IF(G274=\"\",\"\",IF(YEAR(Informatie!$C$1)=2015,ROUND(G274*Parameters!J$44,2),ROUND(G274*VLOOKUP('Overzicht deelnemers'!I274,Parameters!$E$4:$G$49,3,FALSE),2)))","v":""},{"$f":"IF(G274=\"\",\"\",IF(YEAR(Informatie!$C$1)=2015,ROUND(T274*Parameters!$C$20,2),ROUND(G274*Parameters!$J$44,2)))","v":""},"",{"$f":"IF(G274=\"\",\"\",ROUND(G274*Parameters!C$17,2))","v":""},{"$f":"IF(G274=\"\",\"\",ROUND(G274*VLOOKUP(J274,Parameters!E$4:G$49,3),2))","v":""},{"$f":"IF(G274=\"\",\"\",ROUND(G274*Parameters!J$83,2))","v":""},""]
[null,null,null,null,0,{"$f":"IF(C275=\"\",0,IF(C275<=Parameters!$C$3,C275,Parameters!$C$3))","v":0},{"$f":"IF(C275=\"\",\"\",IF(F275<Parameters!$C$4,\"\",(F275-Parameters!$C$4)*D275))","v":""},null,{"$f":"IF(H275=\"\",\"\",YEAR(+Informatie!$C$1)-YEAR(H275))","v":""},"",{"$f":"IF(G275=\"\",\"\",ROUND(G275*Parameters!$C$12,2))","v":""},{"$f":"IF(G275=\"\",\"\",IF(YEAR(Informatie!$C$1)=2015,ROUND(G275*Parameters!$J$27,2),ROUND(G275*VLOOKUP('Overzicht deelnemers'!I275,Parameters!$E$4:$G$49,2,FALSE),2)))","v":""},{"$f":"IF(G275=\"\",\"\",IF(YEAR(Informatie!$C$1)=2015,ROUND(L275*Parameters!$C$20,2),G275*Parameters!$J$27))","v":""},"",{"$f":"IF(G275=\"\",\"\",ROUND(G275*Parameters!$C$16,2))","v":""},{"$f":"IF(G275=\"\",\"\",ROUND(G275*VLOOKUP(J275,Parameters!$E$3:$F$49,2,FALSE),2))","v":""},{"$f":"IF(G275=\"\",\"\",ROUND(G275*Parameters!$J$66,2))","v":""},"",{"$f":"IF(G275=\"\",\"\",ROUND(G275*Parameters!$C$13,2))","v":""},{"$f":"IF(G275=\"\",\"\",IF(YEAR(Informatie!$C$1)=2015,ROUND(G275*Parameters!J$44,2),ROUND(G275*VLOOKUP('Overzicht deelnemers'!I275,Parameters!$E$4:$G$49,3,FALSE),2)))","v":""},{"$f":"IF(G275=\"\",\"\",IF(YEAR(Informatie!$C$1)=2015,ROUND(T275*Parameters!$C$20,2),ROUND(G275*Parameters!$J$44,2)))","v":""},"",{"$f":"IF(G275=\"\",\"\",ROUND(G275*Parameters!C$17,2))","v":""},{"$f":"IF(G275=\"\",\"\",ROUND(G275*VLOOKUP(J275,Parameters!E$4:G$49,3),2))","v":""},{"$f":"IF(G275=\"\",\"\",ROUND(G275*Parameters!J$83,2))","v":""},""]
[null,null,null,null,0,{"$f":"IF(C276=\"\",0,IF(C276<=Parameters!$C$3,C276,Parameters!$C$3))","v":0},{"$f":"IF(C276=\"\",\"\",IF(F276<Parameters!$C$4,\"\",(F276-Parameters!$C$4)*D276))","v":""},null,{"$f":"IF(H276=\"\",\"\",YEAR(+Informatie!$C$1)-YEAR(H276))","v":""},"",{"$f":"IF(G276=\"\",\"\",ROUND(G276*Parameters!$C$12,2))","v":""},{"$f":"IF(G276=\"\",\"\",IF(YEAR(Informatie!$C$1)=2015,ROUND(G276*Parameters!$J$27,2),ROUND(G276*VLOOKUP('Overzicht deelnemers'!I276,Parameters!$E$4:$G$49,2,FALSE),2)))","v":""},{"$f":"IF(G276=\"\",\"\",IF(YEAR(Informatie!$C$1)=2015,ROUND(L276*Parameters!$C$20,2),G276*Parameters!$J$27))","v":""},"",{"$f":"IF(G276=\"\",\"\",ROUND(G276*Parameters!$C$16,2))","v":""},{"$f":"IF(G276=\"\",\"\",ROUND(G276*VLOOKUP(J276,Parameters!$E$3:$F$49,2,FALSE),2))","v":""},{"$f":"IF(G276=\"\",\"\",ROUND(G276*Parameters!$J$66,2))","v":""},"",{"$f":"IF(G276=\"\",\"\",ROUND(G276*Parameters!$C$13,2))","v":""},{"$f":"IF(G276=\"\",\"\",IF(YEAR(Informatie!$C$1)=2015,ROUND(G276*Parameters!J$44,2),ROUND(G276*VLOOKUP('Overzicht deelnemers'!I276,Parameters!$E$4:$G$49,3,FALSE),2)))","v":""},{"$f":"IF(G276=\"\",\"\",IF(YEAR(Informatie!$C$1)=2015,ROUND(T276*Parameters!$C$20,2),ROUND(G276*Parameters!$J$44,2)))","v":""},"",{"$f":"IF(G276=\"\",\"\",ROUND(G276*Parameters!C$17,2))","v":""},{"$f":"IF(G276=\"\",\"\",ROUND(G276*VLOOKUP(J276,Parameters!E$4:G$49,3),2))","v":""},{"$f":"IF(G276=\"\",\"\",ROUND(G276*Parameters!J$83,2))","v":""},""]
[null,null,null,null,0,{"$f":"IF(C277=\"\",0,IF(C277<=Parameters!$C$3,C277,Parameters!$C$3))","v":0},{"$f":"IF(C277=\"\",\"\",IF(F277<Parameters!$C$4,\"\",(F277-Parameters!$C$4)*D277))","v":""},null,{"$f":"IF(H277=\"\",\"\",YEAR(+Informatie!$C$1)-YEAR(H277))","v":""},"",{"$f":"IF(G277=\"\",\"\",ROUND(G277*Parameters!$C$12,2))","v":""},{"$f":"IF(G277=\"\",\"\",IF(YEAR(Informatie!$C$1)=2015,ROUND(G277*Parameters!$J$27,2),ROUND(G277*VLOOKUP('Overzicht deelnemers'!I277,Parameters!$E$4:$G$49,2,FALSE),2)))","v":""},{"$f":"IF(G277=\"\",\"\",IF(YEAR(Informatie!$C$1)=2015,ROUND(L277*Parameters!$C$20,2),G277*Parameters!$J$27))","v":""},"",{"$f":"IF(G277=\"\",\"\",ROUND(G277*Parameters!$C$16,2))","v":""},{"$f":"IF(G277=\"\",\"\",ROUND(G277*VLOOKUP(J277,Parameters!$E$3:$F$49,2,FALSE),2))","v":""},{"$f":"IF(G277=\"\",\"\",ROUND(G277*Parameters!$J$66,2))","v":""},"",{"$f":"IF(G277=\"\",\"\",ROUND(G277*Parameters!$C$13,2))","v":""},{"$f":"IF(G277=\"\",\"\",IF(YEAR(Informatie!$C$1)=2015,ROUND(G277*Parameters!J$44,2),ROUND(G277*VLOOKUP('Overzicht deelnemers'!I277,Parameters!$E$4:$G$49,3,FALSE),2)))","v":""},{"$f":"IF(G277=\"\",\"\",IF(YEAR(Informatie!$C$1)=2015,ROUND(T277*Parameters!$C$20,2),ROUND(G277*Parameters!$J$44,2)))","v":""},"",{"$f":"IF(G277=\"\",\"\",ROUND(G277*Parameters!C$17,2))","v":""},{"$f":"IF(G277=\"\",\"\",ROUND(G277*VLOOKUP(J277,Parameters!E$4:G$49,3),2))","v":""},{"$f":"IF(G277=\"\",\"\",ROUND(G277*Parameters!J$83,2))","v":""},""]
[null,null,null,null,0,{"$f":"IF(C278=\"\",0,IF(C278<=Parameters!$C$3,C278,Parameters!$C$3))","v":0},{"$f":"IF(C278=\"\",\"\",IF(F278<Parameters!$C$4,\"\",(F278-Parameters!$C$4)*D278))","v":""},null,{"$f":"IF(H278=\"\",\"\",YEAR(+Informatie!$C$1)-YEAR(H278))","v":""},"",{"$f":"IF(G278=\"\",\"\",ROUND(G278*Parameters!$C$12,2))","v":""},{"$f":"IF(G278=\"\",\"\",IF(YEAR(Informatie!$C$1)=2015,ROUND(G278*Parameters!$J$27,2),ROUND(G278*VLOOKUP('Overzicht deelnemers'!I278,Parameters!$E$4:$G$49,2,FALSE),2)))","v":""},{"$f":"IF(G278=\"\",\"\",IF(YEAR(Informatie!$C$1)=2015,ROUND(L278*Parameters!$C$20,2),G278*Parameters!$J$27))","v":""},"",{"$f":"IF(G278=\"\",\"\",ROUND(G278*Parameters!$C$16,2))","v":""},{"$f":"IF(G278=\"\",\"\",ROUND(G278*VLOOKUP(J278,Parameters!$E$3:$F$49,2,FALSE),2))","v":""},{"$f":"IF(G278=\"\",\"\",ROUND(G278*Parameters!$J$66,2))","v":""},"",{"$f":"IF(G278=\"\",\"\",ROUND(G278*Parameters!$C$13,2))","v":""},{"$f":"IF(G278=\"\",\"\",IF(YEAR(Informatie!$C$1)=2015,ROUND(G278*Parameters!J$44,2),ROUND(G278*VLOOKUP('Overzicht deelnemers'!I278,Parameters!$E$4:$G$49,3,FALSE),2)))","v":""},{"$f":"IF(G278=\"\",\"\",IF(YEAR(Informatie!$C$1)=2015,ROUND(T278*Parameters!$C$20,2),ROUND(G278*Parameters!$J$44,2)))","v":""},"",{"$f":"IF(G278=\"\",\"\",ROUND(G278*Parameters!C$17,2))","v":""},{"$f":"IF(G278=\"\",\"\",ROUND(G278*VLOOKUP(J278,Parameters!E$4:G$49,3),2))","v":""},{"$f":"IF(G278=\"\",\"\",ROUND(G278*Parameters!J$83,2))","v":""},""]
[null,null,null,null,0,{"$f":"IF(C279=\"\",0,IF(C279<=Parameters!$C$3,C279,Parameters!$C$3))","v":0},{"$f":"IF(C279=\"\",\"\",IF(F279<Parameters!$C$4,\"\",(F279-Parameters!$C$4)*D279))","v":""},null,{"$f":"IF(H279=\"\",\"\",YEAR(+Informatie!$C$1)-YEAR(H279))","v":""},"",{"$f":"IF(G279=\"\",\"\",ROUND(G279*Parameters!$C$12,2))","v":""},{"$f":"IF(G279=\"\",\"\",IF(YEAR(Informatie!$C$1)=2015,ROUND(G279*Parameters!$J$27,2),ROUND(G279*VLOOKUP('Overzicht deelnemers'!I279,Parameters!$E$4:$G$49,2,FALSE),2)))","v":""},{"$f":"IF(G279=\"\",\"\",IF(YEAR(Informatie!$C$1)=2015,ROUND(L279*Parameters!$C$20,2),G279*Parameters!$J$27))","v":""},"",{"$f":"IF(G279=\"\",\"\",ROUND(G279*Parameters!$C$16,2))","v":""},{"$f":"IF(G279=\"\",\"\",ROUND(G279*VLOOKUP(J279,Parameters!$E$3:$F$49,2,FALSE),2))","v":""},{"$f":"IF(G279=\"\",\"\",ROUND(G279*Parameters!$J$66,2))","v":""},"",{"$f":"IF(G279=\"\",\"\",ROUND(G279*Parameters!$C$13,2))","v":""},{"$f":"IF(G279=\"\",\"\",IF(YEAR(Informatie!$C$1)=2015,ROUND(G279*Parameters!J$44,2),ROUND(G279*VLOOKUP('Overzicht deelnemers'!I279,Parameters!$E$4:$G$49,3,FALSE),2)))","v":""},{"$f":"IF(G279=\"\",\"\",IF(YEAR(Informatie!$C$1)=2015,ROUND(T279*Parameters!$C$20,2),ROUND(G279*Parameters!$J$44,2)))","v":""},"",{"$f":"IF(G279=\"\",\"\",ROUND(G279*Parameters!C$17,2))","v":""},{"$f":"IF(G279=\"\",\"\",ROUND(G279*VLOOKUP(J279,Parameters!E$4:G$49,3),2))","v":""},{"$f":"IF(G279=\"\",\"\",ROUND(G279*Parameters!J$83,2))","v":""},""]
[null,null,null,null,0,{"$f":"IF(C280=\"\",0,IF(C280<=Parameters!$C$3,C280,Parameters!$C$3))","v":0},{"$f":"IF(C280=\"\",\"\",IF(F280<Parameters!$C$4,\"\",(F280-Parameters!$C$4)*D280))","v":""},null,{"$f":"IF(H280=\"\",\"\",YEAR(+Informatie!$C$1)-YEAR(H280))","v":""},"",{"$f":"IF(G280=\"\",\"\",ROUND(G280*Parameters!$C$12,2))","v":""},{"$f":"IF(G280=\"\",\"\",IF(YEAR(Informatie!$C$1)=2015,ROUND(G280*Parameters!$J$27,2),ROUND(G280*VLOOKUP('Overzicht deelnemers'!I280,Parameters!$E$4:$G$49,2,FALSE),2)))","v":""},{"$f":"IF(G280=\"\",\"\",IF(YEAR(Informatie!$C$1)=2015,ROUND(L280*Parameters!$C$20,2),G280*Parameters!$J$27))","v":""},"",{"$f":"IF(G280=\"\",\"\",ROUND(G280*Parameters!$C$16,2))","v":""},{"$f":"IF(G280=\"\",\"\",ROUND(G280*VLOOKUP(J280,Parameters!$E$3:$F$49,2,FALSE),2))","v":""},{"$f":"IF(G280=\"\",\"\",ROUND(G280*Parameters!$J$66,2))","v":""},"",{"$f":"IF(G280=\"\",\"\",ROUND(G280*Parameters!$C$13,2))","v":""},{"$f":"IF(G280=\"\",\"\",IF(YEAR(Informatie!$C$1)=2015,ROUND(G280*Parameters!J$44,2),ROUND(G280*VLOOKUP('Overzicht deelnemers'!I280,Parameters!$E$4:$G$49,3,FALSE),2)))","v":""},{"$f":"IF(G280=\"\",\"\",IF(YEAR(Informatie!$C$1)=2015,ROUND(T280*Parameters!$C$20,2),ROUND(G280*Parameters!$J$44,2)))","v":""},"",{"$f":"IF(G280=\"\",\"\",ROUND(G280*Parameters!C$17,2))","v":""},{"$f":"IF(G280=\"\",\"\",ROUND(G280*VLOOKUP(J280,Parameters!E$4:G$49,3),2))","v":""},{"$f":"IF(G280=\"\",\"\",ROUND(G280*Parameters!J$83,2))","v":""},""]
[null,null,null,null,0,{"$f":"IF(C281=\"\",0,IF(C281<=Parameters!$C$3,C281,Parameters!$C$3))","v":0},{"$f":"IF(C281=\"\",\"\",IF(F281<Parameters!$C$4,\"\",(F281-Parameters!$C$4)*D281))","v":""},null,{"$f":"IF(H281=\"\",\"\",YEAR(+Informatie!$C$1)-YEAR(H281))","v":""},"",{"$f":"IF(G281=\"\",\"\",ROUND(G281*Parameters!$C$12,2))","v":""},{"$f":"IF(G281=\"\",\"\",IF(YEAR(Informatie!$C$1)=2015,ROUND(G281*Parameters!$J$27,2),ROUND(G281*VLOOKUP('Overzicht deelnemers'!I281,Parameters!$E$4:$G$49,2,FALSE),2)))","v":""},{"$f":"IF(G281=\"\",\"\",IF(YEAR(Informatie!$C$1)=2015,ROUND(L281*Parameters!$C$20,2),G281*Parameters!$J$27))","v":""},"",{"$f":"IF(G281=\"\",\"\",ROUND(G281*Parameters!$C$16,2))","v":""},{"$f":"IF(G281=\"\",\"\",ROUND(G281*VLOOKUP(J281,Parameters!$E$3:$F$49,2,FALSE),2))","v":""},{"$f":"IF(G281=\"\",\"\",ROUND(G281*Parameters!$J$66,2))","v":""},"",{"$f":"IF(G281=\"\",\"\",ROUND(G281*Parameters!$C$13,2))","v":""},{"$f":"IF(G281=\"\",\"\",IF(YEAR(Informatie!$C$1)=2015,ROUND(G281*Parameters!J$44,2),ROUND(G281*VLOOKUP('Overzicht deelnemers'!I281,Parameters!$E$4:$G$49,3,FALSE),2)))","v":""},{"$f":"IF(G281=\"\",\"\",IF(YEAR(Informatie!$C$1)=2015,ROUND(T281*Parameters!$C$20,2),ROUND(G281*Parameters!$J$44,2)))","v":""},"",{"$f":"IF(G281=\"\",\"\",ROUND(G281*Parameters!C$17,2))","v":""},{"$f":"IF(G281=\"\",\"\",ROUND(G281*VLOOKUP(J281,Parameters!E$4:G$49,3),2))","v":""},{"$f":"IF(G281=\"\",\"\",ROUND(G281*Parameters!J$83,2))","v":""},""]
[null,null,null,null,0,{"$f":"IF(C282=\"\",0,IF(C282<=Parameters!$C$3,C282,Parameters!$C$3))","v":0},{"$f":"IF(C282=\"\",\"\",IF(F282<Parameters!$C$4,\"\",(F282-Parameters!$C$4)*D282))","v":""},null,{"$f":"IF(H282=\"\",\"\",YEAR(+Informatie!$C$1)-YEAR(H282))","v":""},"",{"$f":"IF(G282=\"\",\"\",ROUND(G282*Parameters!$C$12,2))","v":""},{"$f":"IF(G282=\"\",\"\",IF(YEAR(Informatie!$C$1)=2015,ROUND(G282*Parameters!$J$27,2),ROUND(G282*VLOOKUP('Overzicht deelnemers'!I282,Parameters!$E$4:$G$49,2,FALSE),2)))","v":""},{"$f":"IF(G282=\"\",\"\",IF(YEAR(Informatie!$C$1)=2015,ROUND(L282*Parameters!$C$20,2),G282*Parameters!$J$27))","v":""},"",{"$f":"IF(G282=\"\",\"\",ROUND(G282*Parameters!$C$16,2))","v":""},{"$f":"IF(G282=\"\",\"\",ROUND(G282*VLOOKUP(J282,Parameters!$E$3:$F$49,2,FALSE),2))","v":""},{"$f":"IF(G282=\"\",\"\",ROUND(G282*Parameters!$J$66,2))","v":""},"",{"$f":"IF(G282=\"\",\"\",ROUND(G282*Parameters!$C$13,2))","v":""},{"$f":"IF(G282=\"\",\"\",IF(YEAR(Informatie!$C$1)=2015,ROUND(G282*Parameters!J$44,2),ROUND(G282*VLOOKUP('Overzicht deelnemers'!I282,Parameters!$E$4:$G$49,3,FALSE),2)))","v":""},{"$f":"IF(G282=\"\",\"\",IF(YEAR(Informatie!$C$1)=2015,ROUND(T282*Parameters!$C$20,2),ROUND(G282*Parameters!$J$44,2)))","v":""},"",{"$f":"IF(G282=\"\",\"\",ROUND(G282*Parameters!C$17,2))","v":""},{"$f":"IF(G282=\"\",\"\",ROUND(G282*VLOOKUP(J282,Parameters!E$4:G$49,3),2))","v":""},{"$f":"IF(G282=\"\",\"\",ROUND(G282*Parameters!J$83,2))","v":""},""]
[null,null,null,null,0,{"$f":"IF(C283=\"\",0,IF(C283<=Parameters!$C$3,C283,Parameters!$C$3))","v":0},{"$f":"IF(C283=\"\",\"\",IF(F283<Parameters!$C$4,\"\",(F283-Parameters!$C$4)*D283))","v":""},null,{"$f":"IF(H283=\"\",\"\",YEAR(+Informatie!$C$1)-YEAR(H283))","v":""},"",{"$f":"IF(G283=\"\",\"\",ROUND(G283*Parameters!$C$12,2))","v":""},{"$f":"IF(G283=\"\",\"\",IF(YEAR(Informatie!$C$1)=2015,ROUND(G283*Parameters!$J$27,2),ROUND(G283*VLOOKUP('Overzicht deelnemers'!I283,Parameters!$E$4:$G$49,2,FALSE),2)))","v":""},{"$f":"IF(G283=\"\",\"\",IF(YEAR(Informatie!$C$1)=2015,ROUND(L283*Parameters!$C$20,2),G283*Parameters!$J$27))","v":""},"",{"$f":"IF(G283=\"\",\"\",ROUND(G283*Parameters!$C$16,2))","v":""},{"$f":"IF(G283=\"\",\"\",ROUND(G283*VLOOKUP(J283,Parameters!$E$3:$F$49,2,FALSE),2))","v":""},{"$f":"IF(G283=\"\",\"\",ROUND(G283*Parameters!$J$66,2))","v":""},"",{"$f":"IF(G283=\"\",\"\",ROUND(G283*Parameters!$C$13,2))","v":""},{"$f":"IF(G283=\"\",\"\",IF(YEAR(Informatie!$C$1)=2015,ROUND(G283*Parameters!J$44,2),ROUND(G283*VLOOKUP('Overzicht deelnemers'!I283,Parameters!$E$4:$G$49,3,FALSE),2)))","v":""},{"$f":"IF(G283=\"\",\"\",IF(YEAR(Informatie!$C$1)=2015,ROUND(T283*Parameters!$C$20,2),ROUND(G283*Parameters!$J$44,2)))","v":""},"",{"$f":"IF(G283=\"\",\"\",ROUND(G283*Parameters!C$17,2))","v":""},{"$f":"IF(G283=\"\",\"\",ROUND(G283*VLOOKUP(J283,Parameters!E$4:G$49,3),2))","v":""},{"$f":"IF(G283=\"\",\"\",ROUND(G283*Parameters!J$83,2))","v":""},""]
[null,null,null,null,0,{"$f":"IF(C284=\"\",0,IF(C284<=Parameters!$C$3,C284,Parameters!$C$3))","v":0},{"$f":"IF(C284=\"\",\"\",IF(F284<Parameters!$C$4,\"\",(F284-Parameters!$C$4)*D284))","v":""},null,{"$f":"IF(H284=\"\",\"\",YEAR(+Informatie!$C$1)-YEAR(H284))","v":""},"",{"$f":"IF(G284=\"\",\"\",ROUND(G284*Parameters!$C$12,2))","v":""},{"$f":"IF(G284=\"\",\"\",IF(YEAR(Informatie!$C$1)=2015,ROUND(G284*Parameters!$J$27,2),ROUND(G284*VLOOKUP('Overzicht deelnemers'!I284,Parameters!$E$4:$G$49,2,FALSE),2)))","v":""},{"$f":"IF(G284=\"\",\"\",IF(YEAR(Informatie!$C$1)=2015,ROUND(L284*Parameters!$C$20,2),G284*Parameters!$J$27))","v":""},"",{"$f":"IF(G284=\"\",\"\",ROUND(G284*Parameters!$C$16,2))","v":""},{"$f":"IF(G284=\"\",\"\",ROUND(G284*VLOOKUP(J284,Parameters!$E$3:$F$49,2,FALSE),2))","v":""},{"$f":"IF(G284=\"\",\"\",ROUND(G284*Parameters!$J$66,2))","v":""},"",{"$f":"IF(G284=\"\",\"\",ROUND(G284*Parameters!$C$13,2))","v":""},{"$f":"IF(G284=\"\",\"\",IF(YEAR(Informatie!$C$1)=2015,ROUND(G284*Parameters!J$44,2),ROUND(G284*VLOOKUP('Overzicht deelnemers'!I284,Parameters!$E$4:$G$49,3,FALSE),2)))","v":""},{"$f":"IF(G284=\"\",\"\",IF(YEAR(Informatie!$C$1)=2015,ROUND(T284*Parameters!$C$20,2),ROUND(G284*Parameters!$J$44,2)))","v":""},"",{"$f":"IF(G284=\"\",\"\",ROUND(G284*Parameters!C$17,2))","v":""},{"$f":"IF(G284=\"\",\"\",ROUND(G284*VLOOKUP(J284,Parameters!E$4:G$49,3),2))","v":""},{"$f":"IF(G284=\"\",\"\",ROUND(G284*Parameters!J$83,2))","v":""},""]
[null,null,null,null,0,{"$f":"IF(C285=\"\",0,IF(C285<=Parameters!$C$3,C285,Parameters!$C$3))","v":0},{"$f":"IF(C285=\"\",\"\",IF(F285<Parameters!$C$4,\"\",(F285-Parameters!$C$4)*D285))","v":""},null,{"$f":"IF(H285=\"\",\"\",YEAR(+Informatie!$C$1)-YEAR(H285))","v":""},"",{"$f":"IF(G285=\"\",\"\",ROUND(G285*Parameters!$C$12,2))","v":""},{"$f":"IF(G285=\"\",\"\",IF(YEAR(Informatie!$C$1)=2015,ROUND(G285*Parameters!$J$27,2),ROUND(G285*VLOOKUP('Overzicht deelnemers'!I285,Parameters!$E$4:$G$49,2,FALSE),2)))","v":""},{"$f":"IF(G285=\"\",\"\",IF(YEAR(Informatie!$C$1)=2015,ROUND(L285*Parameters!$C$20,2),G285*Parameters!$J$27))","v":""},"",{"$f":"IF(G285=\"\",\"\",ROUND(G285*Parameters!$C$16,2))","v":""},{"$f":"IF(G285=\"\",\"\",ROUND(G285*VLOOKUP(J285,Parameters!$E$3:$F$49,2,FALSE),2))","v":""},{"$f":"IF(G285=\"\",\"\",ROUND(G285*Parameters!$J$66,2))","v":""},"",{"$f":"IF(G285=\"\",\"\",ROUND(G285*Parameters!$C$13,2))","v":""},{"$f":"IF(G285=\"\",\"\",IF(YEAR(Informatie!$C$1)=2015,ROUND(G285*Parameters!J$44,2),ROUND(G285*VLOOKUP('Overzicht deelnemers'!I285,Parameters!$E$4:$G$49,3,FALSE),2)))","v":""},{"$f":"IF(G285=\"\",\"\",IF(YEAR(Informatie!$C$1)=2015,ROUND(T285*Parameters!$C$20,2),ROUND(G285*Parameters!$J$44,2)))","v":""},"",{"$f":"IF(G285=\"\",\"\",ROUND(G285*Parameters!C$17,2))","v":""},{"$f":"IF(G285=\"\",\"\",ROUND(G285*VLOOKUP(J285,Parameters!E$4:G$49,3),2))","v":""},{"$f":"IF(G285=\"\",\"\",ROUND(G285*Parameters!J$83,2))","v":""},""]
[null,null,null,null,0,{"$f":"IF(C286=\"\",0,IF(C286<=Parameters!$C$3,C286,Parameters!$C$3))","v":0},{"$f":"IF(C286=\"\",\"\",IF(F286<Parameters!$C$4,\"\",(F286-Parameters!$C$4)*D286))","v":""},null,{"$f":"IF(H286=\"\",\"\",YEAR(+Informatie!$C$1)-YEAR(H286))","v":""},"",{"$f":"IF(G286=\"\",\"\",ROUND(G286*Parameters!$C$12,2))","v":""},{"$f":"IF(G286=\"\",\"\",IF(YEAR(Informatie!$C$1)=2015,ROUND(G286*Parameters!$J$27,2),ROUND(G286*VLOOKUP('Overzicht deelnemers'!I286,Parameters!$E$4:$G$49,2,FALSE),2)))","v":""},{"$f":"IF(G286=\"\",\"\",IF(YEAR(Informatie!$C$1)=2015,ROUND(L286*Parameters!$C$20,2),G286*Parameters!$J$27))","v":""},"",{"$f":"IF(G286=\"\",\"\",ROUND(G286*Parameters!$C$16,2))","v":""},{"$f":"IF(G286=\"\",\"\",ROUND(G286*VLOOKUP(J286,Parameters!$E$3:$F$49,2,FALSE),2))","v":""},{"$f":"IF(G286=\"\",\"\",ROUND(G286*Parameters!$J$66,2))","v":""},"",{"$f":"IF(G286=\"\",\"\",ROUND(G286*Parameters!$C$13,2))","v":""},{"$f":"IF(G286=\"\",\"\",IF(YEAR(Informatie!$C$1)=2015,ROUND(G286*Parameters!J$44,2),ROUND(G286*VLOOKUP('Overzicht deelnemers'!I286,Parameters!$E$4:$G$49,3,FALSE),2)))","v":""},{"$f":"IF(G286=\"\",\"\",IF(YEAR(Informatie!$C$1)=2015,ROUND(T286*Parameters!$C$20,2),ROUND(G286*Parameters!$J$44,2)))","v":""},"",{"$f":"IF(G286=\"\",\"\",ROUND(G286*Parameters!C$17,2))","v":""},{"$f":"IF(G286=\"\",\"\",ROUND(G286*VLOOKUP(J286,Parameters!E$4:G$49,3),2))","v":""},{"$f":"IF(G286=\"\",\"\",ROUND(G286*Parameters!J$83,2))","v":""},""]
[null,null,null,null,0,{"$f":"IF(C287=\"\",0,IF(C287<=Parameters!$C$3,C287,Parameters!$C$3))","v":0},{"$f":"IF(C287=\"\",\"\",IF(F287<Parameters!$C$4,\"\",(F287-Parameters!$C$4)*D287))","v":""},null,{"$f":"IF(H287=\"\",\"\",YEAR(+Informatie!$C$1)-YEAR(H287))","v":""},"",{"$f":"IF(G287=\"\",\"\",ROUND(G287*Parameters!$C$12,2))","v":""},{"$f":"IF(G287=\"\",\"\",IF(YEAR(Informatie!$C$1)=2015,ROUND(G287*Parameters!$J$27,2),ROUND(G287*VLOOKUP('Overzicht deelnemers'!I287,Parameters!$E$4:$G$49,2,FALSE),2)))","v":""},{"$f":"IF(G287=\"\",\"\",IF(YEAR(Informatie!$C$1)=2015,ROUND(L287*Parameters!$C$20,2),G287*Parameters!$J$27))","v":""},"",{"$f":"IF(G287=\"\",\"\",ROUND(G287*Parameters!$C$16,2))","v":""},{"$f":"IF(G287=\"\",\"\",ROUND(G287*VLOOKUP(J287,Parameters!$E$3:$F$49,2,FALSE),2))","v":""},{"$f":"IF(G287=\"\",\"\",ROUND(G287*Parameters!$J$66,2))","v":""},"",{"$f":"IF(G287=\"\",\"\",ROUND(G287*Parameters!$C$13,2))","v":""},{"$f":"IF(G287=\"\",\"\",IF(YEAR(Informatie!$C$1)=2015,ROUND(G287*Parameters!J$44,2),ROUND(G287*VLOOKUP('Overzicht deelnemers'!I287,Parameters!$E$4:$G$49,3,FALSE),2)))","v":""},{"$f":"IF(G287=\"\",\"\",IF(YEAR(Informatie!$C$1)=2015,ROUND(T287*Parameters!$C$20,2),ROUND(G287*Parameters!$J$44,2)))","v":""},"",{"$f":"IF(G287=\"\",\"\",ROUND(G287*Parameters!C$17,2))","v":""},{"$f":"IF(G287=\"\",\"\",ROUND(G287*VLOOKUP(J287,Parameters!E$4:G$49,3),2))","v":""},{"$f":"IF(G287=\"\",\"\",ROUND(G287*Parameters!J$83,2))","v":""},""]
[null,null,null,null,0,{"$f":"IF(C288=\"\",0,IF(C288<=Parameters!$C$3,C288,Parameters!$C$3))","v":0},{"$f":"IF(C288=\"\",\"\",IF(F288<Parameters!$C$4,\"\",(F288-Parameters!$C$4)*D288))","v":""},null,{"$f":"IF(H288=\"\",\"\",YEAR(+Informatie!$C$1)-YEAR(H288))","v":""},"",{"$f":"IF(G288=\"\",\"\",ROUND(G288*Parameters!$C$12,2))","v":""},{"$f":"IF(G288=\"\",\"\",IF(YEAR(Informatie!$C$1)=2015,ROUND(G288*Parameters!$J$27,2),ROUND(G288*VLOOKUP('Overzicht deelnemers'!I288,Parameters!$E$4:$G$49,2,FALSE),2)))","v":""},{"$f":"IF(G288=\"\",\"\",IF(YEAR(Informatie!$C$1)=2015,ROUND(L288*Parameters!$C$20,2),G288*Parameters!$J$27))","v":""},"",{"$f":"IF(G288=\"\",\"\",ROUND(G288*Parameters!$C$16,2))","v":""},{"$f":"IF(G288=\"\",\"\",ROUND(G288*VLOOKUP(J288,Parameters!$E$3:$F$49,2,FALSE),2))","v":""},{"$f":"IF(G288=\"\",\"\",ROUND(G288*Parameters!$J$66,2))","v":""},"",{"$f":"IF(G288=\"\",\"\",ROUND(G288*Parameters!$C$13,2))","v":""},{"$f":"IF(G288=\"\",\"\",IF(YEAR(Informatie!$C$1)=2015,ROUND(G288*Parameters!J$44,2),ROUND(G288*VLOOKUP('Overzicht deelnemers'!I288,Parameters!$E$4:$G$49,3,FALSE),2)))","v":""},{"$f":"IF(G288=\"\",\"\",IF(YEAR(Informatie!$C$1)=2015,ROUND(T288*Parameters!$C$20,2),ROUND(G288*Parameters!$J$44,2)))","v":""},"",{"$f":"IF(G288=\"\",\"\",ROUND(G288*Parameters!C$17,2))","v":""},{"$f":"IF(G288=\"\",\"\",ROUND(G288*VLOOKUP(J288,Parameters!E$4:G$49,3),2))","v":""},{"$f":"IF(G288=\"\",\"\",ROUND(G288*Parameters!J$83,2))","v":""},""]
[null,null,null,null,0,{"$f":"IF(C289=\"\",0,IF(C289<=Parameters!$C$3,C289,Parameters!$C$3))","v":0},{"$f":"IF(C289=\"\",\"\",IF(F289<Parameters!$C$4,\"\",(F289-Parameters!$C$4)*D289))","v":""},null,{"$f":"IF(H289=\"\",\"\",YEAR(+Informatie!$C$1)-YEAR(H289))","v":""},"",{"$f":"IF(G289=\"\",\"\",ROUND(G289*Parameters!$C$12,2))","v":""},{"$f":"IF(G289=\"\",\"\",IF(YEAR(Informatie!$C$1)=2015,ROUND(G289*Parameters!$J$27,2),ROUND(G289*VLOOKUP('Overzicht deelnemers'!I289,Parameters!$E$4:$G$49,2,FALSE),2)))","v":""},{"$f":"IF(G289=\"\",\"\",IF(YEAR(Informatie!$C$1)=2015,ROUND(L289*Parameters!$C$20,2),G289*Parameters!$J$27))","v":""},"",{"$f":"IF(G289=\"\",\"\",ROUND(G289*Parameters!$C$16,2))","v":""},{"$f":"IF(G289=\"\",\"\",ROUND(G289*VLOOKUP(J289,Parameters!$E$3:$F$49,2,FALSE),2))","v":""},{"$f":"IF(G289=\"\",\"\",ROUND(G289*Parameters!$J$66,2))","v":""},"",{"$f":"IF(G289=\"\",\"\",ROUND(G289*Parameters!$C$13,2))","v":""},{"$f":"IF(G289=\"\",\"\",IF(YEAR(Informatie!$C$1)=2015,ROUND(G289*Parameters!J$44,2),ROUND(G289*VLOOKUP('Overzicht deelnemers'!I289,Parameters!$E$4:$G$49,3,FALSE),2)))","v":""},{"$f":"IF(G289=\"\",\"\",IF(YEAR(Informatie!$C$1)=2015,ROUND(T289*Parameters!$C$20,2),ROUND(G289*Parameters!$J$44,2)))","v":""},"",{"$f":"IF(G289=\"\",\"\",ROUND(G289*Parameters!C$17,2))","v":""},{"$f":"IF(G289=\"\",\"\",ROUND(G289*VLOOKUP(J289,Parameters!E$4:G$49,3),2))","v":""},{"$f":"IF(G289=\"\",\"\",ROUND(G289*Parameters!J$83,2))","v":""},""]
[null,null,null,null,0,{"$f":"IF(C290=\"\",0,IF(C290<=Parameters!$C$3,C290,Parameters!$C$3))","v":0},{"$f":"IF(C290=\"\",\"\",IF(F290<Parameters!$C$4,\"\",(F290-Parameters!$C$4)*D290))","v":""},null,{"$f":"IF(H290=\"\",\"\",YEAR(+Informatie!$C$1)-YEAR(H290))","v":""},"",{"$f":"IF(G290=\"\",\"\",ROUND(G290*Parameters!$C$12,2))","v":""},{"$f":"IF(G290=\"\",\"\",IF(YEAR(Informatie!$C$1)=2015,ROUND(G290*Parameters!$J$27,2),ROUND(G290*VLOOKUP('Overzicht deelnemers'!I290,Parameters!$E$4:$G$49,2,FALSE),2)))","v":""},{"$f":"IF(G290=\"\",\"\",IF(YEAR(Informatie!$C$1)=2015,ROUND(L290*Parameters!$C$20,2),G290*Parameters!$J$27))","v":""},"",{"$f":"IF(G290=\"\",\"\",ROUND(G290*Parameters!$C$16,2))","v":""},{"$f":"IF(G290=\"\",\"\",ROUND(G290*VLOOKUP(J290,Parameters!$E$3:$F$49,2,FALSE),2))","v":""},{"$f":"IF(G290=\"\",\"\",ROUND(G290*Parameters!$J$66,2))","v":""},"",{"$f":"IF(G290=\"\",\"\",ROUND(G290*Parameters!$C$13,2))","v":""},{"$f":"IF(G290=\"\",\"\",IF(YEAR(Informatie!$C$1)=2015,ROUND(G290*Parameters!J$44,2),ROUND(G290*VLOOKUP('Overzicht deelnemers'!I290,Parameters!$E$4:$G$49,3,FALSE),2)))","v":""},{"$f":"IF(G290=\"\",\"\",IF(YEAR(Informatie!$C$1)=2015,ROUND(T290*Parameters!$C$20,2),ROUND(G290*Parameters!$J$44,2)))","v":""},"",{"$f":"IF(G290=\"\",\"\",ROUND(G290*Parameters!C$17,2))","v":""},{"$f":"IF(G290=\"\",\"\",ROUND(G290*VLOOKUP(J290,Parameters!E$4:G$49,3),2))","v":""},{"$f":"IF(G290=\"\",\"\",ROUND(G290*Parameters!J$83,2))","v":""},""]
[null,null,null,null,0,{"$f":"IF(C291=\"\",0,IF(C291<=Parameters!$C$3,C291,Parameters!$C$3))","v":0},{"$f":"IF(C291=\"\",\"\",IF(F291<Parameters!$C$4,\"\",(F291-Parameters!$C$4)*D291))","v":""},null,{"$f":"IF(H291=\"\",\"\",YEAR(+Informatie!$C$1)-YEAR(H291))","v":""},"",{"$f":"IF(G291=\"\",\"\",ROUND(G291*Parameters!$C$12,2))","v":""},{"$f":"IF(G291=\"\",\"\",IF(YEAR(Informatie!$C$1)=2015,ROUND(G291*Parameters!$J$27,2),ROUND(G291*VLOOKUP('Overzicht deelnemers'!I291,Parameters!$E$4:$G$49,2,FALSE),2)))","v":""},{"$f":"IF(G291=\"\",\"\",IF(YEAR(Informatie!$C$1)=2015,ROUND(L291*Parameters!$C$20,2),G291*Parameters!$J$27))","v":""},"",{"$f":"IF(G291=\"\",\"\",ROUND(G291*Parameters!$C$16,2))","v":""},{"$f":"IF(G291=\"\",\"\",ROUND(G291*VLOOKUP(J291,Parameters!$E$3:$F$49,2,FALSE),2))","v":""},{"$f":"IF(G291=\"\",\"\",ROUND(G291*Parameters!$J$66,2))","v":""},"",{"$f":"IF(G291=\"\",\"\",ROUND(G291*Parameters!$C$13,2))","v":""},{"$f":"IF(G291=\"\",\"\",IF(YEAR(Informatie!$C$1)=2015,ROUND(G291*Parameters!J$44,2),ROUND(G291*VLOOKUP('Overzicht deelnemers'!I291,Parameters!$E$4:$G$49,3,FALSE),2)))","v":""},{"$f":"IF(G291=\"\",\"\",IF(YEAR(Informatie!$C$1)=2015,ROUND(T291*Parameters!$C$20,2),ROUND(G291*Parameters!$J$44,2)))","v":""},"",{"$f":"IF(G291=\"\",\"\",ROUND(G291*Parameters!C$17,2))","v":""},{"$f":"IF(G291=\"\",\"\",ROUND(G291*VLOOKUP(J291,Parameters!E$4:G$49,3),2))","v":""},{"$f":"IF(G291=\"\",\"\",ROUND(G291*Parameters!J$83,2))","v":""},""]
[null,null,null,null,0,{"$f":"IF(C292=\"\",0,IF(C292<=Parameters!$C$3,C292,Parameters!$C$3))","v":0},{"$f":"IF(C292=\"\",\"\",IF(F292<Parameters!$C$4,\"\",(F292-Parameters!$C$4)*D292))","v":""},null,{"$f":"IF(H292=\"\",\"\",YEAR(+Informatie!$C$1)-YEAR(H292))","v":""},"",{"$f":"IF(G292=\"\",\"\",ROUND(G292*Parameters!$C$12,2))","v":""},{"$f":"IF(G292=\"\",\"\",IF(YEAR(Informatie!$C$1)=2015,ROUND(G292*Parameters!$J$27,2),ROUND(G292*VLOOKUP('Overzicht deelnemers'!I292,Parameters!$E$4:$G$49,2,FALSE),2)))","v":""},{"$f":"IF(G292=\"\",\"\",IF(YEAR(Informatie!$C$1)=2015,ROUND(L292*Parameters!$C$20,2),G292*Parameters!$J$27))","v":""},"",{"$f":"IF(G292=\"\",\"\",ROUND(G292*Parameters!$C$16,2))","v":""},{"$f":"IF(G292=\"\",\"\",ROUND(G292*VLOOKUP(J292,Parameters!$E$3:$F$49,2,FALSE),2))","v":""},{"$f":"IF(G292=\"\",\"\",ROUND(G292*Parameters!$J$66,2))","v":""},"",{"$f":"IF(G292=\"\",\"\",ROUND(G292*Parameters!$C$13,2))","v":""},{"$f":"IF(G292=\"\",\"\",IF(YEAR(Informatie!$C$1)=2015,ROUND(G292*Parameters!J$44,2),ROUND(G292*VLOOKUP('Overzicht deelnemers'!I292,Parameters!$E$4:$G$49,3,FALSE),2)))","v":""},{"$f":"IF(G292=\"\",\"\",IF(YEAR(Informatie!$C$1)=2015,ROUND(T292*Parameters!$C$20,2),ROUND(G292*Parameters!$J$44,2)))","v":""},"",{"$f":"IF(G292=\"\",\"\",ROUND(G292*Parameters!C$17,2))","v":""},{"$f":"IF(G292=\"\",\"\",ROUND(G292*VLOOKUP(J292,Parameters!E$4:G$49,3),2))","v":""},{"$f":"IF(G292=\"\",\"\",ROUND(G292*Parameters!J$83,2))","v":""},""]
[null,null,null,null,0,{"$f":"IF(C293=\"\",0,IF(C293<=Parameters!$C$3,C293,Parameters!$C$3))","v":0},{"$f":"IF(C293=\"\",\"\",IF(F293<Parameters!$C$4,\"\",(F293-Parameters!$C$4)*D293))","v":""},null,{"$f":"IF(H293=\"\",\"\",YEAR(+Informatie!$C$1)-YEAR(H293))","v":""},"",{"$f":"IF(G293=\"\",\"\",ROUND(G293*Parameters!$C$12,2))","v":""},{"$f":"IF(G293=\"\",\"\",IF(YEAR(Informatie!$C$1)=2015,ROUND(G293*Parameters!$J$27,2),ROUND(G293*VLOOKUP('Overzicht deelnemers'!I293,Parameters!$E$4:$G$49,2,FALSE),2)))","v":""},{"$f":"IF(G293=\"\",\"\",IF(YEAR(Informatie!$C$1)=2015,ROUND(L293*Parameters!$C$20,2),G293*Parameters!$J$27))","v":""},"",{"$f":"IF(G293=\"\",\"\",ROUND(G293*Parameters!$C$16,2))","v":""},{"$f":"IF(G293=\"\",\"\",ROUND(G293*VLOOKUP(J293,Parameters!$E$3:$F$49,2,FALSE),2))","v":""},{"$f":"IF(G293=\"\",\"\",ROUND(G293*Parameters!$J$66,2))","v":""},"",{"$f":"IF(G293=\"\",\"\",ROUND(G293*Parameters!$C$13,2))","v":""},{"$f":"IF(G293=\"\",\"\",IF(YEAR(Informatie!$C$1)=2015,ROUND(G293*Parameters!J$44,2),ROUND(G293*VLOOKUP('Overzicht deelnemers'!I293,Parameters!$E$4:$G$49,3,FALSE),2)))","v":""},{"$f":"IF(G293=\"\",\"\",IF(YEAR(Informatie!$C$1)=2015,ROUND(T293*Parameters!$C$20,2),ROUND(G293*Parameters!$J$44,2)))","v":""},"",{"$f":"IF(G293=\"\",\"\",ROUND(G293*Parameters!C$17,2))","v":""},{"$f":"IF(G293=\"\",\"\",ROUND(G293*VLOOKUP(J293,Parameters!E$4:G$49,3),2))","v":""},{"$f":"IF(G293=\"\",\"\",ROUND(G293*Parameters!J$83,2))","v":""},""]
[null,null,null,null,0,{"$f":"IF(C294=\"\",0,IF(C294<=Parameters!$C$3,C294,Parameters!$C$3))","v":0},{"$f":"IF(C294=\"\",\"\",IF(F294<Parameters!$C$4,\"\",(F294-Parameters!$C$4)*D294))","v":""},null,{"$f":"IF(H294=\"\",\"\",YEAR(+Informatie!$C$1)-YEAR(H294))","v":""},"",{"$f":"IF(G294=\"\",\"\",ROUND(G294*Parameters!$C$12,2))","v":""},{"$f":"IF(G294=\"\",\"\",IF(YEAR(Informatie!$C$1)=2015,ROUND(G294*Parameters!$J$27,2),ROUND(G294*VLOOKUP('Overzicht deelnemers'!I294,Parameters!$E$4:$G$49,2,FALSE),2)))","v":""},{"$f":"IF(G294=\"\",\"\",IF(YEAR(Informatie!$C$1)=2015,ROUND(L294*Parameters!$C$20,2),G294*Parameters!$J$27))","v":""},"",{"$f":"IF(G294=\"\",\"\",ROUND(G294*Parameters!$C$16,2))","v":""},{"$f":"IF(G294=\"\",\"\",ROUND(G294*VLOOKUP(J294,Parameters!$E$3:$F$49,2,FALSE),2))","v":""},{"$f":"IF(G294=\"\",\"\",ROUND(G294*Parameters!$J$66,2))","v":""},"",{"$f":"IF(G294=\"\",\"\",ROUND(G294*Parameters!$C$13,2))","v":""},{"$f":"IF(G294=\"\",\"\",IF(YEAR(Informatie!$C$1)=2015,ROUND(G294*Parameters!J$44,2),ROUND(G294*VLOOKUP('Overzicht deelnemers'!I294,Parameters!$E$4:$G$49,3,FALSE),2)))","v":""},{"$f":"IF(G294=\"\",\"\",IF(YEAR(Informatie!$C$1)=2015,ROUND(T294*Parameters!$C$20,2),ROUND(G294*Parameters!$J$44,2)))","v":""},"",{"$f":"IF(G294=\"\",\"\",ROUND(G294*Parameters!C$17,2))","v":""},{"$f":"IF(G294=\"\",\"\",ROUND(G294*VLOOKUP(J294,Parameters!E$4:G$49,3),2))","v":""},{"$f":"IF(G294=\"\",\"\",ROUND(G294*Parameters!J$83,2))","v":""},""]
[null,null,null,null,0,{"$f":"IF(C295=\"\",0,IF(C295<=Parameters!$C$3,C295,Parameters!$C$3))","v":0},{"$f":"IF(C295=\"\",\"\",IF(F295<Parameters!$C$4,\"\",(F295-Parameters!$C$4)*D295))","v":""},null,{"$f":"IF(H295=\"\",\"\",YEAR(+Informatie!$C$1)-YEAR(H295))","v":""},"",{"$f":"IF(G295=\"\",\"\",ROUND(G295*Parameters!$C$12,2))","v":""},{"$f":"IF(G295=\"\",\"\",IF(YEAR(Informatie!$C$1)=2015,ROUND(G295*Parameters!$J$27,2),ROUND(G295*VLOOKUP('Overzicht deelnemers'!I295,Parameters!$E$4:$G$49,2,FALSE),2)))","v":""},{"$f":"IF(G295=\"\",\"\",IF(YEAR(Informatie!$C$1)=2015,ROUND(L295*Parameters!$C$20,2),G295*Parameters!$J$27))","v":""},"",{"$f":"IF(G295=\"\",\"\",ROUND(G295*Parameters!$C$16,2))","v":""},{"$f":"IF(G295=\"\",\"\",ROUND(G295*VLOOKUP(J295,Parameters!$E$3:$F$49,2,FALSE),2))","v":""},{"$f":"IF(G295=\"\",\"\",ROUND(G295*Parameters!$J$66,2))","v":""},"",{"$f":"IF(G295=\"\",\"\",ROUND(G295*Parameters!$C$13,2))","v":""},{"$f":"IF(G295=\"\",\"\",IF(YEAR(Informatie!$C$1)=2015,ROUND(G295*Parameters!J$44,2),ROUND(G295*VLOOKUP('Overzicht deelnemers'!I295,Parameters!$E$4:$G$49,3,FALSE),2)))","v":""},{"$f":"IF(G295=\"\",\"\",IF(YEAR(Informatie!$C$1)=2015,ROUND(T295*Parameters!$C$20,2),ROUND(G295*Parameters!$J$44,2)))","v":""},"",{"$f":"IF(G295=\"\",\"\",ROUND(G295*Parameters!C$17,2))","v":""},{"$f":"IF(G295=\"\",\"\",ROUND(G295*VLOOKUP(J295,Parameters!E$4:G$49,3),2))","v":""},{"$f":"IF(G295=\"\",\"\",ROUND(G295*Parameters!J$83,2))","v":""},""]
[null,null,null,null,0,{"$f":"IF(C296=\"\",0,IF(C296<=Parameters!$C$3,C296,Parameters!$C$3))","v":0},{"$f":"IF(C296=\"\",\"\",IF(F296<Parameters!$C$4,\"\",(F296-Parameters!$C$4)*D296))","v":""},null,{"$f":"IF(H296=\"\",\"\",YEAR(+Informatie!$C$1)-YEAR(H296))","v":""},"",{"$f":"IF(G296=\"\",\"\",ROUND(G296*Parameters!$C$12,2))","v":""},{"$f":"IF(G296=\"\",\"\",IF(YEAR(Informatie!$C$1)=2015,ROUND(G296*Parameters!$J$27,2),ROUND(G296*VLOOKUP('Overzicht deelnemers'!I296,Parameters!$E$4:$G$49,2,FALSE),2)))","v":""},{"$f":"IF(G296=\"\",\"\",IF(YEAR(Informatie!$C$1)=2015,ROUND(L296*Parameters!$C$20,2),G296*Parameters!$J$27))","v":""},"",{"$f":"IF(G296=\"\",\"\",ROUND(G296*Parameters!$C$16,2))","v":""},{"$f":"IF(G296=\"\",\"\",ROUND(G296*VLOOKUP(J296,Parameters!$E$3:$F$49,2,FALSE),2))","v":""},{"$f":"IF(G296=\"\",\"\",ROUND(G296*Parameters!$J$66,2))","v":""},"",{"$f":"IF(G296=\"\",\"\",ROUND(G296*Parameters!$C$13,2))","v":""},{"$f":"IF(G296=\"\",\"\",IF(YEAR(Informatie!$C$1)=2015,ROUND(G296*Parameters!J$44,2),ROUND(G296*VLOOKUP('Overzicht deelnemers'!I296,Parameters!$E$4:$G$49,3,FALSE),2)))","v":""},{"$f":"IF(G296=\"\",\"\",IF(YEAR(Informatie!$C$1)=2015,ROUND(T296*Parameters!$C$20,2),ROUND(G296*Parameters!$J$44,2)))","v":""},"",{"$f":"IF(G296=\"\",\"\",ROUND(G296*Parameters!C$17,2))","v":""},{"$f":"IF(G296=\"\",\"\",ROUND(G296*VLOOKUP(J296,Parameters!E$4:G$49,3),2))","v":""},{"$f":"IF(G296=\"\",\"\",ROUND(G296*Parameters!J$83,2))","v":""},""]
[null,null,null,null,0,{"$f":"IF(C297=\"\",0,IF(C297<=Parameters!$C$3,C297,Parameters!$C$3))","v":0},{"$f":"IF(C297=\"\",\"\",IF(F297<Parameters!$C$4,\"\",(F297-Parameters!$C$4)*D297))","v":""},null,{"$f":"IF(H297=\"\",\"\",YEAR(+Informatie!$C$1)-YEAR(H297))","v":""},"",{"$f":"IF(G297=\"\",\"\",ROUND(G297*Parameters!$C$12,2))","v":""},{"$f":"IF(G297=\"\",\"\",IF(YEAR(Informatie!$C$1)=2015,ROUND(G297*Parameters!$J$27,2),ROUND(G297*VLOOKUP('Overzicht deelnemers'!I297,Parameters!$E$4:$G$49,2,FALSE),2)))","v":""},{"$f":"IF(G297=\"\",\"\",IF(YEAR(Informatie!$C$1)=2015,ROUND(L297*Parameters!$C$20,2),G297*Parameters!$J$27))","v":""},"",{"$f":"IF(G297=\"\",\"\",ROUND(G297*Parameters!$C$16,2))","v":""},{"$f":"IF(G297=\"\",\"\",ROUND(G297*VLOOKUP(J297,Parameters!$E$3:$F$49,2,FALSE),2))","v":""},{"$f":"IF(G297=\"\",\"\",ROUND(G297*Parameters!$J$66,2))","v":""},"",{"$f":"IF(G297=\"\",\"\",ROUND(G297*Parameters!$C$13,2))","v":""},{"$f":"IF(G297=\"\",\"\",IF(YEAR(Informatie!$C$1)=2015,ROUND(G297*Parameters!J$44,2),ROUND(G297*VLOOKUP('Overzicht deelnemers'!I297,Parameters!$E$4:$G$49,3,FALSE),2)))","v":""},{"$f":"IF(G297=\"\",\"\",IF(YEAR(Informatie!$C$1)=2015,ROUND(T297*Parameters!$C$20,2),ROUND(G297*Parameters!$J$44,2)))","v":""},"",{"$f":"IF(G297=\"\",\"\",ROUND(G297*Parameters!C$17,2))","v":""},{"$f":"IF(G297=\"\",\"\",ROUND(G297*VLOOKUP(J297,Parameters!E$4:G$49,3),2))","v":""},{"$f":"IF(G297=\"\",\"\",ROUND(G297*Parameters!J$83,2))","v":""},""]
[null,null,null,null,0,{"$f":"IF(C298=\"\",0,IF(C298<=Parameters!$C$3,C298,Parameters!$C$3))","v":0},{"$f":"IF(C298=\"\",\"\",IF(F298<Parameters!$C$4,\"\",(F298-Parameters!$C$4)*D298))","v":""},null,{"$f":"IF(H298=\"\",\"\",YEAR(+Informatie!$C$1)-YEAR(H298))","v":""},"",{"$f":"IF(G298=\"\",\"\",ROUND(G298*Parameters!$C$12,2))","v":""},{"$f":"IF(G298=\"\",\"\",IF(YEAR(Informatie!$C$1)=2015,ROUND(G298*Parameters!$J$27,2),ROUND(G298*VLOOKUP('Overzicht deelnemers'!I298,Parameters!$E$4:$G$49,2,FALSE),2)))","v":""},{"$f":"IF(G298=\"\",\"\",IF(YEAR(Informatie!$C$1)=2015,ROUND(L298*Parameters!$C$20,2),G298*Parameters!$J$27))","v":""},"",{"$f":"IF(G298=\"\",\"\",ROUND(G298*Parameters!$C$16,2))","v":""},{"$f":"IF(G298=\"\",\"\",ROUND(G298*VLOOKUP(J298,Parameters!$E$3:$F$49,2,FALSE),2))","v":""},{"$f":"IF(G298=\"\",\"\",ROUND(G298*Parameters!$J$66,2))","v":""},"",{"$f":"IF(G298=\"\",\"\",ROUND(G298*Parameters!$C$13,2))","v":""},{"$f":"IF(G298=\"\",\"\",IF(YEAR(Informatie!$C$1)=2015,ROUND(G298*Parameters!J$44,2),ROUND(G298*VLOOKUP('Overzicht deelnemers'!I298,Parameters!$E$4:$G$49,3,FALSE),2)))","v":""},{"$f":"IF(G298=\"\",\"\",IF(YEAR(Informatie!$C$1)=2015,ROUND(T298*Parameters!$C$20,2),ROUND(G298*Parameters!$J$44,2)))","v":""},"",{"$f":"IF(G298=\"\",\"\",ROUND(G298*Parameters!C$17,2))","v":""},{"$f":"IF(G298=\"\",\"\",ROUND(G298*VLOOKUP(J298,Parameters!E$4:G$49,3),2))","v":""},{"$f":"IF(G298=\"\",\"\",ROUND(G298*Parameters!J$83,2))","v":""},""]
[null,null,null,null,0,{"$f":"IF(C299=\"\",0,IF(C299<=Parameters!$C$3,C299,Parameters!$C$3))","v":0},{"$f":"IF(C299=\"\",\"\",IF(F299<Parameters!$C$4,\"\",(F299-Parameters!$C$4)*D299))","v":""},null,{"$f":"IF(H299=\"\",\"\",YEAR(+Informatie!$C$1)-YEAR(H299))","v":""},"",{"$f":"IF(G299=\"\",\"\",ROUND(G299*Parameters!$C$12,2))","v":""},{"$f":"IF(G299=\"\",\"\",IF(YEAR(Informatie!$C$1)=2015,ROUND(G299*Parameters!$J$27,2),ROUND(G299*VLOOKUP('Overzicht deelnemers'!I299,Parameters!$E$4:$G$49,2,FALSE),2)))","v":""},{"$f":"IF(G299=\"\",\"\",IF(YEAR(Informatie!$C$1)=2015,ROUND(L299*Parameters!$C$20,2),G299*Parameters!$J$27))","v":""},"",{"$f":"IF(G299=\"\",\"\",ROUND(G299*Parameters!$C$16,2))","v":""},{"$f":"IF(G299=\"\",\"\",ROUND(G299*VLOOKUP(J299,Parameters!$E$3:$F$49,2,FALSE),2))","v":""},{"$f":"IF(G299=\"\",\"\",ROUND(G299*Parameters!$J$66,2))","v":""},"",{"$f":"IF(G299=\"\",\"\",ROUND(G299*Parameters!$C$13,2))","v":""},{"$f":"IF(G299=\"\",\"\",IF(YEAR(Informatie!$C$1)=2015,ROUND(G299*Parameters!J$44,2),ROUND(G299*VLOOKUP('Overzicht deelnemers'!I299,Parameters!$E$4:$G$49,3,FALSE),2)))","v":""},{"$f":"IF(G299=\"\",\"\",IF(YEAR(Informatie!$C$1)=2015,ROUND(T299*Parameters!$C$20,2),ROUND(G299*Parameters!$J$44,2)))","v":""},"",{"$f":"IF(G299=\"\",\"\",ROUND(G299*Parameters!C$17,2))","v":""},{"$f":"IF(G299=\"\",\"\",ROUND(G299*VLOOKUP(J299,Parameters!E$4:G$49,3),2))","v":""},{"$f":"IF(G299=\"\",\"\",ROUND(G299*Parameters!J$83,2))","v":""},""]
[null,null,null,null,0,{"$f":"IF(C300=\"\",0,IF(C300<=Parameters!$C$3,C300,Parameters!$C$3))","v":0},{"$f":"IF(C300=\"\",\"\",IF(F300<Parameters!$C$4,\"\",(F300-Parameters!$C$4)*D300))","v":""},null,{"$f":"IF(H300=\"\",\"\",YEAR(+Informatie!$C$1)-YEAR(H300))","v":""},"",{"$f":"IF(G300=\"\",\"\",ROUND(G300*Parameters!$C$12,2))","v":""},{"$f":"IF(G300=\"\",\"\",IF(YEAR(Informatie!$C$1)=2015,ROUND(G300*Parameters!$J$27,2),ROUND(G300*VLOOKUP('Overzicht deelnemers'!I300,Parameters!$E$4:$G$49,2,FALSE),2)))","v":""},{"$f":"IF(G300=\"\",\"\",IF(YEAR(Informatie!$C$1)=2015,ROUND(L300*Parameters!$C$20,2),G300*Parameters!$J$27))","v":""},"",{"$f":"IF(G300=\"\",\"\",ROUND(G300*Parameters!$C$16,2))","v":""},{"$f":"IF(G300=\"\",\"\",ROUND(G300*VLOOKUP(J300,Parameters!$E$3:$F$49,2,FALSE),2))","v":""},{"$f":"IF(G300=\"\",\"\",ROUND(G300*Parameters!$J$66,2))","v":""},"",{"$f":"IF(G300=\"\",\"\",ROUND(G300*Parameters!$C$13,2))","v":""},{"$f":"IF(G300=\"\",\"\",IF(YEAR(Informatie!$C$1)=2015,ROUND(G300*Parameters!J$44,2),ROUND(G300*VLOOKUP('Overzicht deelnemers'!I300,Parameters!$E$4:$G$49,3,FALSE),2)))","v":""},{"$f":"IF(G300=\"\",\"\",IF(YEAR(Informatie!$C$1)=2015,ROUND(T300*Parameters!$C$20,2),ROUND(G300*Parameters!$J$44,2)))","v":""},"",{"$f":"IF(G300=\"\",\"\",ROUND(G300*Parameters!C$17,2))","v":""},{"$f":"IF(G300=\"\",\"\",ROUND(G300*VLOOKUP(J300,Parameters!E$4:G$49,3),2))","v":""},{"$f":"IF(G300=\"\",\"\",ROUND(G300*Parameters!J$83,2))","v":""},""]
[null,null,null,null,0,{"$f":"IF(C301=\"\",0,IF(C301<=Parameters!$C$3,C301,Parameters!$C$3))","v":0},{"$f":"IF(C301=\"\",\"\",IF(F301<Parameters!$C$4,\"\",(F301-Parameters!$C$4)*D301))","v":""},null,{"$f":"IF(H301=\"\",\"\",YEAR(+Informatie!$C$1)-YEAR(H301))","v":""},"",{"$f":"IF(G301=\"\",\"\",ROUND(G301*Parameters!$C$12,2))","v":""},{"$f":"IF(G301=\"\",\"\",IF(YEAR(Informatie!$C$1)=2015,ROUND(G301*Parameters!$J$27,2),ROUND(G301*VLOOKUP('Overzicht deelnemers'!I301,Parameters!$E$4:$G$49,2,FALSE),2)))","v":""},{"$f":"IF(G301=\"\",\"\",IF(YEAR(Informatie!$C$1)=2015,ROUND(L301*Parameters!$C$20,2),G301*Parameters!$J$27))","v":""},"",{"$f":"IF(G301=\"\",\"\",ROUND(G301*Parameters!$C$16,2))","v":""},{"$f":"IF(G301=\"\",\"\",ROUND(G301*VLOOKUP(J301,Parameters!$E$3:$F$49,2,FALSE),2))","v":""},{"$f":"IF(G301=\"\",\"\",ROUND(G301*Parameters!$J$66,2))","v":""},"",{"$f":"IF(G301=\"\",\"\",ROUND(G301*Parameters!$C$13,2))","v":""},{"$f":"IF(G301=\"\",\"\",IF(YEAR(Informatie!$C$1)=2015,ROUND(G301*Parameters!J$44,2),ROUND(G301*VLOOKUP('Overzicht deelnemers'!I301,Parameters!$E$4:$G$49,3,FALSE),2)))","v":""},{"$f":"IF(G301=\"\",\"\",IF(YEAR(Informatie!$C$1)=2015,ROUND(T301*Parameters!$C$20,2),ROUND(G301*Parameters!$J$44,2)))","v":""},"",{"$f":"IF(G301=\"\",\"\",ROUND(G301*Parameters!C$17,2))","v":""},{"$f":"IF(G301=\"\",\"\",ROUND(G301*VLOOKUP(J301,Parameters!E$4:G$49,3),2))","v":""},{"$f":"IF(G301=\"\",\"\",ROUND(G301*Parameters!J$83,2))","v":""},""]
[null,null,null,null,0,{"$f":"IF(C302=\"\",0,IF(C302<=Parameters!$C$3,C302,Parameters!$C$3))","v":0},{"$f":"IF(C302=\"\",\"\",IF(F302<Parameters!$C$4,\"\",(F302-Parameters!$C$4)*D302))","v":""},null,{"$f":"IF(H302=\"\",\"\",YEAR(+Informatie!$C$1)-YEAR(H302))","v":""},"",{"$f":"IF(G302=\"\",\"\",ROUND(G302*Parameters!$C$12,2))","v":""},{"$f":"IF(G302=\"\",\"\",IF(YEAR(Informatie!$C$1)=2015,ROUND(G302*Parameters!$J$27,2),ROUND(G302*VLOOKUP('Overzicht deelnemers'!I302,Parameters!$E$4:$G$49,2,FALSE),2)))","v":""},{"$f":"IF(G302=\"\",\"\",IF(YEAR(Informatie!$C$1)=2015,ROUND(L302*Parameters!$C$20,2),G302*Parameters!$J$27))","v":""},"",{"$f":"IF(G302=\"\",\"\",ROUND(G302*Parameters!$C$16,2))","v":""},{"$f":"IF(G302=\"\",\"\",ROUND(G302*VLOOKUP(J302,Parameters!$E$3:$F$49,2,FALSE),2))","v":""},{"$f":"IF(G302=\"\",\"\",ROUND(G302*Parameters!$J$66,2))","v":""},"",{"$f":"IF(G302=\"\",\"\",ROUND(G302*Parameters!$C$13,2))","v":""},{"$f":"IF(G302=\"\",\"\",IF(YEAR(Informatie!$C$1)=2015,ROUND(G302*Parameters!J$44,2),ROUND(G302*VLOOKUP('Overzicht deelnemers'!I302,Parameters!$E$4:$G$49,3,FALSE),2)))","v":""},{"$f":"IF(G302=\"\",\"\",IF(YEAR(Informatie!$C$1)=2015,ROUND(T302*Parameters!$C$20,2),ROUND(G302*Parameters!$J$44,2)))","v":""},"",{"$f":"IF(G302=\"\",\"\",ROUND(G302*Parameters!C$17,2))","v":""},{"$f":"IF(G302=\"\",\"\",ROUND(G302*VLOOKUP(J302,Parameters!E$4:G$49,3),2))","v":""},{"$f":"IF(G302=\"\",\"\",ROUND(G302*Parameters!J$83,2))","v":""},""]
[null,null,null,null,0,{"$f":"IF(C303=\"\",0,IF(C303<=Parameters!$C$3,C303,Parameters!$C$3))","v":0},{"$f":"IF(C303=\"\",\"\",IF(F303<Parameters!$C$4,\"\",(F303-Parameters!$C$4)*D303))","v":""},null,{"$f":"IF(H303=\"\",\"\",YEAR(+Informatie!$C$1)-YEAR(H303))","v":""},"",{"$f":"IF(G303=\"\",\"\",ROUND(G303*Parameters!$C$12,2))","v":""},{"$f":"IF(G303=\"\",\"\",IF(YEAR(Informatie!$C$1)=2015,ROUND(G303*Parameters!$J$27,2),ROUND(G303*VLOOKUP('Overzicht deelnemers'!I303,Parameters!$E$4:$G$49,2,FALSE),2)))","v":""},{"$f":"IF(G303=\"\",\"\",IF(YEAR(Informatie!$C$1)=2015,ROUND(L303*Parameters!$C$20,2),G303*Parameters!$J$27))","v":""},"",{"$f":"IF(G303=\"\",\"\",ROUND(G303*Parameters!$C$16,2))","v":""},{"$f":"IF(G303=\"\",\"\",ROUND(G303*VLOOKUP(J303,Parameters!$E$3:$F$49,2,FALSE),2))","v":""},{"$f":"IF(G303=\"\",\"\",ROUND(G303*Parameters!$J$66,2))","v":""},"",{"$f":"IF(G303=\"\",\"\",ROUND(G303*Parameters!$C$13,2))","v":""},{"$f":"IF(G303=\"\",\"\",IF(YEAR(Informatie!$C$1)=2015,ROUND(G303*Parameters!J$44,2),ROUND(G303*VLOOKUP('Overzicht deelnemers'!I303,Parameters!$E$4:$G$49,3,FALSE),2)))","v":""},{"$f":"IF(G303=\"\",\"\",IF(YEAR(Informatie!$C$1)=2015,ROUND(T303*Parameters!$C$20,2),ROUND(G303*Parameters!$J$44,2)))","v":""},"",{"$f":"IF(G303=\"\",\"\",ROUND(G303*Parameters!C$17,2))","v":""},{"$f":"IF(G303=\"\",\"\",ROUND(G303*VLOOKUP(J303,Parameters!E$4:G$49,3),2))","v":""},{"$f":"IF(G303=\"\",\"\",ROUND(G303*Parameters!J$83,2))","v":""},""]
[null,null,null,null,0,{"$f":"IF(C304=\"\",0,IF(C304<=Parameters!$C$3,C304,Parameters!$C$3))","v":0},{"$f":"IF(C304=\"\",\"\",IF(F304<Parameters!$C$4,\"\",(F304-Parameters!$C$4)*D304))","v":""},null,{"$f":"IF(H304=\"\",\"\",YEAR(+Informatie!$C$1)-YEAR(H304))","v":""},"",{"$f":"IF(G304=\"\",\"\",ROUND(G304*Parameters!$C$12,2))","v":""},{"$f":"IF(G304=\"\",\"\",IF(YEAR(Informatie!$C$1)=2015,ROUND(G304*Parameters!$J$27,2),ROUND(G304*VLOOKUP('Overzicht deelnemers'!I304,Parameters!$E$4:$G$49,2,FALSE),2)))","v":""},{"$f":"IF(G304=\"\",\"\",IF(YEAR(Informatie!$C$1)=2015,ROUND(L304*Parameters!$C$20,2),G304*Parameters!$J$27))","v":""},"",{"$f":"IF(G304=\"\",\"\",ROUND(G304*Parameters!$C$16,2))","v":""},{"$f":"IF(G304=\"\",\"\",ROUND(G304*VLOOKUP(J304,Parameters!$E$3:$F$49,2,FALSE),2))","v":""},{"$f":"IF(G304=\"\",\"\",ROUND(G304*Parameters!$J$66,2))","v":""},"",{"$f":"IF(G304=\"\",\"\",ROUND(G304*Parameters!$C$13,2))","v":""},{"$f":"IF(G304=\"\",\"\",IF(YEAR(Informatie!$C$1)=2015,ROUND(G304*Parameters!J$44,2),ROUND(G304*VLOOKUP('Overzicht deelnemers'!I304,Parameters!$E$4:$G$49,3,FALSE),2)))","v":""},{"$f":"IF(G304=\"\",\"\",IF(YEAR(Informatie!$C$1)=2015,ROUND(T304*Parameters!$C$20,2),ROUND(G304*Parameters!$J$44,2)))","v":""},"",{"$f":"IF(G304=\"\",\"\",ROUND(G304*Parameters!C$17,2))","v":""},{"$f":"IF(G304=\"\",\"\",ROUND(G304*VLOOKUP(J304,Parameters!E$4:G$49,3),2))","v":""},{"$f":"IF(G304=\"\",\"\",ROUND(G304*Parameters!J$83,2))","v":""},""]
[null,null,null,null,0,{"$f":"IF(C305=\"\",0,IF(C305<=Parameters!$C$3,C305,Parameters!$C$3))","v":0},{"$f":"IF(C305=\"\",\"\",IF(F305<Parameters!$C$4,\"\",(F305-Parameters!$C$4)*D305))","v":""},null,{"$f":"IF(H305=\"\",\"\",YEAR(+Informatie!$C$1)-YEAR(H305))","v":""},"",{"$f":"IF(G305=\"\",\"\",ROUND(G305*Parameters!$C$12,2))","v":""},{"$f":"IF(G305=\"\",\"\",IF(YEAR(Informatie!$C$1)=2015,ROUND(G305*Parameters!$J$27,2),ROUND(G305*VLOOKUP('Overzicht deelnemers'!I305,Parameters!$E$4:$G$49,2,FALSE),2)))","v":""},{"$f":"IF(G305=\"\",\"\",IF(YEAR(Informatie!$C$1)=2015,ROUND(L305*Parameters!$C$20,2),G305*Parameters!$J$27))","v":""},"",{"$f":"IF(G305=\"\",\"\",ROUND(G305*Parameters!$C$16,2))","v":""},{"$f":"IF(G305=\"\",\"\",ROUND(G305*VLOOKUP(J305,Parameters!$E$3:$F$49,2,FALSE),2))","v":""},{"$f":"IF(G305=\"\",\"\",ROUND(G305*Parameters!$J$66,2))","v":""},"",{"$f":"IF(G305=\"\",\"\",ROUND(G305*Parameters!$C$13,2))","v":""},{"$f":"IF(G305=\"\",\"\",IF(YEAR(Informatie!$C$1)=2015,ROUND(G305*Parameters!J$44,2),ROUND(G305*VLOOKUP('Overzicht deelnemers'!I305,Parameters!$E$4:$G$49,3,FALSE),2)))","v":""},{"$f":"IF(G305=\"\",\"\",IF(YEAR(Informatie!$C$1)=2015,ROUND(T305*Parameters!$C$20,2),ROUND(G305*Parameters!$J$44,2)))","v":""},"",{"$f":"IF(G305=\"\",\"\",ROUND(G305*Parameters!C$17,2))","v":""},{"$f":"IF(G305=\"\",\"\",ROUND(G305*VLOOKUP(J305,Parameters!E$4:G$49,3),2))","v":""},{"$f":"IF(G305=\"\",\"\",ROUND(G305*Parameters!J$83,2))","v":""},""]
[null,null,null,null,0,{"$f":"IF(C306=\"\",0,IF(C306<=Parameters!$C$3,C306,Parameters!$C$3))","v":0},{"$f":"IF(C306=\"\",\"\",IF(F306<Parameters!$C$4,\"\",(F306-Parameters!$C$4)*D306))","v":""},null,{"$f":"IF(H306=\"\",\"\",YEAR(+Informatie!$C$1)-YEAR(H306))","v":""},"",{"$f":"IF(G306=\"\",\"\",ROUND(G306*Parameters!$C$12,2))","v":""},{"$f":"IF(G306=\"\",\"\",IF(YEAR(Informatie!$C$1)=2015,ROUND(G306*Parameters!$J$27,2),ROUND(G306*VLOOKUP('Overzicht deelnemers'!I306,Parameters!$E$4:$G$49,2,FALSE),2)))","v":""},{"$f":"IF(G306=\"\",\"\",IF(YEAR(Informatie!$C$1)=2015,ROUND(L306*Parameters!$C$20,2),G306*Parameters!$J$27))","v":""},"",{"$f":"IF(G306=\"\",\"\",ROUND(G306*Parameters!$C$16,2))","v":""},{"$f":"IF(G306=\"\",\"\",ROUND(G306*VLOOKUP(J306,Parameters!$E$3:$F$49,2,FALSE),2))","v":""},{"$f":"IF(G306=\"\",\"\",ROUND(G306*Parameters!$J$66,2))","v":""},"",{"$f":"IF(G306=\"\",\"\",ROUND(G306*Parameters!$C$13,2))","v":""},{"$f":"IF(G306=\"\",\"\",IF(YEAR(Informatie!$C$1)=2015,ROUND(G306*Parameters!J$44,2),ROUND(G306*VLOOKUP('Overzicht deelnemers'!I306,Parameters!$E$4:$G$49,3,FALSE),2)))","v":""},{"$f":"IF(G306=\"\",\"\",IF(YEAR(Informatie!$C$1)=2015,ROUND(T306*Parameters!$C$20,2),ROUND(G306*Parameters!$J$44,2)))","v":""},"",{"$f":"IF(G306=\"\",\"\",ROUND(G306*Parameters!C$17,2))","v":""},{"$f":"IF(G306=\"\",\"\",ROUND(G306*VLOOKUP(J306,Parameters!E$4:G$49,3),2))","v":""},{"$f":"IF(G306=\"\",\"\",ROUND(G306*Parameters!J$83,2))","v":""},""]
[null,null,null,null,0,{"$f":"IF(C307=\"\",0,IF(C307<=Parameters!$C$3,C307,Parameters!$C$3))","v":0},{"$f":"IF(C307=\"\",\"\",IF(F307<Parameters!$C$4,\"\",(F307-Parameters!$C$4)*D307))","v":""},null,{"$f":"IF(H307=\"\",\"\",YEAR(+Informatie!$C$1)-YEAR(H307))","v":""},"",{"$f":"IF(G307=\"\",\"\",ROUND(G307*Parameters!$C$12,2))","v":""},{"$f":"IF(G307=\"\",\"\",IF(YEAR(Informatie!$C$1)=2015,ROUND(G307*Parameters!$J$27,2),ROUND(G307*VLOOKUP('Overzicht deelnemers'!I307,Parameters!$E$4:$G$49,2,FALSE),2)))","v":""},{"$f":"IF(G307=\"\",\"\",IF(YEAR(Informatie!$C$1)=2015,ROUND(L307*Parameters!$C$20,2),G307*Parameters!$J$27))","v":""},"",{"$f":"IF(G307=\"\",\"\",ROUND(G307*Parameters!$C$16,2))","v":""},{"$f":"IF(G307=\"\",\"\",ROUND(G307*VLOOKUP(J307,Parameters!$E$3:$F$49,2,FALSE),2))","v":""},{"$f":"IF(G307=\"\",\"\",ROUND(G307*Parameters!$J$66,2))","v":""},"",{"$f":"IF(G307=\"\",\"\",ROUND(G307*Parameters!$C$13,2))","v":""},{"$f":"IF(G307=\"\",\"\",IF(YEAR(Informatie!$C$1)=2015,ROUND(G307*Parameters!J$44,2),ROUND(G307*VLOOKUP('Overzicht deelnemers'!I307,Parameters!$E$4:$G$49,3,FALSE),2)))","v":""},{"$f":"IF(G307=\"\",\"\",IF(YEAR(Informatie!$C$1)=2015,ROUND(T307*Parameters!$C$20,2),ROUND(G307*Parameters!$J$44,2)))","v":""},"",{"$f":"IF(G307=\"\",\"\",ROUND(G307*Parameters!C$17,2))","v":""},{"$f":"IF(G307=\"\",\"\",ROUND(G307*VLOOKUP(J307,Parameters!E$4:G$49,3),2))","v":""},{"$f":"IF(G307=\"\",\"\",ROUND(G307*Parameters!J$83,2))","v":""},""]
[null,null,null,null,0,{"$f":"IF(C308=\"\",0,IF(C308<=Parameters!$C$3,C308,Parameters!$C$3))","v":0},{"$f":"IF(C308=\"\",\"\",IF(F308<Parameters!$C$4,\"\",(F308-Parameters!$C$4)*D308))","v":""},null,{"$f":"IF(H308=\"\",\"\",YEAR(+Informatie!$C$1)-YEAR(H308))","v":""},"",{"$f":"IF(G308=\"\",\"\",ROUND(G308*Parameters!$C$12,2))","v":""},{"$f":"IF(G308=\"\",\"\",IF(YEAR(Informatie!$C$1)=2015,ROUND(G308*Parameters!$J$27,2),ROUND(G308*VLOOKUP('Overzicht deelnemers'!I308,Parameters!$E$4:$G$49,2,FALSE),2)))","v":""},{"$f":"IF(G308=\"\",\"\",IF(YEAR(Informatie!$C$1)=2015,ROUND(L308*Parameters!$C$20,2),G308*Parameters!$J$27))","v":""},"",{"$f":"IF(G308=\"\",\"\",ROUND(G308*Parameters!$C$16,2))","v":""},{"$f":"IF(G308=\"\",\"\",ROUND(G308*VLOOKUP(J308,Parameters!$E$3:$F$49,2,FALSE),2))","v":""},{"$f":"IF(G308=\"\",\"\",ROUND(G308*Parameters!$J$66,2))","v":""},"",{"$f":"IF(G308=\"\",\"\",ROUND(G308*Parameters!$C$13,2))","v":""},{"$f":"IF(G308=\"\",\"\",IF(YEAR(Informatie!$C$1)=2015,ROUND(G308*Parameters!J$44,2),ROUND(G308*VLOOKUP('Overzicht deelnemers'!I308,Parameters!$E$4:$G$49,3,FALSE),2)))","v":""},{"$f":"IF(G308=\"\",\"\",IF(YEAR(Informatie!$C$1)=2015,ROUND(T308*Parameters!$C$20,2),ROUND(G308*Parameters!$J$44,2)))","v":""},"",{"$f":"IF(G308=\"\",\"\",ROUND(G308*Parameters!C$17,2))","v":""},{"$f":"IF(G308=\"\",\"\",ROUND(G308*VLOOKUP(J308,Parameters!E$4:G$49,3),2))","v":""},{"$f":"IF(G308=\"\",\"\",ROUND(G308*Parameters!J$83,2))","v":""},""]
[null,null,null,null,0,{"$f":"IF(C309=\"\",0,IF(C309<=Parameters!$C$3,C309,Parameters!$C$3))","v":0},{"$f":"IF(C309=\"\",\"\",IF(F309<Parameters!$C$4,\"\",(F309-Parameters!$C$4)*D309))","v":""},null,{"$f":"IF(H309=\"\",\"\",YEAR(+Informatie!$C$1)-YEAR(H309))","v":""},"",{"$f":"IF(G309=\"\",\"\",ROUND(G309*Parameters!$C$12,2))","v":""},{"$f":"IF(G309=\"\",\"\",IF(YEAR(Informatie!$C$1)=2015,ROUND(G309*Parameters!$J$27,2),ROUND(G309*VLOOKUP('Overzicht deelnemers'!I309,Parameters!$E$4:$G$49,2,FALSE),2)))","v":""},{"$f":"IF(G309=\"\",\"\",IF(YEAR(Informatie!$C$1)=2015,ROUND(L309*Parameters!$C$20,2),G309*Parameters!$J$27))","v":""},"",{"$f":"IF(G309=\"\",\"\",ROUND(G309*Parameters!$C$16,2))","v":""},{"$f":"IF(G309=\"\",\"\",ROUND(G309*VLOOKUP(J309,Parameters!$E$3:$F$49,2,FALSE),2))","v":""},{"$f":"IF(G309=\"\",\"\",ROUND(G309*Parameters!$J$66,2))","v":""},"",{"$f":"IF(G309=\"\",\"\",ROUND(G309*Parameters!$C$13,2))","v":""},{"$f":"IF(G309=\"\",\"\",IF(YEAR(Informatie!$C$1)=2015,ROUND(G309*Parameters!J$44,2),ROUND(G309*VLOOKUP('Overzicht deelnemers'!I309,Parameters!$E$4:$G$49,3,FALSE),2)))","v":""},{"$f":"IF(G309=\"\",\"\",IF(YEAR(Informatie!$C$1)=2015,ROUND(T309*Parameters!$C$20,2),ROUND(G309*Parameters!$J$44,2)))","v":""},"",{"$f":"IF(G309=\"\",\"\",ROUND(G309*Parameters!C$17,2))","v":""},{"$f":"IF(G309=\"\",\"\",ROUND(G309*VLOOKUP(J309,Parameters!E$4:G$49,3),2))","v":""},{"$f":"IF(G309=\"\",\"\",ROUND(G309*Parameters!J$83,2))","v":""},""]
[null,null,null,null,0,{"$f":"IF(C310=\"\",0,IF(C310<=Parameters!$C$3,C310,Parameters!$C$3))","v":0},{"$f":"IF(C310=\"\",\"\",IF(F310<Parameters!$C$4,\"\",(F310-Parameters!$C$4)*D310))","v":""},null,{"$f":"IF(H310=\"\",\"\",YEAR(+Informatie!$C$1)-YEAR(H310))","v":""},"",{"$f":"IF(G310=\"\",\"\",ROUND(G310*Parameters!$C$12,2))","v":""},{"$f":"IF(G310=\"\",\"\",IF(YEAR(Informatie!$C$1)=2015,ROUND(G310*Parameters!$J$27,2),ROUND(G310*VLOOKUP('Overzicht deelnemers'!I310,Parameters!$E$4:$G$49,2,FALSE),2)))","v":""},{"$f":"IF(G310=\"\",\"\",IF(YEAR(Informatie!$C$1)=2015,ROUND(L310*Parameters!$C$20,2),G310*Parameters!$J$27))","v":""},"",{"$f":"IF(G310=\"\",\"\",ROUND(G310*Parameters!$C$16,2))","v":""},{"$f":"IF(G310=\"\",\"\",ROUND(G310*VLOOKUP(J310,Parameters!$E$3:$F$49,2,FALSE),2))","v":""},{"$f":"IF(G310=\"\",\"\",ROUND(G310*Parameters!$J$66,2))","v":""},"",{"$f":"IF(G310=\"\",\"\",ROUND(G310*Parameters!$C$13,2))","v":""},{"$f":"IF(G310=\"\",\"\",IF(YEAR(Informatie!$C$1)=2015,ROUND(G310*Parameters!J$44,2),ROUND(G310*VLOOKUP('Overzicht deelnemers'!I310,Parameters!$E$4:$G$49,3,FALSE),2)))","v":""},{"$f":"IF(G310=\"\",\"\",IF(YEAR(Informatie!$C$1)=2015,ROUND(T310*Parameters!$C$20,2),ROUND(G310*Parameters!$J$44,2)))","v":""},"",{"$f":"IF(G310=\"\",\"\",ROUND(G310*Parameters!C$17,2))","v":""},{"$f":"IF(G310=\"\",\"\",ROUND(G310*VLOOKUP(J310,Parameters!E$4:G$49,3),2))","v":""},{"$f":"IF(G310=\"\",\"\",ROUND(G310*Parameters!J$83,2))","v":""},""]
[null,null,null,null,0,{"$f":"IF(C311=\"\",0,IF(C311<=Parameters!$C$3,C311,Parameters!$C$3))","v":0},{"$f":"IF(C311=\"\",\"\",IF(F311<Parameters!$C$4,\"\",(F311-Parameters!$C$4)*D311))","v":""},null,{"$f":"IF(H311=\"\",\"\",YEAR(+Informatie!$C$1)-YEAR(H311))","v":""},"",{"$f":"IF(G311=\"\",\"\",ROUND(G311*Parameters!$C$12,2))","v":""},{"$f":"IF(G311=\"\",\"\",IF(YEAR(Informatie!$C$1)=2015,ROUND(G311*Parameters!$J$27,2),ROUND(G311*VLOOKUP('Overzicht deelnemers'!I311,Parameters!$E$4:$G$49,2,FALSE),2)))","v":""},{"$f":"IF(G311=\"\",\"\",IF(YEAR(Informatie!$C$1)=2015,ROUND(L311*Parameters!$C$20,2),G311*Parameters!$J$27))","v":""},"",{"$f":"IF(G311=\"\",\"\",ROUND(G311*Parameters!$C$16,2))","v":""},{"$f":"IF(G311=\"\",\"\",ROUND(G311*VLOOKUP(J311,Parameters!$E$3:$F$49,2,FALSE),2))","v":""},{"$f":"IF(G311=\"\",\"\",ROUND(G311*Parameters!$J$66,2))","v":""},"",{"$f":"IF(G311=\"\",\"\",ROUND(G311*Parameters!$C$13,2))","v":""},{"$f":"IF(G311=\"\",\"\",IF(YEAR(Informatie!$C$1)=2015,ROUND(G311*Parameters!J$44,2),ROUND(G311*VLOOKUP('Overzicht deelnemers'!I311,Parameters!$E$4:$G$49,3,FALSE),2)))","v":""},{"$f":"IF(G311=\"\",\"\",IF(YEAR(Informatie!$C$1)=2015,ROUND(T311*Parameters!$C$20,2),ROUND(G311*Parameters!$J$44,2)))","v":""},"",{"$f":"IF(G311=\"\",\"\",ROUND(G311*Parameters!C$17,2))","v":""},{"$f":"IF(G311=\"\",\"\",ROUND(G311*VLOOKUP(J311,Parameters!E$4:G$49,3),2))","v":""},{"$f":"IF(G311=\"\",\"\",ROUND(G311*Parameters!J$83,2))","v":""},""]
[null,null,null,null,0,{"$f":"IF(C312=\"\",0,IF(C312<=Parameters!$C$3,C312,Parameters!$C$3))","v":0},{"$f":"IF(C312=\"\",\"\",IF(F312<Parameters!$C$4,\"\",(F312-Parameters!$C$4)*D312))","v":""},null,{"$f":"IF(H312=\"\",\"\",YEAR(+Informatie!$C$1)-YEAR(H312))","v":""},"",{"$f":"IF(G312=\"\",\"\",ROUND(G312*Parameters!$C$12,2))","v":""},{"$f":"IF(G312=\"\",\"\",IF(YEAR(Informatie!$C$1)=2015,ROUND(G312*Parameters!$J$27,2),ROUND(G312*VLOOKUP('Overzicht deelnemers'!I312,Parameters!$E$4:$G$49,2,FALSE),2)))","v":""},{"$f":"IF(G312=\"\",\"\",IF(YEAR(Informatie!$C$1)=2015,ROUND(L312*Parameters!$C$20,2),G312*Parameters!$J$27))","v":""},"",{"$f":"IF(G312=\"\",\"\",ROUND(G312*Parameters!$C$16,2))","v":""},{"$f":"IF(G312=\"\",\"\",ROUND(G312*VLOOKUP(J312,Parameters!$E$3:$F$49,2,FALSE),2))","v":""},{"$f":"IF(G312=\"\",\"\",ROUND(G312*Parameters!$J$66,2))","v":""},"",{"$f":"IF(G312=\"\",\"\",ROUND(G312*Parameters!$C$13,2))","v":""},{"$f":"IF(G312=\"\",\"\",IF(YEAR(Informatie!$C$1)=2015,ROUND(G312*Parameters!J$44,2),ROUND(G312*VLOOKUP('Overzicht deelnemers'!I312,Parameters!$E$4:$G$49,3,FALSE),2)))","v":""},{"$f":"IF(G312=\"\",\"\",IF(YEAR(Informatie!$C$1)=2015,ROUND(T312*Parameters!$C$20,2),ROUND(G312*Parameters!$J$44,2)))","v":""},"",{"$f":"IF(G312=\"\",\"\",ROUND(G312*Parameters!C$17,2))","v":""},{"$f":"IF(G312=\"\",\"\",ROUND(G312*VLOOKUP(J312,Parameters!E$4:G$49,3),2))","v":""},{"$f":"IF(G312=\"\",\"\",ROUND(G312*Parameters!J$83,2))","v":""},""]
[null,null,null,null,0,{"$f":"IF(C313=\"\",0,IF(C313<=Parameters!$C$3,C313,Parameters!$C$3))","v":0},{"$f":"IF(C313=\"\",\"\",IF(F313<Parameters!$C$4,\"\",(F313-Parameters!$C$4)*D313))","v":""},null,{"$f":"IF(H313=\"\",\"\",YEAR(+Informatie!$C$1)-YEAR(H313))","v":""},"",{"$f":"IF(G313=\"\",\"\",ROUND(G313*Parameters!$C$12,2))","v":""},{"$f":"IF(G313=\"\",\"\",IF(YEAR(Informatie!$C$1)=2015,ROUND(G313*Parameters!$J$27,2),ROUND(G313*VLOOKUP('Overzicht deelnemers'!I313,Parameters!$E$4:$G$49,2,FALSE),2)))","v":""},{"$f":"IF(G313=\"\",\"\",IF(YEAR(Informatie!$C$1)=2015,ROUND(L313*Parameters!$C$20,2),G313*Parameters!$J$27))","v":""},"",{"$f":"IF(G313=\"\",\"\",ROUND(G313*Parameters!$C$16,2))","v":""},{"$f":"IF(G313=\"\",\"\",ROUND(G313*VLOOKUP(J313,Parameters!$E$3:$F$49,2,FALSE),2))","v":""},{"$f":"IF(G313=\"\",\"\",ROUND(G313*Parameters!$J$66,2))","v":""},"",{"$f":"IF(G313=\"\",\"\",ROUND(G313*Parameters!$C$13,2))","v":""},{"$f":"IF(G313=\"\",\"\",IF(YEAR(Informatie!$C$1)=2015,ROUND(G313*Parameters!J$44,2),ROUND(G313*VLOOKUP('Overzicht deelnemers'!I313,Parameters!$E$4:$G$49,3,FALSE),2)))","v":""},{"$f":"IF(G313=\"\",\"\",IF(YEAR(Informatie!$C$1)=2015,ROUND(T313*Parameters!$C$20,2),ROUND(G313*Parameters!$J$44,2)))","v":""},"",{"$f":"IF(G313=\"\",\"\",ROUND(G313*Parameters!C$17,2))","v":""},{"$f":"IF(G313=\"\",\"\",ROUND(G313*VLOOKUP(J313,Parameters!E$4:G$49,3),2))","v":""},{"$f":"IF(G313=\"\",\"\",ROUND(G313*Parameters!J$83,2))","v":""},""]
[null,null,null,null,0,{"$f":"IF(C314=\"\",0,IF(C314<=Parameters!$C$3,C314,Parameters!$C$3))","v":0},{"$f":"IF(C314=\"\",\"\",IF(F314<Parameters!$C$4,\"\",(F314-Parameters!$C$4)*D314))","v":""},null,{"$f":"IF(H314=\"\",\"\",YEAR(+Informatie!$C$1)-YEAR(H314))","v":""},"",{"$f":"IF(G314=\"\",\"\",ROUND(G314*Parameters!$C$12,2))","v":""},{"$f":"IF(G314=\"\",\"\",IF(YEAR(Informatie!$C$1)=2015,ROUND(G314*Parameters!$J$27,2),ROUND(G314*VLOOKUP('Overzicht deelnemers'!I314,Parameters!$E$4:$G$49,2,FALSE),2)))","v":""},{"$f":"IF(G314=\"\",\"\",IF(YEAR(Informatie!$C$1)=2015,ROUND(L314*Parameters!$C$20,2),G314*Parameters!$J$27))","v":""},"",{"$f":"IF(G314=\"\",\"\",ROUND(G314*Parameters!$C$16,2))","v":""},{"$f":"IF(G314=\"\",\"\",ROUND(G314*VLOOKUP(J314,Parameters!$E$3:$F$49,2,FALSE),2))","v":""},{"$f":"IF(G314=\"\",\"\",ROUND(G314*Parameters!$J$66,2))","v":""},"",{"$f":"IF(G314=\"\",\"\",ROUND(G314*Parameters!$C$13,2))","v":""},{"$f":"IF(G314=\"\",\"\",IF(YEAR(Informatie!$C$1)=2015,ROUND(G314*Parameters!J$44,2),ROUND(G314*VLOOKUP('Overzicht deelnemers'!I314,Parameters!$E$4:$G$49,3,FALSE),2)))","v":""},{"$f":"IF(G314=\"\",\"\",IF(YEAR(Informatie!$C$1)=2015,ROUND(T314*Parameters!$C$20,2),ROUND(G314*Parameters!$J$44,2)))","v":""},"",{"$f":"IF(G314=\"\",\"\",ROUND(G314*Parameters!C$17,2))","v":""},{"$f":"IF(G314=\"\",\"\",ROUND(G314*VLOOKUP(J314,Parameters!E$4:G$49,3),2))","v":""},{"$f":"IF(G314=\"\",\"\",ROUND(G314*Parameters!J$83,2))","v":""},""]
[null,null,null,null,0,{"$f":"IF(C315=\"\",0,IF(C315<=Parameters!$C$3,C315,Parameters!$C$3))","v":0},{"$f":"IF(C315=\"\",\"\",IF(F315<Parameters!$C$4,\"\",(F315-Parameters!$C$4)*D315))","v":""},null,{"$f":"IF(H315=\"\",\"\",YEAR(+Informatie!$C$1)-YEAR(H315))","v":""},"",{"$f":"IF(G315=\"\",\"\",ROUND(G315*Parameters!$C$12,2))","v":""},{"$f":"IF(G315=\"\",\"\",IF(YEAR(Informatie!$C$1)=2015,ROUND(G315*Parameters!$J$27,2),ROUND(G315*VLOOKUP('Overzicht deelnemers'!I315,Parameters!$E$4:$G$49,2,FALSE),2)))","v":""},{"$f":"IF(G315=\"\",\"\",IF(YEAR(Informatie!$C$1)=2015,ROUND(L315*Parameters!$C$20,2),G315*Parameters!$J$27))","v":""},"",{"$f":"IF(G315=\"\",\"\",ROUND(G315*Parameters!$C$16,2))","v":""},{"$f":"IF(G315=\"\",\"\",ROUND(G315*VLOOKUP(J315,Parameters!$E$3:$F$49,2,FALSE),2))","v":""},{"$f":"IF(G315=\"\",\"\",ROUND(G315*Parameters!$J$66,2))","v":""},"",{"$f":"IF(G315=\"\",\"\",ROUND(G315*Parameters!$C$13,2))","v":""},{"$f":"IF(G315=\"\",\"\",IF(YEAR(Informatie!$C$1)=2015,ROUND(G315*Parameters!J$44,2),ROUND(G315*VLOOKUP('Overzicht deelnemers'!I315,Parameters!$E$4:$G$49,3,FALSE),2)))","v":""},{"$f":"IF(G315=\"\",\"\",IF(YEAR(Informatie!$C$1)=2015,ROUND(T315*Parameters!$C$20,2),ROUND(G315*Parameters!$J$44,2)))","v":""},"",{"$f":"IF(G315=\"\",\"\",ROUND(G315*Parameters!C$17,2))","v":""},{"$f":"IF(G315=\"\",\"\",ROUND(G315*VLOOKUP(J315,Parameters!E$4:G$49,3),2))","v":""},{"$f":"IF(G315=\"\",\"\",ROUND(G315*Parameters!J$83,2))","v":""},""]
[null,null,null,null,0,{"$f":"IF(C316=\"\",0,IF(C316<=Parameters!$C$3,C316,Parameters!$C$3))","v":0},{"$f":"IF(C316=\"\",\"\",IF(F316<Parameters!$C$4,\"\",(F316-Parameters!$C$4)*D316))","v":""},null,{"$f":"IF(H316=\"\",\"\",YEAR(+Informatie!$C$1)-YEAR(H316))","v":""},"",{"$f":"IF(G316=\"\",\"\",ROUND(G316*Parameters!$C$12,2))","v":""},{"$f":"IF(G316=\"\",\"\",IF(YEAR(Informatie!$C$1)=2015,ROUND(G316*Parameters!$J$27,2),ROUND(G316*VLOOKUP('Overzicht deelnemers'!I316,Parameters!$E$4:$G$49,2,FALSE),2)))","v":""},{"$f":"IF(G316=\"\",\"\",IF(YEAR(Informatie!$C$1)=2015,ROUND(L316*Parameters!$C$20,2),G316*Parameters!$J$27))","v":""},"",{"$f":"IF(G316=\"\",\"\",ROUND(G316*Parameters!$C$16,2))","v":""},{"$f":"IF(G316=\"\",\"\",ROUND(G316*VLOOKUP(J316,Parameters!$E$3:$F$49,2,FALSE),2))","v":""},{"$f":"IF(G316=\"\",\"\",ROUND(G316*Parameters!$J$66,2))","v":""},"",{"$f":"IF(G316=\"\",\"\",ROUND(G316*Parameters!$C$13,2))","v":""},{"$f":"IF(G316=\"\",\"\",IF(YEAR(Informatie!$C$1)=2015,ROUND(G316*Parameters!J$44,2),ROUND(G316*VLOOKUP('Overzicht deelnemers'!I316,Parameters!$E$4:$G$49,3,FALSE),2)))","v":""},{"$f":"IF(G316=\"\",\"\",IF(YEAR(Informatie!$C$1)=2015,ROUND(T316*Parameters!$C$20,2),ROUND(G316*Parameters!$J$44,2)))","v":""},"",{"$f":"IF(G316=\"\",\"\",ROUND(G316*Parameters!C$17,2))","v":""},{"$f":"IF(G316=\"\",\"\",ROUND(G316*VLOOKUP(J316,Parameters!E$4:G$49,3),2))","v":""},{"$f":"IF(G316=\"\",\"\",ROUND(G316*Parameters!J$83,2))","v":""},""]
[null,null,null,null,0,{"$f":"IF(C317=\"\",0,IF(C317<=Parameters!$C$3,C317,Parameters!$C$3))","v":0},{"$f":"IF(C317=\"\",\"\",IF(F317<Parameters!$C$4,\"\",(F317-Parameters!$C$4)*D317))","v":""},null,{"$f":"IF(H317=\"\",\"\",YEAR(+Informatie!$C$1)-YEAR(H317))","v":""},"",{"$f":"IF(G317=\"\",\"\",ROUND(G317*Parameters!$C$12,2))","v":""},{"$f":"IF(G317=\"\",\"\",IF(YEAR(Informatie!$C$1)=2015,ROUND(G317*Parameters!$J$27,2),ROUND(G317*VLOOKUP('Overzicht deelnemers'!I317,Parameters!$E$4:$G$49,2,FALSE),2)))","v":""},{"$f":"IF(G317=\"\",\"\",IF(YEAR(Informatie!$C$1)=2015,ROUND(L317*Parameters!$C$20,2),G317*Parameters!$J$27))","v":""},"",{"$f":"IF(G317=\"\",\"\",ROUND(G317*Parameters!$C$16,2))","v":""},{"$f":"IF(G317=\"\",\"\",ROUND(G317*VLOOKUP(J317,Parameters!$E$3:$F$49,2,FALSE),2))","v":""},{"$f":"IF(G317=\"\",\"\",ROUND(G317*Parameters!$J$66,2))","v":""},"",{"$f":"IF(G317=\"\",\"\",ROUND(G317*Parameters!$C$13,2))","v":""},{"$f":"IF(G317=\"\",\"\",IF(YEAR(Informatie!$C$1)=2015,ROUND(G317*Parameters!J$44,2),ROUND(G317*VLOOKUP('Overzicht deelnemers'!I317,Parameters!$E$4:$G$49,3,FALSE),2)))","v":""},{"$f":"IF(G317=\"\",\"\",IF(YEAR(Informatie!$C$1)=2015,ROUND(T317*Parameters!$C$20,2),ROUND(G317*Parameters!$J$44,2)))","v":""},"",{"$f":"IF(G317=\"\",\"\",ROUND(G317*Parameters!C$17,2))","v":""},{"$f":"IF(G317=\"\",\"\",ROUND(G317*VLOOKUP(J317,Parameters!E$4:G$49,3),2))","v":""},{"$f":"IF(G317=\"\",\"\",ROUND(G317*Parameters!J$83,2))","v":""},""]
[null,null,null,null,0,{"$f":"IF(C318=\"\",0,IF(C318<=Parameters!$C$3,C318,Parameters!$C$3))","v":0},{"$f":"IF(C318=\"\",\"\",IF(F318<Parameters!$C$4,\"\",(F318-Parameters!$C$4)*D318))","v":""},null,{"$f":"IF(H318=\"\",\"\",YEAR(+Informatie!$C$1)-YEAR(H318))","v":""},"",{"$f":"IF(G318=\"\",\"\",ROUND(G318*Parameters!$C$12,2))","v":""},{"$f":"IF(G318=\"\",\"\",IF(YEAR(Informatie!$C$1)=2015,ROUND(G318*Parameters!$J$27,2),ROUND(G318*VLOOKUP('Overzicht deelnemers'!I318,Parameters!$E$4:$G$49,2,FALSE),2)))","v":""},{"$f":"IF(G318=\"\",\"\",IF(YEAR(Informatie!$C$1)=2015,ROUND(L318*Parameters!$C$20,2),G318*Parameters!$J$27))","v":""},"",{"$f":"IF(G318=\"\",\"\",ROUND(G318*Parameters!$C$16,2))","v":""},{"$f":"IF(G318=\"\",\"\",ROUND(G318*VLOOKUP(J318,Parameters!$E$3:$F$49,2,FALSE),2))","v":""},{"$f":"IF(G318=\"\",\"\",ROUND(G318*Parameters!$J$66,2))","v":""},"",{"$f":"IF(G318=\"\",\"\",ROUND(G318*Parameters!$C$13,2))","v":""},{"$f":"IF(G318=\"\",\"\",IF(YEAR(Informatie!$C$1)=2015,ROUND(G318*Parameters!J$44,2),ROUND(G318*VLOOKUP('Overzicht deelnemers'!I318,Parameters!$E$4:$G$49,3,FALSE),2)))","v":""},{"$f":"IF(G318=\"\",\"\",IF(YEAR(Informatie!$C$1)=2015,ROUND(T318*Parameters!$C$20,2),ROUND(G318*Parameters!$J$44,2)))","v":""},"",{"$f":"IF(G318=\"\",\"\",ROUND(G318*Parameters!C$17,2))","v":""},{"$f":"IF(G318=\"\",\"\",ROUND(G318*VLOOKUP(J318,Parameters!E$4:G$49,3),2))","v":""},{"$f":"IF(G318=\"\",\"\",ROUND(G318*Parameters!J$83,2))","v":""},""]
[null,null,null,null,0,{"$f":"IF(C319=\"\",0,IF(C319<=Parameters!$C$3,C319,Parameters!$C$3))","v":0},{"$f":"IF(C319=\"\",\"\",IF(F319<Parameters!$C$4,\"\",(F319-Parameters!$C$4)*D319))","v":""},null,{"$f":"IF(H319=\"\",\"\",YEAR(+Informatie!$C$1)-YEAR(H319))","v":""},"",{"$f":"IF(G319=\"\",\"\",ROUND(G319*Parameters!$C$12,2))","v":""},{"$f":"IF(G319=\"\",\"\",IF(YEAR(Informatie!$C$1)=2015,ROUND(G319*Parameters!$J$27,2),ROUND(G319*VLOOKUP('Overzicht deelnemers'!I319,Parameters!$E$4:$G$49,2,FALSE),2)))","v":""},{"$f":"IF(G319=\"\",\"\",IF(YEAR(Informatie!$C$1)=2015,ROUND(L319*Parameters!$C$20,2),G319*Parameters!$J$27))","v":""},"",{"$f":"IF(G319=\"\",\"\",ROUND(G319*Parameters!$C$16,2))","v":""},{"$f":"IF(G319=\"\",\"\",ROUND(G319*VLOOKUP(J319,Parameters!$E$3:$F$49,2,FALSE),2))","v":""},{"$f":"IF(G319=\"\",\"\",ROUND(G319*Parameters!$J$66,2))","v":""},"",{"$f":"IF(G319=\"\",\"\",ROUND(G319*Parameters!$C$13,2))","v":""},{"$f":"IF(G319=\"\",\"\",IF(YEAR(Informatie!$C$1)=2015,ROUND(G319*Parameters!J$44,2),ROUND(G319*VLOOKUP('Overzicht deelnemers'!I319,Parameters!$E$4:$G$49,3,FALSE),2)))","v":""},{"$f":"IF(G319=\"\",\"\",IF(YEAR(Informatie!$C$1)=2015,ROUND(T319*Parameters!$C$20,2),ROUND(G319*Parameters!$J$44,2)))","v":""},"",{"$f":"IF(G319=\"\",\"\",ROUND(G319*Parameters!C$17,2))","v":""},{"$f":"IF(G319=\"\",\"\",ROUND(G319*VLOOKUP(J319,Parameters!E$4:G$49,3),2))","v":""},{"$f":"IF(G319=\"\",\"\",ROUND(G319*Parameters!J$83,2))","v":""},""]
[null,null,null,null,0,{"$f":"IF(C320=\"\",0,IF(C320<=Parameters!$C$3,C320,Parameters!$C$3))","v":0},{"$f":"IF(C320=\"\",\"\",IF(F320<Parameters!$C$4,\"\",(F320-Parameters!$C$4)*D320))","v":""},null,{"$f":"IF(H320=\"\",\"\",YEAR(+Informatie!$C$1)-YEAR(H320))","v":""},"",{"$f":"IF(G320=\"\",\"\",ROUND(G320*Parameters!$C$12,2))","v":""},{"$f":"IF(G320=\"\",\"\",IF(YEAR(Informatie!$C$1)=2015,ROUND(G320*Parameters!$J$27,2),ROUND(G320*VLOOKUP('Overzicht deelnemers'!I320,Parameters!$E$4:$G$49,2,FALSE),2)))","v":""},{"$f":"IF(G320=\"\",\"\",IF(YEAR(Informatie!$C$1)=2015,ROUND(L320*Parameters!$C$20,2),G320*Parameters!$J$27))","v":""},"",{"$f":"IF(G320=\"\",\"\",ROUND(G320*Parameters!$C$16,2))","v":""},{"$f":"IF(G320=\"\",\"\",ROUND(G320*VLOOKUP(J320,Parameters!$E$3:$F$49,2,FALSE),2))","v":""},{"$f":"IF(G320=\"\",\"\",ROUND(G320*Parameters!$J$66,2))","v":""},"",{"$f":"IF(G320=\"\",\"\",ROUND(G320*Parameters!$C$13,2))","v":""},{"$f":"IF(G320=\"\",\"\",IF(YEAR(Informatie!$C$1)=2015,ROUND(G320*Parameters!J$44,2),ROUND(G320*VLOOKUP('Overzicht deelnemers'!I320,Parameters!$E$4:$G$49,3,FALSE),2)))","v":""},{"$f":"IF(G320=\"\",\"\",IF(YEAR(Informatie!$C$1)=2015,ROUND(T320*Parameters!$C$20,2),ROUND(G320*Parameters!$J$44,2)))","v":""},"",{"$f":"IF(G320=\"\",\"\",ROUND(G320*Parameters!C$17,2))","v":""},{"$f":"IF(G320=\"\",\"\",ROUND(G320*VLOOKUP(J320,Parameters!E$4:G$49,3),2))","v":""},{"$f":"IF(G320=\"\",\"\",ROUND(G320*Parameters!J$83,2))","v":""},""]
[null,null,null,null,0,{"$f":"IF(C321=\"\",0,IF(C321<=Parameters!$C$3,C321,Parameters!$C$3))","v":0},{"$f":"IF(C321=\"\",\"\",IF(F321<Parameters!$C$4,\"\",(F321-Parameters!$C$4)*D321))","v":""},null,{"$f":"IF(H321=\"\",\"\",YEAR(+Informatie!$C$1)-YEAR(H321))","v":""},"",{"$f":"IF(G321=\"\",\"\",ROUND(G321*Parameters!$C$12,2))","v":""},{"$f":"IF(G321=\"\",\"\",IF(YEAR(Informatie!$C$1)=2015,ROUND(G321*Parameters!$J$27,2),ROUND(G321*VLOOKUP('Overzicht deelnemers'!I321,Parameters!$E$4:$G$49,2,FALSE),2)))","v":""},{"$f":"IF(G321=\"\",\"\",IF(YEAR(Informatie!$C$1)=2015,ROUND(L321*Parameters!$C$20,2),G321*Parameters!$J$27))","v":""},"",{"$f":"IF(G321=\"\",\"\",ROUND(G321*Parameters!$C$16,2))","v":""},{"$f":"IF(G321=\"\",\"\",ROUND(G321*VLOOKUP(J321,Parameters!$E$3:$F$49,2,FALSE),2))","v":""},{"$f":"IF(G321=\"\",\"\",ROUND(G321*Parameters!$J$66,2))","v":""},"",{"$f":"IF(G321=\"\",\"\",ROUND(G321*Parameters!$C$13,2))","v":""},{"$f":"IF(G321=\"\",\"\",IF(YEAR(Informatie!$C$1)=2015,ROUND(G321*Parameters!J$44,2),ROUND(G321*VLOOKUP('Overzicht deelnemers'!I321,Parameters!$E$4:$G$49,3,FALSE),2)))","v":""},{"$f":"IF(G321=\"\",\"\",IF(YEAR(Informatie!$C$1)=2015,ROUND(T321*Parameters!$C$20,2),ROUND(G321*Parameters!$J$44,2)))","v":""},"",{"$f":"IF(G321=\"\",\"\",ROUND(G321*Parameters!C$17,2))","v":""},{"$f":"IF(G321=\"\",\"\",ROUND(G321*VLOOKUP(J321,Parameters!E$4:G$49,3),2))","v":""},{"$f":"IF(G321=\"\",\"\",ROUND(G321*Parameters!J$83,2))","v":""},""]
[null,null,null,null,0,{"$f":"IF(C322=\"\",0,IF(C322<=Parameters!$C$3,C322,Parameters!$C$3))","v":0},{"$f":"IF(C322=\"\",\"\",IF(F322<Parameters!$C$4,\"\",(F322-Parameters!$C$4)*D322))","v":""},null,{"$f":"IF(H322=\"\",\"\",YEAR(+Informatie!$C$1)-YEAR(H322))","v":""},"",{"$f":"IF(G322=\"\",\"\",ROUND(G322*Parameters!$C$12,2))","v":""},{"$f":"IF(G322=\"\",\"\",IF(YEAR(Informatie!$C$1)=2015,ROUND(G322*Parameters!$J$27,2),ROUND(G322*VLOOKUP('Overzicht deelnemers'!I322,Parameters!$E$4:$G$49,2,FALSE),2)))","v":""},{"$f":"IF(G322=\"\",\"\",IF(YEAR(Informatie!$C$1)=2015,ROUND(L322*Parameters!$C$20,2),G322*Parameters!$J$27))","v":""},"",{"$f":"IF(G322=\"\",\"\",ROUND(G322*Parameters!$C$16,2))","v":""},{"$f":"IF(G322=\"\",\"\",ROUND(G322*VLOOKUP(J322,Parameters!$E$3:$F$49,2,FALSE),2))","v":""},{"$f":"IF(G322=\"\",\"\",ROUND(G322*Parameters!$J$66,2))","v":""},"",{"$f":"IF(G322=\"\",\"\",ROUND(G322*Parameters!$C$13,2))","v":""},{"$f":"IF(G322=\"\",\"\",IF(YEAR(Informatie!$C$1)=2015,ROUND(G322*Parameters!J$44,2),ROUND(G322*VLOOKUP('Overzicht deelnemers'!I322,Parameters!$E$4:$G$49,3,FALSE),2)))","v":""},{"$f":"IF(G322=\"\",\"\",IF(YEAR(Informatie!$C$1)=2015,ROUND(T322*Parameters!$C$20,2),ROUND(G322*Parameters!$J$44,2)))","v":""},"",{"$f":"IF(G322=\"\",\"\",ROUND(G322*Parameters!C$17,2))","v":""},{"$f":"IF(G322=\"\",\"\",ROUND(G322*VLOOKUP(J322,Parameters!E$4:G$49,3),2))","v":""},{"$f":"IF(G322=\"\",\"\",ROUND(G322*Parameters!J$83,2))","v":""},""]
[null,null,null,null,0,{"$f":"IF(C323=\"\",0,IF(C323<=Parameters!$C$3,C323,Parameters!$C$3))","v":0},{"$f":"IF(C323=\"\",\"\",IF(F323<Parameters!$C$4,\"\",(F323-Parameters!$C$4)*D323))","v":""},null,{"$f":"IF(H323=\"\",\"\",YEAR(+Informatie!$C$1)-YEAR(H323))","v":""},"",{"$f":"IF(G323=\"\",\"\",ROUND(G323*Parameters!$C$12,2))","v":""},{"$f":"IF(G323=\"\",\"\",IF(YEAR(Informatie!$C$1)=2015,ROUND(G323*Parameters!$J$27,2),ROUND(G323*VLOOKUP('Overzicht deelnemers'!I323,Parameters!$E$4:$G$49,2,FALSE),2)))","v":""},{"$f":"IF(G323=\"\",\"\",IF(YEAR(Informatie!$C$1)=2015,ROUND(L323*Parameters!$C$20,2),G323*Parameters!$J$27))","v":""},"",{"$f":"IF(G323=\"\",\"\",ROUND(G323*Parameters!$C$16,2))","v":""},{"$f":"IF(G323=\"\",\"\",ROUND(G323*VLOOKUP(J323,Parameters!$E$3:$F$49,2,FALSE),2))","v":""},{"$f":"IF(G323=\"\",\"\",ROUND(G323*Parameters!$J$66,2))","v":""},"",{"$f":"IF(G323=\"\",\"\",ROUND(G323*Parameters!$C$13,2))","v":""},{"$f":"IF(G323=\"\",\"\",IF(YEAR(Informatie!$C$1)=2015,ROUND(G323*Parameters!J$44,2),ROUND(G323*VLOOKUP('Overzicht deelnemers'!I323,Parameters!$E$4:$G$49,3,FALSE),2)))","v":""},{"$f":"IF(G323=\"\",\"\",IF(YEAR(Informatie!$C$1)=2015,ROUND(T323*Parameters!$C$20,2),ROUND(G323*Parameters!$J$44,2)))","v":""},"",{"$f":"IF(G323=\"\",\"\",ROUND(G323*Parameters!C$17,2))","v":""},{"$f":"IF(G323=\"\",\"\",ROUND(G323*VLOOKUP(J323,Parameters!E$4:G$49,3),2))","v":""},{"$f":"IF(G323=\"\",\"\",ROUND(G323*Parameters!J$83,2))","v":""},""]
[null,null,null,null,0,{"$f":"IF(C324=\"\",0,IF(C324<=Parameters!$C$3,C324,Parameters!$C$3))","v":0},{"$f":"IF(C324=\"\",\"\",IF(F324<Parameters!$C$4,\"\",(F324-Parameters!$C$4)*D324))","v":""},null,{"$f":"IF(H324=\"\",\"\",YEAR(+Informatie!$C$1)-YEAR(H324))","v":""},"",{"$f":"IF(G324=\"\",\"\",ROUND(G324*Parameters!$C$12,2))","v":""},{"$f":"IF(G324=\"\",\"\",IF(YEAR(Informatie!$C$1)=2015,ROUND(G324*Parameters!$J$27,2),ROUND(G324*VLOOKUP('Overzicht deelnemers'!I324,Parameters!$E$4:$G$49,2,FALSE),2)))","v":""},{"$f":"IF(G324=\"\",\"\",IF(YEAR(Informatie!$C$1)=2015,ROUND(L324*Parameters!$C$20,2),G324*Parameters!$J$27))","v":""},"",{"$f":"IF(G324=\"\",\"\",ROUND(G324*Parameters!$C$16,2))","v":""},{"$f":"IF(G324=\"\",\"\",ROUND(G324*VLOOKUP(J324,Parameters!$E$3:$F$49,2,FALSE),2))","v":""},{"$f":"IF(G324=\"\",\"\",ROUND(G324*Parameters!$J$66,2))","v":""},"",{"$f":"IF(G324=\"\",\"\",ROUND(G324*Parameters!$C$13,2))","v":""},{"$f":"IF(G324=\"\",\"\",IF(YEAR(Informatie!$C$1)=2015,ROUND(G324*Parameters!J$44,2),ROUND(G324*VLOOKUP('Overzicht deelnemers'!I324,Parameters!$E$4:$G$49,3,FALSE),2)))","v":""},{"$f":"IF(G324=\"\",\"\",IF(YEAR(Informatie!$C$1)=2015,ROUND(T324*Parameters!$C$20,2),ROUND(G324*Parameters!$J$44,2)))","v":""},"",{"$f":"IF(G324=\"\",\"\",ROUND(G324*Parameters!C$17,2))","v":""},{"$f":"IF(G324=\"\",\"\",ROUND(G324*VLOOKUP(J324,Parameters!E$4:G$49,3),2))","v":""},{"$f":"IF(G324=\"\",\"\",ROUND(G324*Parameters!J$83,2))","v":""},""]
[null,null,null,null,0,{"$f":"IF(C325=\"\",0,IF(C325<=Parameters!$C$3,C325,Parameters!$C$3))","v":0},{"$f":"IF(C325=\"\",\"\",IF(F325<Parameters!$C$4,\"\",(F325-Parameters!$C$4)*D325))","v":""},null,{"$f":"IF(H325=\"\",\"\",YEAR(+Informatie!$C$1)-YEAR(H325))","v":""},"",{"$f":"IF(G325=\"\",\"\",ROUND(G325*Parameters!$C$12,2))","v":""},{"$f":"IF(G325=\"\",\"\",IF(YEAR(Informatie!$C$1)=2015,ROUND(G325*Parameters!$J$27,2),ROUND(G325*VLOOKUP('Overzicht deelnemers'!I325,Parameters!$E$4:$G$49,2,FALSE),2)))","v":""},{"$f":"IF(G325=\"\",\"\",IF(YEAR(Informatie!$C$1)=2015,ROUND(L325*Parameters!$C$20,2),G325*Parameters!$J$27))","v":""},"",{"$f":"IF(G325=\"\",\"\",ROUND(G325*Parameters!$C$16,2))","v":""},{"$f":"IF(G325=\"\",\"\",ROUND(G325*VLOOKUP(J325,Parameters!$E$3:$F$49,2,FALSE),2))","v":""},{"$f":"IF(G325=\"\",\"\",ROUND(G325*Parameters!$J$66,2))","v":""},"",{"$f":"IF(G325=\"\",\"\",ROUND(G325*Parameters!$C$13,2))","v":""},{"$f":"IF(G325=\"\",\"\",IF(YEAR(Informatie!$C$1)=2015,ROUND(G325*Parameters!J$44,2),ROUND(G325*VLOOKUP('Overzicht deelnemers'!I325,Parameters!$E$4:$G$49,3,FALSE),2)))","v":""},{"$f":"IF(G325=\"\",\"\",IF(YEAR(Informatie!$C$1)=2015,ROUND(T325*Parameters!$C$20,2),ROUND(G325*Parameters!$J$44,2)))","v":""},"",{"$f":"IF(G325=\"\",\"\",ROUND(G325*Parameters!C$17,2))","v":""},{"$f":"IF(G325=\"\",\"\",ROUND(G325*VLOOKUP(J325,Parameters!E$4:G$49,3),2))","v":""},{"$f":"IF(G325=\"\",\"\",ROUND(G325*Parameters!J$83,2))","v":""},""]
[null,null,null,null,0,{"$f":"IF(C326=\"\",0,IF(C326<=Parameters!$C$3,C326,Parameters!$C$3))","v":0},{"$f":"IF(C326=\"\",\"\",IF(F326<Parameters!$C$4,\"\",(F326-Parameters!$C$4)*D326))","v":""},null,{"$f":"IF(H326=\"\",\"\",YEAR(+Informatie!$C$1)-YEAR(H326))","v":""},"",{"$f":"IF(G326=\"\",\"\",ROUND(G326*Parameters!$C$12,2))","v":""},{"$f":"IF(G326=\"\",\"\",IF(YEAR(Informatie!$C$1)=2015,ROUND(G326*Parameters!$J$27,2),ROUND(G326*VLOOKUP('Overzicht deelnemers'!I326,Parameters!$E$4:$G$49,2,FALSE),2)))","v":""},{"$f":"IF(G326=\"\",\"\",IF(YEAR(Informatie!$C$1)=2015,ROUND(L326*Parameters!$C$20,2),G326*Parameters!$J$27))","v":""},"",{"$f":"IF(G326=\"\",\"\",ROUND(G326*Parameters!$C$16,2))","v":""},{"$f":"IF(G326=\"\",\"\",ROUND(G326*VLOOKUP(J326,Parameters!$E$3:$F$49,2,FALSE),2))","v":""},{"$f":"IF(G326=\"\",\"\",ROUND(G326*Parameters!$J$66,2))","v":""},"",{"$f":"IF(G326=\"\",\"\",ROUND(G326*Parameters!$C$13,2))","v":""},{"$f":"IF(G326=\"\",\"\",IF(YEAR(Informatie!$C$1)=2015,ROUND(G326*Parameters!J$44,2),ROUND(G326*VLOOKUP('Overzicht deelnemers'!I326,Parameters!$E$4:$G$49,3,FALSE),2)))","v":""},{"$f":"IF(G326=\"\",\"\",IF(YEAR(Informatie!$C$1)=2015,ROUND(T326*Parameters!$C$20,2),ROUND(G326*Parameters!$J$44,2)))","v":""},"",{"$f":"IF(G326=\"\",\"\",ROUND(G326*Parameters!C$17,2))","v":""},{"$f":"IF(G326=\"\",\"\",ROUND(G326*VLOOKUP(J326,Parameters!E$4:G$49,3),2))","v":""},{"$f":"IF(G326=\"\",\"\",ROUND(G326*Parameters!J$83,2))","v":""},""]
[null,null,null,null,0,{"$f":"IF(C327=\"\",0,IF(C327<=Parameters!$C$3,C327,Parameters!$C$3))","v":0},{"$f":"IF(C327=\"\",\"\",IF(F327<Parameters!$C$4,\"\",(F327-Parameters!$C$4)*D327))","v":""},null,{"$f":"IF(H327=\"\",\"\",YEAR(+Informatie!$C$1)-YEAR(H327))","v":""},"",{"$f":"IF(G327=\"\",\"\",ROUND(G327*Parameters!$C$12,2))","v":""},{"$f":"IF(G327=\"\",\"\",IF(YEAR(Informatie!$C$1)=2015,ROUND(G327*Parameters!$J$27,2),ROUND(G327*VLOOKUP('Overzicht deelnemers'!I327,Parameters!$E$4:$G$49,2,FALSE),2)))","v":""},{"$f":"IF(G327=\"\",\"\",IF(YEAR(Informatie!$C$1)=2015,ROUND(L327*Parameters!$C$20,2),G327*Parameters!$J$27))","v":""},"",{"$f":"IF(G327=\"\",\"\",ROUND(G327*Parameters!$C$16,2))","v":""},{"$f":"IF(G327=\"\",\"\",ROUND(G327*VLOOKUP(J327,Parameters!$E$3:$F$49,2,FALSE),2))","v":""},{"$f":"IF(G327=\"\",\"\",ROUND(G327*Parameters!$J$66,2))","v":""},"",{"$f":"IF(G327=\"\",\"\",ROUND(G327*Parameters!$C$13,2))","v":""},{"$f":"IF(G327=\"\",\"\",IF(YEAR(Informatie!$C$1)=2015,ROUND(G327*Parameters!J$44,2),ROUND(G327*VLOOKUP('Overzicht deelnemers'!I327,Parameters!$E$4:$G$49,3,FALSE),2)))","v":""},{"$f":"IF(G327=\"\",\"\",IF(YEAR(Informatie!$C$1)=2015,ROUND(T327*Parameters!$C$20,2),ROUND(G327*Parameters!$J$44,2)))","v":""},"",{"$f":"IF(G327=\"\",\"\",ROUND(G327*Parameters!C$17,2))","v":""},{"$f":"IF(G327=\"\",\"\",ROUND(G327*VLOOKUP(J327,Parameters!E$4:G$49,3),2))","v":""},{"$f":"IF(G327=\"\",\"\",ROUND(G327*Parameters!J$83,2))","v":""},""]
[null,null,null,null,0,{"$f":"IF(C328=\"\",0,IF(C328<=Parameters!$C$3,C328,Parameters!$C$3))","v":0},{"$f":"IF(C328=\"\",\"\",IF(F328<Parameters!$C$4,\"\",(F328-Parameters!$C$4)*D328))","v":""},null,{"$f":"IF(H328=\"\",\"\",YEAR(+Informatie!$C$1)-YEAR(H328))","v":""},"",{"$f":"IF(G328=\"\",\"\",ROUND(G328*Parameters!$C$12,2))","v":""},{"$f":"IF(G328=\"\",\"\",IF(YEAR(Informatie!$C$1)=2015,ROUND(G328*Parameters!$J$27,2),ROUND(G328*VLOOKUP('Overzicht deelnemers'!I328,Parameters!$E$4:$G$49,2,FALSE),2)))","v":""},{"$f":"IF(G328=\"\",\"\",IF(YEAR(Informatie!$C$1)=2015,ROUND(L328*Parameters!$C$20,2),G328*Parameters!$J$27))","v":""},"",{"$f":"IF(G328=\"\",\"\",ROUND(G328*Parameters!$C$16,2))","v":""},{"$f":"IF(G328=\"\",\"\",ROUND(G328*VLOOKUP(J328,Parameters!$E$3:$F$49,2,FALSE),2))","v":""},{"$f":"IF(G328=\"\",\"\",ROUND(G328*Parameters!$J$66,2))","v":""},"",{"$f":"IF(G328=\"\",\"\",ROUND(G328*Parameters!$C$13,2))","v":""},{"$f":"IF(G328=\"\",\"\",IF(YEAR(Informatie!$C$1)=2015,ROUND(G328*Parameters!J$44,2),ROUND(G328*VLOOKUP('Overzicht deelnemers'!I328,Parameters!$E$4:$G$49,3,FALSE),2)))","v":""},{"$f":"IF(G328=\"\",\"\",IF(YEAR(Informatie!$C$1)=2015,ROUND(T328*Parameters!$C$20,2),ROUND(G328*Parameters!$J$44,2)))","v":""},"",{"$f":"IF(G328=\"\",\"\",ROUND(G328*Parameters!C$17,2))","v":""},{"$f":"IF(G328=\"\",\"\",ROUND(G328*VLOOKUP(J328,Parameters!E$4:G$49,3),2))","v":""},{"$f":"IF(G328=\"\",\"\",ROUND(G328*Parameters!J$83,2))","v":""},""]
[null,null,null,null,{"$f":"C329*D329","v":0},{"$f":"IF(C329=\"\",0,IF(C329<=Parameters!$C$3,C329,Parameters!$C$3))","v":0},{"$f":"IF(C329=\"\",\"\",IF(F329<Parameters!$C$4,\"\",(F329-Parameters!$C$4)*D329))","v":""},null,{"$f":"IF(H329=\"\",\"\",YEAR(+Informatie!$C$1)-YEAR(H329))","v":""},{"$f":"IF(H329=\"\",\"\",I329+1)","v":""},{"$f":"IF(G329=\"\",\"\",ROUND(G329*Parameters!$C$12,2))","v":""},{"$f":"IF(G329=\"\",\"\",IF(YEAR(Informatie!$C$1)=2015,ROUND(G329*Parameters!$J$27,2),ROUND(G329*VLOOKUP('Overzicht deelnemers'!I329,Parameters!$E$4:$G$49,2,FALSE),2)))","v":""},{"$f":"IF(G329=\"\",\"\",IF(YEAR(Informatie!$C$1)=2015,ROUND(L329*Parameters!$C$20,2),G329*Parameters!$J$27))","v":""},{"$f":"IF(G329=\"\",\"\",ROUND(L329-M329,2))","v":""},{"$f":"IF(G329=\"\",\"\",ROUND(G329*Parameters!$C$16,2))","v":""},{"$f":"IF(G329=\"\",\"\",ROUND(G329*VLOOKUP(J329,Parameters!$E$3:$F$49,2,FALSE),2))","v":""},{"$f":"IF(G329=\"\",\"\",ROUND(G329*Parameters!$J$66,2))","v":""},{"$f":"IF(G329=\"\",\"\",ROUND(P329-Q329,2))","v":""},{"$f":"IF(G329=\"\",\"\",ROUND(G329*Parameters!$C$13,2))","v":""},{"$f":"IF(G329=\"\",\"\",IF(YEAR(Informatie!$C$1)=2015,ROUND(G329*Parameters!J$44,2),ROUND(G329*VLOOKUP('Overzicht deelnemers'!I329,Parameters!$E$4:$G$49,3,FALSE),2)))","v":""},{"$f":"IF(G329=\"\",\"\",IF(YEAR(Informatie!$C$1)=2015,ROUND(T329*Parameters!$C$20,2),ROUND(G329*Parameters!$J$44,2)))","v":""},{"$f":"IF(G329=\"\",\"\",ROUND(T329-U329,2))","v":""},{"$f":"IF(G329=\"\",\"\",ROUND(G329*Parameters!C$17,2))","v":""},{"$f":"IF(G329=\"\",\"\",ROUND(G329*VLOOKUP(J329,Parameters!E$4:G$49,3),2))","v":""},{"$f":"IF(G329=\"\",\"\",ROUND(G329*Parameters!J$83,2))","v":""},{"$f":"IF(G329=\"\",\"\",ROUND(X329-Y329,2))","v":""}]
[null,null,null,null,0,{"$f":"IF(C330=\"\",0,IF(C330<=Parameters!$C$3,C330,Parameters!$C$3))","v":0},{"$f":"IF(C330=\"\",\"\",IF(F330<Parameters!$C$4,\"\",(F330-Parameters!$C$4)*D330))","v":""},null,{"$f":"IF(H330=\"\",\"\",YEAR(+Informatie!$C$1)-YEAR(H330))","v":""},"",{"$f":"IF(G330=\"\",\"\",ROUND(G330*Parameters!$C$12,2))","v":""},{"$f":"IF(G330=\"\",\"\",IF(YEAR(Informatie!$C$1)=2015,ROUND(G330*Parameters!$J$27,2),ROUND(G330*VLOOKUP('Overzicht deelnemers'!I330,Parameters!$E$4:$G$49,2,FALSE),2)))","v":""},{"$f":"IF(G330=\"\",\"\",IF(YEAR(Informatie!$C$1)=2015,ROUND(L330*Parameters!$C$20,2),G330*Parameters!$J$27))","v":""},"",{"$f":"IF(G330=\"\",\"\",ROUND(G330*Parameters!$C$16,2))","v":""},{"$f":"IF(G330=\"\",\"\",ROUND(G330*VLOOKUP(J330,Parameters!$E$3:$F$49,2,FALSE),2))","v":""},{"$f":"IF(G330=\"\",\"\",ROUND(G330*Parameters!$J$66,2))","v":""},"",{"$f":"IF(G330=\"\",\"\",ROUND(G330*Parameters!$C$13,2))","v":""},{"$f":"IF(G330=\"\",\"\",IF(YEAR(Informatie!$C$1)=2015,ROUND(G330*Parameters!J$44,2),ROUND(G330*VLOOKUP('Overzicht deelnemers'!I330,Parameters!$E$4:$G$49,3,FALSE),2)))","v":""},{"$f":"IF(G330=\"\",\"\",IF(YEAR(Informatie!$C$1)=2015,ROUND(T330*Parameters!$C$20,2),ROUND(G330*Parameters!$J$44,2)))","v":""},"",{"$f":"IF(G330=\"\",\"\",ROUND(G330*Parameters!C$17,2))","v":""},{"$f":"IF(G330=\"\",\"\",ROUND(G330*VLOOKUP(J330,Parameters!E$4:G$49,3),2))","v":""},{"$f":"IF(G330=\"\",\"\",ROUND(G330*Parameters!J$83,2))","v":""},""]
[null,null,null,null,0,{"$f":"IF(C331=\"\",0,IF(C331<=Parameters!$C$3,C331,Parameters!$C$3))","v":0},{"$f":"IF(C331=\"\",\"\",IF(F331<Parameters!$C$4,\"\",(F331-Parameters!$C$4)*D331))","v":""},null,{"$f":"IF(H331=\"\",\"\",YEAR(+Informatie!$C$1)-YEAR(H331))","v":""},"",{"$f":"IF(G331=\"\",\"\",ROUND(G331*Parameters!$C$12,2))","v":""},{"$f":"IF(G331=\"\",\"\",IF(YEAR(Informatie!$C$1)=2015,ROUND(G331*Parameters!$J$27,2),ROUND(G331*VLOOKUP('Overzicht deelnemers'!I331,Parameters!$E$4:$G$49,2,FALSE),2)))","v":""},{"$f":"IF(G331=\"\",\"\",IF(YEAR(Informatie!$C$1)=2015,ROUND(L331*Parameters!$C$20,2),G331*Parameters!$J$27))","v":""},"",{"$f":"IF(G331=\"\",\"\",ROUND(G331*Parameters!$C$16,2))","v":""},{"$f":"IF(G331=\"\",\"\",ROUND(G331*VLOOKUP(J331,Parameters!$E$3:$F$49,2,FALSE),2))","v":""},{"$f":"IF(G331=\"\",\"\",ROUND(G331*Parameters!$J$66,2))","v":""},"",{"$f":"IF(G331=\"\",\"\",ROUND(G331*Parameters!$C$13,2))","v":""},{"$f":"IF(G331=\"\",\"\",IF(YEAR(Informatie!$C$1)=2015,ROUND(G331*Parameters!J$44,2),ROUND(G331*VLOOKUP('Overzicht deelnemers'!I331,Parameters!$E$4:$G$49,3,FALSE),2)))","v":""},{"$f":"IF(G331=\"\",\"\",IF(YEAR(Informatie!$C$1)=2015,ROUND(T331*Parameters!$C$20,2),ROUND(G331*Parameters!$J$44,2)))","v":""},"",{"$f":"IF(G331=\"\",\"\",ROUND(G331*Parameters!C$17,2))","v":""},{"$f":"IF(G331=\"\",\"\",ROUND(G331*VLOOKUP(J331,Parameters!E$4:G$49,3),2))","v":""},{"$f":"IF(G331=\"\",\"\",ROUND(G331*Parameters!J$83,2))","v":""},""]
[null,null,null,null,0,{"$f":"IF(C332=\"\",0,IF(C332<=Parameters!$C$3,C332,Parameters!$C$3))","v":0},{"$f":"IF(C332=\"\",\"\",IF(F332<Parameters!$C$4,\"\",(F332-Parameters!$C$4)*D332))","v":""},null,{"$f":"IF(H332=\"\",\"\",YEAR(+Informatie!$C$1)-YEAR(H332))","v":""},"",{"$f":"IF(G332=\"\",\"\",ROUND(G332*Parameters!$C$12,2))","v":""},{"$f":"IF(G332=\"\",\"\",IF(YEAR(Informatie!$C$1)=2015,ROUND(G332*Parameters!$J$27,2),ROUND(G332*VLOOKUP('Overzicht deelnemers'!I332,Parameters!$E$4:$G$49,2,FALSE),2)))","v":""},{"$f":"IF(G332=\"\",\"\",IF(YEAR(Informatie!$C$1)=2015,ROUND(L332*Parameters!$C$20,2),G332*Parameters!$J$27))","v":""},"",{"$f":"IF(G332=\"\",\"\",ROUND(G332*Parameters!$C$16,2))","v":""},{"$f":"IF(G332=\"\",\"\",ROUND(G332*VLOOKUP(J332,Parameters!$E$3:$F$49,2,FALSE),2))","v":""},{"$f":"IF(G332=\"\",\"\",ROUND(G332*Parameters!$J$66,2))","v":""},"",{"$f":"IF(G332=\"\",\"\",ROUND(G332*Parameters!$C$13,2))","v":""},{"$f":"IF(G332=\"\",\"\",IF(YEAR(Informatie!$C$1)=2015,ROUND(G332*Parameters!J$44,2),ROUND(G332*VLOOKUP('Overzicht deelnemers'!I332,Parameters!$E$4:$G$49,3,FALSE),2)))","v":""},{"$f":"IF(G332=\"\",\"\",IF(YEAR(Informatie!$C$1)=2015,ROUND(T332*Parameters!$C$20,2),ROUND(G332*Parameters!$J$44,2)))","v":""},"",{"$f":"IF(G332=\"\",\"\",ROUND(G332*Parameters!C$17,2))","v":""},{"$f":"IF(G332=\"\",\"\",ROUND(G332*VLOOKUP(J332,Parameters!E$4:G$49,3),2))","v":""},{"$f":"IF(G332=\"\",\"\",ROUND(G332*Parameters!J$83,2))","v":""},""]
[null,null,null,null,0,{"$f":"IF(C333=\"\",0,IF(C333<=Parameters!$C$3,C333,Parameters!$C$3))","v":0},{"$f":"IF(C333=\"\",\"\",IF(F333<Parameters!$C$4,\"\",(F333-Parameters!$C$4)*D333))","v":""},null,{"$f":"IF(H333=\"\",\"\",YEAR(+Informatie!$C$1)-YEAR(H333))","v":""},"",{"$f":"IF(G333=\"\",\"\",ROUND(G333*Parameters!$C$12,2))","v":""},{"$f":"IF(G333=\"\",\"\",IF(YEAR(Informatie!$C$1)=2015,ROUND(G333*Parameters!$J$27,2),ROUND(G333*VLOOKUP('Overzicht deelnemers'!I333,Parameters!$E$4:$G$49,2,FALSE),2)))","v":""},{"$f":"IF(G333=\"\",\"\",IF(YEAR(Informatie!$C$1)=2015,ROUND(L333*Parameters!$C$20,2),G333*Parameters!$J$27))","v":""},"",{"$f":"IF(G333=\"\",\"\",ROUND(G333*Parameters!$C$16,2))","v":""},{"$f":"IF(G333=\"\",\"\",ROUND(G333*VLOOKUP(J333,Parameters!$E$3:$F$49,2,FALSE),2))","v":""},{"$f":"IF(G333=\"\",\"\",ROUND(G333*Parameters!$J$66,2))","v":""},"",{"$f":"IF(G333=\"\",\"\",ROUND(G333*Parameters!$C$13,2))","v":""},{"$f":"IF(G333=\"\",\"\",IF(YEAR(Informatie!$C$1)=2015,ROUND(G333*Parameters!J$44,2),ROUND(G333*VLOOKUP('Overzicht deelnemers'!I333,Parameters!$E$4:$G$49,3,FALSE),2)))","v":""},{"$f":"IF(G333=\"\",\"\",IF(YEAR(Informatie!$C$1)=2015,ROUND(T333*Parameters!$C$20,2),ROUND(G333*Parameters!$J$44,2)))","v":""},"",{"$f":"IF(G333=\"\",\"\",ROUND(G333*Parameters!C$17,2))","v":""},{"$f":"IF(G333=\"\",\"\",ROUND(G333*VLOOKUP(J333,Parameters!E$4:G$49,3),2))","v":""},{"$f":"IF(G333=\"\",\"\",ROUND(G333*Parameters!J$83,2))","v":""},""]
[null,null,null,null,0,{"$f":"IF(C334=\"\",0,IF(C334<=Parameters!$C$3,C334,Parameters!$C$3))","v":0},{"$f":"IF(C334=\"\",\"\",IF(F334<Parameters!$C$4,\"\",(F334-Parameters!$C$4)*D334))","v":""},null,{"$f":"IF(H334=\"\",\"\",YEAR(+Informatie!$C$1)-YEAR(H334))","v":""},"",{"$f":"IF(G334=\"\",\"\",ROUND(G334*Parameters!$C$12,2))","v":""},{"$f":"IF(G334=\"\",\"\",IF(YEAR(Informatie!$C$1)=2015,ROUND(G334*Parameters!$J$27,2),ROUND(G334*VLOOKUP('Overzicht deelnemers'!I334,Parameters!$E$4:$G$49,2,FALSE),2)))","v":""},{"$f":"IF(G334=\"\",\"\",IF(YEAR(Informatie!$C$1)=2015,ROUND(L334*Parameters!$C$20,2),G334*Parameters!$J$27))","v":""},"",{"$f":"IF(G334=\"\",\"\",ROUND(G334*Parameters!$C$16,2))","v":""},{"$f":"IF(G334=\"\",\"\",ROUND(G334*VLOOKUP(J334,Parameters!$E$3:$F$49,2,FALSE),2))","v":""},{"$f":"IF(G334=\"\",\"\",ROUND(G334*Parameters!$J$66,2))","v":""},"",{"$f":"IF(G334=\"\",\"\",ROUND(G334*Parameters!$C$13,2))","v":""},{"$f":"IF(G334=\"\",\"\",IF(YEAR(Informatie!$C$1)=2015,ROUND(G334*Parameters!J$44,2),ROUND(G334*VLOOKUP('Overzicht deelnemers'!I334,Parameters!$E$4:$G$49,3,FALSE),2)))","v":""},{"$f":"IF(G334=\"\",\"\",IF(YEAR(Informatie!$C$1)=2015,ROUND(T334*Parameters!$C$20,2),ROUND(G334*Parameters!$J$44,2)))","v":""},"",{"$f":"IF(G334=\"\",\"\",ROUND(G334*Parameters!C$17,2))","v":""},{"$f":"IF(G334=\"\",\"\",ROUND(G334*VLOOKUP(J334,Parameters!E$4:G$49,3),2))","v":""},{"$f":"IF(G334=\"\",\"\",ROUND(G334*Parameters!J$83,2))","v":""},""]
[null,null,null,null,0,{"$f":"IF(C335=\"\",0,IF(C335<=Parameters!$C$3,C335,Parameters!$C$3))","v":0},{"$f":"IF(C335=\"\",\"\",IF(F335<Parameters!$C$4,\"\",(F335-Parameters!$C$4)*D335))","v":""},null,{"$f":"IF(H335=\"\",\"\",YEAR(+Informatie!$C$1)-YEAR(H335))","v":""},"",{"$f":"IF(G335=\"\",\"\",ROUND(G335*Parameters!$C$12,2))","v":""},{"$f":"IF(G335=\"\",\"\",IF(YEAR(Informatie!$C$1)=2015,ROUND(G335*Parameters!$J$27,2),ROUND(G335*VLOOKUP('Overzicht deelnemers'!I335,Parameters!$E$4:$G$49,2,FALSE),2)))","v":""},{"$f":"IF(G335=\"\",\"\",IF(YEAR(Informatie!$C$1)=2015,ROUND(L335*Parameters!$C$20,2),G335*Parameters!$J$27))","v":""},"",{"$f":"IF(G335=\"\",\"\",ROUND(G335*Parameters!$C$16,2))","v":""},{"$f":"IF(G335=\"\",\"\",ROUND(G335*VLOOKUP(J335,Parameters!$E$3:$F$49,2,FALSE),2))","v":""},{"$f":"IF(G335=\"\",\"\",ROUND(G335*Parameters!$J$66,2))","v":""},"",{"$f":"IF(G335=\"\",\"\",ROUND(G335*Parameters!$C$13,2))","v":""},{"$f":"IF(G335=\"\",\"\",IF(YEAR(Informatie!$C$1)=2015,ROUND(G335*Parameters!J$44,2),ROUND(G335*VLOOKUP('Overzicht deelnemers'!I335,Parameters!$E$4:$G$49,3,FALSE),2)))","v":""},{"$f":"IF(G335=\"\",\"\",IF(YEAR(Informatie!$C$1)=2015,ROUND(T335*Parameters!$C$20,2),ROUND(G335*Parameters!$J$44,2)))","v":""},"",{"$f":"IF(G335=\"\",\"\",ROUND(G335*Parameters!C$17,2))","v":""},{"$f":"IF(G335=\"\",\"\",ROUND(G335*VLOOKUP(J335,Parameters!E$4:G$49,3),2))","v":""},{"$f":"IF(G335=\"\",\"\",ROUND(G335*Parameters!J$83,2))","v":""},""]
[null,null,null,null,0,{"$f":"IF(C336=\"\",0,IF(C336<=Parameters!$C$3,C336,Parameters!$C$3))","v":0},{"$f":"IF(C336=\"\",\"\",IF(F336<Parameters!$C$4,\"\",(F336-Parameters!$C$4)*D336))","v":""},null,{"$f":"IF(H336=\"\",\"\",YEAR(+Informatie!$C$1)-YEAR(H336))","v":""},"",{"$f":"IF(G336=\"\",\"\",ROUND(G336*Parameters!$C$12,2))","v":""},{"$f":"IF(G336=\"\",\"\",IF(YEAR(Informatie!$C$1)=2015,ROUND(G336*Parameters!$J$27,2),ROUND(G336*VLOOKUP('Overzicht deelnemers'!I336,Parameters!$E$4:$G$49,2,FALSE),2)))","v":""},{"$f":"IF(G336=\"\",\"\",IF(YEAR(Informatie!$C$1)=2015,ROUND(L336*Parameters!$C$20,2),G336*Parameters!$J$27))","v":""},"",{"$f":"IF(G336=\"\",\"\",ROUND(G336*Parameters!$C$16,2))","v":""},{"$f":"IF(G336=\"\",\"\",ROUND(G336*VLOOKUP(J336,Parameters!$E$3:$F$49,2,FALSE),2))","v":""},{"$f":"IF(G336=\"\",\"\",ROUND(G336*Parameters!$J$66,2))","v":""},"",{"$f":"IF(G336=\"\",\"\",ROUND(G336*Parameters!$C$13,2))","v":""},{"$f":"IF(G336=\"\",\"\",IF(YEAR(Informatie!$C$1)=2015,ROUND(G336*Parameters!J$44,2),ROUND(G336*VLOOKUP('Overzicht deelnemers'!I336,Parameters!$E$4:$G$49,3,FALSE),2)))","v":""},{"$f":"IF(G336=\"\",\"\",IF(YEAR(Informatie!$C$1)=2015,ROUND(T336*Parameters!$C$20,2),ROUND(G336*Parameters!$J$44,2)))","v":""},"",{"$f":"IF(G336=\"\",\"\",ROUND(G336*Parameters!C$17,2))","v":""},{"$f":"IF(G336=\"\",\"\",ROUND(G336*VLOOKUP(J336,Parameters!E$4:G$49,3),2))","v":""},{"$f":"IF(G336=\"\",\"\",ROUND(G336*Parameters!J$83,2))","v":""},""]
[null,null,null,null,0,{"$f":"IF(C337=\"\",0,IF(C337<=Parameters!$C$3,C337,Parameters!$C$3))","v":0},{"$f":"IF(C337=\"\",\"\",IF(F337<Parameters!$C$4,\"\",(F337-Parameters!$C$4)*D337))","v":""},null,{"$f":"IF(H337=\"\",\"\",YEAR(+Informatie!$C$1)-YEAR(H337))","v":""},"",{"$f":"IF(G337=\"\",\"\",ROUND(G337*Parameters!$C$12,2))","v":""},{"$f":"IF(G337=\"\",\"\",IF(YEAR(Informatie!$C$1)=2015,ROUND(G337*Parameters!$J$27,2),ROUND(G337*VLOOKUP('Overzicht deelnemers'!I337,Parameters!$E$4:$G$49,2,FALSE),2)))","v":""},{"$f":"IF(G337=\"\",\"\",IF(YEAR(Informatie!$C$1)=2015,ROUND(L337*Parameters!$C$20,2),G337*Parameters!$J$27))","v":""},"",{"$f":"IF(G337=\"\",\"\",ROUND(G337*Parameters!$C$16,2))","v":""},{"$f":"IF(G337=\"\",\"\",ROUND(G337*VLOOKUP(J337,Parameters!$E$3:$F$49,2,FALSE),2))","v":""},{"$f":"IF(G337=\"\",\"\",ROUND(G337*Parameters!$J$66,2))","v":""},"",{"$f":"IF(G337=\"\",\"\",ROUND(G337*Parameters!$C$13,2))","v":""},{"$f":"IF(G337=\"\",\"\",IF(YEAR(Informatie!$C$1)=2015,ROUND(G337*Parameters!J$44,2),ROUND(G337*VLOOKUP('Overzicht deelnemers'!I337,Parameters!$E$4:$G$49,3,FALSE),2)))","v":""},{"$f":"IF(G337=\"\",\"\",IF(YEAR(Informatie!$C$1)=2015,ROUND(T337*Parameters!$C$20,2),ROUND(G337*Parameters!$J$44,2)))","v":""},"",{"$f":"IF(G337=\"\",\"\",ROUND(G337*Parameters!C$17,2))","v":""},{"$f":"IF(G337=\"\",\"\",ROUND(G337*VLOOKUP(J337,Parameters!E$4:G$49,3),2))","v":""},{"$f":"IF(G337=\"\",\"\",ROUND(G337*Parameters!J$83,2))","v":""},""]
[null,null,null,null,0,{"$f":"IF(C338=\"\",0,IF(C338<=Parameters!$C$3,C338,Parameters!$C$3))","v":0},{"$f":"IF(C338=\"\",\"\",IF(F338<Parameters!$C$4,\"\",(F338-Parameters!$C$4)*D338))","v":""},null,{"$f":"IF(H338=\"\",\"\",YEAR(+Informatie!$C$1)-YEAR(H338))","v":""},"",{"$f":"IF(G338=\"\",\"\",ROUND(G338*Parameters!$C$12,2))","v":""},{"$f":"IF(G338=\"\",\"\",IF(YEAR(Informatie!$C$1)=2015,ROUND(G338*Parameters!$J$27,2),ROUND(G338*VLOOKUP('Overzicht deelnemers'!I338,Parameters!$E$4:$G$49,2,FALSE),2)))","v":""},{"$f":"IF(G338=\"\",\"\",IF(YEAR(Informatie!$C$1)=2015,ROUND(L338*Parameters!$C$20,2),G338*Parameters!$J$27))","v":""},"",{"$f":"IF(G338=\"\",\"\",ROUND(G338*Parameters!$C$16,2))","v":""},{"$f":"IF(G338=\"\",\"\",ROUND(G338*VLOOKUP(J338,Parameters!$E$3:$F$49,2,FALSE),2))","v":""},{"$f":"IF(G338=\"\",\"\",ROUND(G338*Parameters!$J$66,2))","v":""},"",{"$f":"IF(G338=\"\",\"\",ROUND(G338*Parameters!$C$13,2))","v":""},{"$f":"IF(G338=\"\",\"\",IF(YEAR(Informatie!$C$1)=2015,ROUND(G338*Parameters!J$44,2),ROUND(G338*VLOOKUP('Overzicht deelnemers'!I338,Parameters!$E$4:$G$49,3,FALSE),2)))","v":""},{"$f":"IF(G338=\"\",\"\",IF(YEAR(Informatie!$C$1)=2015,ROUND(T338*Parameters!$C$20,2),ROUND(G338*Parameters!$J$44,2)))","v":""},"",{"$f":"IF(G338=\"\",\"\",ROUND(G338*Parameters!C$17,2))","v":""},{"$f":"IF(G338=\"\",\"\",ROUND(G338*VLOOKUP(J338,Parameters!E$4:G$49,3),2))","v":""},{"$f":"IF(G338=\"\",\"\",ROUND(G338*Parameters!J$83,2))","v":""},""]
[null,null,null,null,0,{"$f":"IF(C339=\"\",0,IF(C339<=Parameters!$C$3,C339,Parameters!$C$3))","v":0},{"$f":"IF(C339=\"\",\"\",IF(F339<Parameters!$C$4,\"\",(F339-Parameters!$C$4)*D339))","v":""},null,{"$f":"IF(H339=\"\",\"\",YEAR(+Informatie!$C$1)-YEAR(H339))","v":""},"",{"$f":"IF(G339=\"\",\"\",ROUND(G339*Parameters!$C$12,2))","v":""},{"$f":"IF(G339=\"\",\"\",IF(YEAR(Informatie!$C$1)=2015,ROUND(G339*Parameters!$J$27,2),ROUND(G339*VLOOKUP('Overzicht deelnemers'!I339,Parameters!$E$4:$G$49,2,FALSE),2)))","v":""},{"$f":"IF(G339=\"\",\"\",IF(YEAR(Informatie!$C$1)=2015,ROUND(L339*Parameters!$C$20,2),G339*Parameters!$J$27))","v":""},"",{"$f":"IF(G339=\"\",\"\",ROUND(G339*Parameters!$C$16,2))","v":""},{"$f":"IF(G339=\"\",\"\",ROUND(G339*VLOOKUP(J339,Parameters!$E$3:$F$49,2,FALSE),2))","v":""},{"$f":"IF(G339=\"\",\"\",ROUND(G339*Parameters!$J$66,2))","v":""},"",{"$f":"IF(G339=\"\",\"\",ROUND(G339*Parameters!$C$13,2))","v":""},{"$f":"IF(G339=\"\",\"\",IF(YEAR(Informatie!$C$1)=2015,ROUND(G339*Parameters!J$44,2),ROUND(G339*VLOOKUP('Overzicht deelnemers'!I339,Parameters!$E$4:$G$49,3,FALSE),2)))","v":""},{"$f":"IF(G339=\"\",\"\",IF(YEAR(Informatie!$C$1)=2015,ROUND(T339*Parameters!$C$20,2),ROUND(G339*Parameters!$J$44,2)))","v":""},"",{"$f":"IF(G339=\"\",\"\",ROUND(G339*Parameters!C$17,2))","v":""},{"$f":"IF(G339=\"\",\"\",ROUND(G339*VLOOKUP(J339,Parameters!E$4:G$49,3),2))","v":""},{"$f":"IF(G339=\"\",\"\",ROUND(G339*Parameters!J$83,2))","v":""},""]
[null,null,null,null,0,{"$f":"IF(C340=\"\",0,IF(C340<=Parameters!$C$3,C340,Parameters!$C$3))","v":0},{"$f":"IF(C340=\"\",\"\",IF(F340<Parameters!$C$4,\"\",(F340-Parameters!$C$4)*D340))","v":""},null,{"$f":"IF(H340=\"\",\"\",YEAR(+Informatie!$C$1)-YEAR(H340))","v":""},"",{"$f":"IF(G340=\"\",\"\",ROUND(G340*Parameters!$C$12,2))","v":""},{"$f":"IF(G340=\"\",\"\",IF(YEAR(Informatie!$C$1)=2015,ROUND(G340*Parameters!$J$27,2),ROUND(G340*VLOOKUP('Overzicht deelnemers'!I340,Parameters!$E$4:$G$49,2,FALSE),2)))","v":""},{"$f":"IF(G340=\"\",\"\",IF(YEAR(Informatie!$C$1)=2015,ROUND(L340*Parameters!$C$20,2),G340*Parameters!$J$27))","v":""},"",{"$f":"IF(G340=\"\",\"\",ROUND(G340*Parameters!$C$16,2))","v":""},{"$f":"IF(G340=\"\",\"\",ROUND(G340*VLOOKUP(J340,Parameters!$E$3:$F$49,2,FALSE),2))","v":""},{"$f":"IF(G340=\"\",\"\",ROUND(G340*Parameters!$J$66,2))","v":""},"",{"$f":"IF(G340=\"\",\"\",ROUND(G340*Parameters!$C$13,2))","v":""},{"$f":"IF(G340=\"\",\"\",IF(YEAR(Informatie!$C$1)=2015,ROUND(G340*Parameters!J$44,2),ROUND(G340*VLOOKUP('Overzicht deelnemers'!I340,Parameters!$E$4:$G$49,3,FALSE),2)))","v":""},{"$f":"IF(G340=\"\",\"\",IF(YEAR(Informatie!$C$1)=2015,ROUND(T340*Parameters!$C$20,2),ROUND(G340*Parameters!$J$44,2)))","v":""},"",{"$f":"IF(G340=\"\",\"\",ROUND(G340*Parameters!C$17,2))","v":""},{"$f":"IF(G340=\"\",\"\",ROUND(G340*VLOOKUP(J340,Parameters!E$4:G$49,3),2))","v":""},{"$f":"IF(G340=\"\",\"\",ROUND(G340*Parameters!J$83,2))","v":""},""]
[null,null,null,null,0,{"$f":"IF(C341=\"\",0,IF(C341<=Parameters!$C$3,C341,Parameters!$C$3))","v":0},{"$f":"IF(C341=\"\",\"\",IF(F341<Parameters!$C$4,\"\",(F341-Parameters!$C$4)*D341))","v":""},null,{"$f":"IF(H341=\"\",\"\",YEAR(+Informatie!$C$1)-YEAR(H341))","v":""},"",{"$f":"IF(G341=\"\",\"\",ROUND(G341*Parameters!$C$12,2))","v":""},{"$f":"IF(G341=\"\",\"\",IF(YEAR(Informatie!$C$1)=2015,ROUND(G341*Parameters!$J$27,2),ROUND(G341*VLOOKUP('Overzicht deelnemers'!I341,Parameters!$E$4:$G$49,2,FALSE),2)))","v":""},{"$f":"IF(G341=\"\",\"\",IF(YEAR(Informatie!$C$1)=2015,ROUND(L341*Parameters!$C$20,2),G341*Parameters!$J$27))","v":""},"",{"$f":"IF(G341=\"\",\"\",ROUND(G341*Parameters!$C$16,2))","v":""},{"$f":"IF(G341=\"\",\"\",ROUND(G341*VLOOKUP(J341,Parameters!$E$3:$F$49,2,FALSE),2))","v":""},{"$f":"IF(G341=\"\",\"\",ROUND(G341*Parameters!$J$66,2))","v":""},"",{"$f":"IF(G341=\"\",\"\",ROUND(G341*Parameters!$C$13,2))","v":""},{"$f":"IF(G341=\"\",\"\",IF(YEAR(Informatie!$C$1)=2015,ROUND(G341*Parameters!J$44,2),ROUND(G341*VLOOKUP('Overzicht deelnemers'!I341,Parameters!$E$4:$G$49,3,FALSE),2)))","v":""},{"$f":"IF(G341=\"\",\"\",IF(YEAR(Informatie!$C$1)=2015,ROUND(T341*Parameters!$C$20,2),ROUND(G341*Parameters!$J$44,2)))","v":""},"",{"$f":"IF(G341=\"\",\"\",ROUND(G341*Parameters!C$17,2))","v":""},{"$f":"IF(G341=\"\",\"\",ROUND(G341*VLOOKUP(J341,Parameters!E$4:G$49,3),2))","v":""},{"$f":"IF(G341=\"\",\"\",ROUND(G341*Parameters!J$83,2))","v":""},""]
[null,null,null,null,0,{"$f":"IF(C342=\"\",0,IF(C342<=Parameters!$C$3,C342,Parameters!$C$3))","v":0},{"$f":"IF(C342=\"\",\"\",IF(F342<Parameters!$C$4,\"\",(F342-Parameters!$C$4)*D342))","v":""},null,{"$f":"IF(H342=\"\",\"\",YEAR(+Informatie!$C$1)-YEAR(H342))","v":""},"",{"$f":"IF(G342=\"\",\"\",ROUND(G342*Parameters!$C$12,2))","v":""},{"$f":"IF(G342=\"\",\"\",IF(YEAR(Informatie!$C$1)=2015,ROUND(G342*Parameters!$J$27,2),ROUND(G342*VLOOKUP('Overzicht deelnemers'!I342,Parameters!$E$4:$G$49,2,FALSE),2)))","v":""},{"$f":"IF(G342=\"\",\"\",IF(YEAR(Informatie!$C$1)=2015,ROUND(L342*Parameters!$C$20,2),G342*Parameters!$J$27))","v":""},"",{"$f":"IF(G342=\"\",\"\",ROUND(G342*Parameters!$C$16,2))","v":""},{"$f":"IF(G342=\"\",\"\",ROUND(G342*VLOOKUP(J342,Parameters!$E$3:$F$49,2,FALSE),2))","v":""},{"$f":"IF(G342=\"\",\"\",ROUND(G342*Parameters!$J$66,2))","v":""},"",{"$f":"IF(G342=\"\",\"\",ROUND(G342*Parameters!$C$13,2))","v":""},{"$f":"IF(G342=\"\",\"\",IF(YEAR(Informatie!$C$1)=2015,ROUND(G342*Parameters!J$44,2),ROUND(G342*VLOOKUP('Overzicht deelnemers'!I342,Parameters!$E$4:$G$49,3,FALSE),2)))","v":""},{"$f":"IF(G342=\"\",\"\",IF(YEAR(Informatie!$C$1)=2015,ROUND(T342*Parameters!$C$20,2),ROUND(G342*Parameters!$J$44,2)))","v":""},"",{"$f":"IF(G342=\"\",\"\",ROUND(G342*Parameters!C$17,2))","v":""},{"$f":"IF(G342=\"\",\"\",ROUND(G342*VLOOKUP(J342,Parameters!E$4:G$49,3),2))","v":""},{"$f":"IF(G342=\"\",\"\",ROUND(G342*Parameters!J$83,2))","v":""},""]
[null,null,null,null,0,{"$f":"IF(C343=\"\",0,IF(C343<=Parameters!$C$3,C343,Parameters!$C$3))","v":0},{"$f":"IF(C343=\"\",\"\",IF(F343<Parameters!$C$4,\"\",(F343-Parameters!$C$4)*D343))","v":""},null,{"$f":"IF(H343=\"\",\"\",YEAR(+Informatie!$C$1)-YEAR(H343))","v":""},"",{"$f":"IF(G343=\"\",\"\",ROUND(G343*Parameters!$C$12,2))","v":""},{"$f":"IF(G343=\"\",\"\",IF(YEAR(Informatie!$C$1)=2015,ROUND(G343*Parameters!$J$27,2),ROUND(G343*VLOOKUP('Overzicht deelnemers'!I343,Parameters!$E$4:$G$49,2,FALSE),2)))","v":""},{"$f":"IF(G343=\"\",\"\",IF(YEAR(Informatie!$C$1)=2015,ROUND(L343*Parameters!$C$20,2),G343*Parameters!$J$27))","v":""},"",{"$f":"IF(G343=\"\",\"\",ROUND(G343*Parameters!$C$16,2))","v":""},{"$f":"IF(G343=\"\",\"\",ROUND(G343*VLOOKUP(J343,Parameters!$E$3:$F$49,2,FALSE),2))","v":""},{"$f":"IF(G343=\"\",\"\",ROUND(G343*Parameters!$J$66,2))","v":""},"",{"$f":"IF(G343=\"\",\"\",ROUND(G343*Parameters!$C$13,2))","v":""},{"$f":"IF(G343=\"\",\"\",IF(YEAR(Informatie!$C$1)=2015,ROUND(G343*Parameters!J$44,2),ROUND(G343*VLOOKUP('Overzicht deelnemers'!I343,Parameters!$E$4:$G$49,3,FALSE),2)))","v":""},{"$f":"IF(G343=\"\",\"\",IF(YEAR(Informatie!$C$1)=2015,ROUND(T343*Parameters!$C$20,2),ROUND(G343*Parameters!$J$44,2)))","v":""},"",{"$f":"IF(G343=\"\",\"\",ROUND(G343*Parameters!C$17,2))","v":""},{"$f":"IF(G343=\"\",\"\",ROUND(G343*VLOOKUP(J343,Parameters!E$4:G$49,3),2))","v":""},{"$f":"IF(G343=\"\",\"\",ROUND(G343*Parameters!J$83,2))","v":""},""]
[null,null,null,null,0,{"$f":"IF(C344=\"\",0,IF(C344<=Parameters!$C$3,C344,Parameters!$C$3))","v":0},{"$f":"IF(C344=\"\",\"\",IF(F344<Parameters!$C$4,\"\",(F344-Parameters!$C$4)*D344))","v":""},null,{"$f":"IF(H344=\"\",\"\",YEAR(+Informatie!$C$1)-YEAR(H344))","v":""},"",{"$f":"IF(G344=\"\",\"\",ROUND(G344*Parameters!$C$12,2))","v":""},{"$f":"IF(G344=\"\",\"\",IF(YEAR(Informatie!$C$1)=2015,ROUND(G344*Parameters!$J$27,2),ROUND(G344*VLOOKUP('Overzicht deelnemers'!I344,Parameters!$E$4:$G$49,2,FALSE),2)))","v":""},{"$f":"IF(G344=\"\",\"\",IF(YEAR(Informatie!$C$1)=2015,ROUND(L344*Parameters!$C$20,2),G344*Parameters!$J$27))","v":""},"",{"$f":"IF(G344=\"\",\"\",ROUND(G344*Parameters!$C$16,2))","v":""},{"$f":"IF(G344=\"\",\"\",ROUND(G344*VLOOKUP(J344,Parameters!$E$3:$F$49,2,FALSE),2))","v":""},{"$f":"IF(G344=\"\",\"\",ROUND(G344*Parameters!$J$66,2))","v":""},"",{"$f":"IF(G344=\"\",\"\",ROUND(G344*Parameters!$C$13,2))","v":""},{"$f":"IF(G344=\"\",\"\",IF(YEAR(Informatie!$C$1)=2015,ROUND(G344*Parameters!J$44,2),ROUND(G344*VLOOKUP('Overzicht deelnemers'!I344,Parameters!$E$4:$G$49,3,FALSE),2)))","v":""},{"$f":"IF(G344=\"\",\"\",IF(YEAR(Informatie!$C$1)=2015,ROUND(T344*Parameters!$C$20,2),ROUND(G344*Parameters!$J$44,2)))","v":""},"",{"$f":"IF(G344=\"\",\"\",ROUND(G344*Parameters!C$17,2))","v":""},{"$f":"IF(G344=\"\",\"\",ROUND(G344*VLOOKUP(J344,Parameters!E$4:G$49,3),2))","v":""},{"$f":"IF(G344=\"\",\"\",ROUND(G344*Parameters!J$83,2))","v":""},""]
[null,null,null,null,0,{"$f":"IF(C345=\"\",0,IF(C345<=Parameters!$C$3,C345,Parameters!$C$3))","v":0},{"$f":"IF(C345=\"\",\"\",IF(F345<Parameters!$C$4,\"\",(F345-Parameters!$C$4)*D345))","v":""},null,{"$f":"IF(H345=\"\",\"\",YEAR(+Informatie!$C$1)-YEAR(H345))","v":""},"",{"$f":"IF(G345=\"\",\"\",ROUND(G345*Parameters!$C$12,2))","v":""},{"$f":"IF(G345=\"\",\"\",IF(YEAR(Informatie!$C$1)=2015,ROUND(G345*Parameters!$J$27,2),ROUND(G345*VLOOKUP('Overzicht deelnemers'!I345,Parameters!$E$4:$G$49,2,FALSE),2)))","v":""},{"$f":"IF(G345=\"\",\"\",IF(YEAR(Informatie!$C$1)=2015,ROUND(L345*Parameters!$C$20,2),G345*Parameters!$J$27))","v":""},"",{"$f":"IF(G345=\"\",\"\",ROUND(G345*Parameters!$C$16,2))","v":""},{"$f":"IF(G345=\"\",\"\",ROUND(G345*VLOOKUP(J345,Parameters!$E$3:$F$49,2,FALSE),2))","v":""},{"$f":"IF(G345=\"\",\"\",ROUND(G345*Parameters!$J$66,2))","v":""},"",{"$f":"IF(G345=\"\",\"\",ROUND(G345*Parameters!$C$13,2))","v":""},{"$f":"IF(G345=\"\",\"\",IF(YEAR(Informatie!$C$1)=2015,ROUND(G345*Parameters!J$44,2),ROUND(G345*VLOOKUP('Overzicht deelnemers'!I345,Parameters!$E$4:$G$49,3,FALSE),2)))","v":""},{"$f":"IF(G345=\"\",\"\",IF(YEAR(Informatie!$C$1)=2015,ROUND(T345*Parameters!$C$20,2),ROUND(G345*Parameters!$J$44,2)))","v":""},"",{"$f":"IF(G345=\"\",\"\",ROUND(G345*Parameters!C$17,2))","v":""},{"$f":"IF(G345=\"\",\"\",ROUND(G345*VLOOKUP(J345,Parameters!E$4:G$49,3),2))","v":""},{"$f":"IF(G345=\"\",\"\",ROUND(G345*Parameters!J$83,2))","v":""},""]
[null,null,null,null,0,{"$f":"IF(C346=\"\",0,IF(C346<=Parameters!$C$3,C346,Parameters!$C$3))","v":0},{"$f":"IF(C346=\"\",\"\",IF(F346<Parameters!$C$4,\"\",(F346-Parameters!$C$4)*D346))","v":""},null,{"$f":"IF(H346=\"\",\"\",YEAR(+Informatie!$C$1)-YEAR(H346))","v":""},"",{"$f":"IF(G346=\"\",\"\",ROUND(G346*Parameters!$C$12,2))","v":""},{"$f":"IF(G346=\"\",\"\",IF(YEAR(Informatie!$C$1)=2015,ROUND(G346*Parameters!$J$27,2),ROUND(G346*VLOOKUP('Overzicht deelnemers'!I346,Parameters!$E$4:$G$49,2,FALSE),2)))","v":""},{"$f":"IF(G346=\"\",\"\",IF(YEAR(Informatie!$C$1)=2015,ROUND(L346*Parameters!$C$20,2),G346*Parameters!$J$27))","v":""},"",{"$f":"IF(G346=\"\",\"\",ROUND(G346*Parameters!$C$16,2))","v":""},{"$f":"IF(G346=\"\",\"\",ROUND(G346*VLOOKUP(J346,Parameters!$E$3:$F$49,2,FALSE),2))","v":""},{"$f":"IF(G346=\"\",\"\",ROUND(G346*Parameters!$J$66,2))","v":""},"",{"$f":"IF(G346=\"\",\"\",ROUND(G346*Parameters!$C$13,2))","v":""},{"$f":"IF(G346=\"\",\"\",IF(YEAR(Informatie!$C$1)=2015,ROUND(G346*Parameters!J$44,2),ROUND(G346*VLOOKUP('Overzicht deelnemers'!I346,Parameters!$E$4:$G$49,3,FALSE),2)))","v":""},{"$f":"IF(G346=\"\",\"\",IF(YEAR(Informatie!$C$1)=2015,ROUND(T346*Parameters!$C$20,2),ROUND(G346*Parameters!$J$44,2)))","v":""},"",{"$f":"IF(G346=\"\",\"\",ROUND(G346*Parameters!C$17,2))","v":""},{"$f":"IF(G346=\"\",\"\",ROUND(G346*VLOOKUP(J346,Parameters!E$4:G$49,3),2))","v":""},{"$f":"IF(G346=\"\",\"\",ROUND(G346*Parameters!J$83,2))","v":""},""]
[null,null,null,null,0,{"$f":"IF(C347=\"\",0,IF(C347<=Parameters!$C$3,C347,Parameters!$C$3))","v":0},{"$f":"IF(C347=\"\",\"\",IF(F347<Parameters!$C$4,\"\",(F347-Parameters!$C$4)*D347))","v":""},null,{"$f":"IF(H347=\"\",\"\",YEAR(+Informatie!$C$1)-YEAR(H347))","v":""},"",{"$f":"IF(G347=\"\",\"\",ROUND(G347*Parameters!$C$12,2))","v":""},{"$f":"IF(G347=\"\",\"\",IF(YEAR(Informatie!$C$1)=2015,ROUND(G347*Parameters!$J$27,2),ROUND(G347*VLOOKUP('Overzicht deelnemers'!I347,Parameters!$E$4:$G$49,2,FALSE),2)))","v":""},{"$f":"IF(G347=\"\",\"\",IF(YEAR(Informatie!$C$1)=2015,ROUND(L347*Parameters!$C$20,2),G347*Parameters!$J$27))","v":""},"",{"$f":"IF(G347=\"\",\"\",ROUND(G347*Parameters!$C$16,2))","v":""},{"$f":"IF(G347=\"\",\"\",ROUND(G347*VLOOKUP(J347,Parameters!$E$3:$F$49,2,FALSE),2))","v":""},{"$f":"IF(G347=\"\",\"\",ROUND(G347*Parameters!$J$66,2))","v":""},"",{"$f":"IF(G347=\"\",\"\",ROUND(G347*Parameters!$C$13,2))","v":""},{"$f":"IF(G347=\"\",\"\",IF(YEAR(Informatie!$C$1)=2015,ROUND(G347*Parameters!J$44,2),ROUND(G347*VLOOKUP('Overzicht deelnemers'!I347,Parameters!$E$4:$G$49,3,FALSE),2)))","v":""},{"$f":"IF(G347=\"\",\"\",IF(YEAR(Informatie!$C$1)=2015,ROUND(T347*Parameters!$C$20,2),ROUND(G347*Parameters!$J$44,2)))","v":""},"",{"$f":"IF(G347=\"\",\"\",ROUND(G347*Parameters!C$17,2))","v":""},{"$f":"IF(G347=\"\",\"\",ROUND(G347*VLOOKUP(J347,Parameters!E$4:G$49,3),2))","v":""},{"$f":"IF(G347=\"\",\"\",ROUND(G347*Parameters!J$83,2))","v":""},""]
[null,null,null,null,0,{"$f":"IF(C348=\"\",0,IF(C348<=Parameters!$C$3,C348,Parameters!$C$3))","v":0},{"$f":"IF(C348=\"\",\"\",IF(F348<Parameters!$C$4,\"\",(F348-Parameters!$C$4)*D348))","v":""},null,{"$f":"IF(H348=\"\",\"\",YEAR(+Informatie!$C$1)-YEAR(H348))","v":""},"",{"$f":"IF(G348=\"\",\"\",ROUND(G348*Parameters!$C$12,2))","v":""},{"$f":"IF(G348=\"\",\"\",IF(YEAR(Informatie!$C$1)=2015,ROUND(G348*Parameters!$J$27,2),ROUND(G348*VLOOKUP('Overzicht deelnemers'!I348,Parameters!$E$4:$G$49,2,FALSE),2)))","v":""},{"$f":"IF(G348=\"\",\"\",IF(YEAR(Informatie!$C$1)=2015,ROUND(L348*Parameters!$C$20,2),G348*Parameters!$J$27))","v":""},"",{"$f":"IF(G348=\"\",\"\",ROUND(G348*Parameters!$C$16,2))","v":""},{"$f":"IF(G348=\"\",\"\",ROUND(G348*VLOOKUP(J348,Parameters!$E$3:$F$49,2,FALSE),2))","v":""},{"$f":"IF(G348=\"\",\"\",ROUND(G348*Parameters!$J$66,2))","v":""},"",{"$f":"IF(G348=\"\",\"\",ROUND(G348*Parameters!$C$13,2))","v":""},{"$f":"IF(G348=\"\",\"\",IF(YEAR(Informatie!$C$1)=2015,ROUND(G348*Parameters!J$44,2),ROUND(G348*VLOOKUP('Overzicht deelnemers'!I348,Parameters!$E$4:$G$49,3,FALSE),2)))","v":""},{"$f":"IF(G348=\"\",\"\",IF(YEAR(Informatie!$C$1)=2015,ROUND(T348*Parameters!$C$20,2),ROUND(G348*Parameters!$J$44,2)))","v":""},"",{"$f":"IF(G348=\"\",\"\",ROUND(G348*Parameters!C$17,2))","v":""},{"$f":"IF(G348=\"\",\"\",ROUND(G348*VLOOKUP(J348,Parameters!E$4:G$49,3),2))","v":""},{"$f":"IF(G348=\"\",\"\",ROUND(G348*Parameters!J$83,2))","v":""},""]
[null,null,null,null,0,{"$f":"IF(C349=\"\",0,IF(C349<=Parameters!$C$3,C349,Parameters!$C$3))","v":0},{"$f":"IF(C349=\"\",\"\",IF(F349<Parameters!$C$4,\"\",(F349-Parameters!$C$4)*D349))","v":""},null,{"$f":"IF(H349=\"\",\"\",YEAR(+Informatie!$C$1)-YEAR(H349))","v":""},"",{"$f":"IF(G349=\"\",\"\",ROUND(G349*Parameters!$C$12,2))","v":""},{"$f":"IF(G349=\"\",\"\",IF(YEAR(Informatie!$C$1)=2015,ROUND(G349*Parameters!$J$27,2),ROUND(G349*VLOOKUP('Overzicht deelnemers'!I349,Parameters!$E$4:$G$49,2,FALSE),2)))","v":""},{"$f":"IF(G349=\"\",\"\",IF(YEAR(Informatie!$C$1)=2015,ROUND(L349*Parameters!$C$20,2),G349*Parameters!$J$27))","v":""},"",{"$f":"IF(G349=\"\",\"\",ROUND(G349*Parameters!$C$16,2))","v":""},{"$f":"IF(G349=\"\",\"\",ROUND(G349*VLOOKUP(J349,Parameters!$E$3:$F$49,2,FALSE),2))","v":""},{"$f":"IF(G349=\"\",\"\",ROUND(G349*Parameters!$J$66,2))","v":""},"",{"$f":"IF(G349=\"\",\"\",ROUND(G349*Parameters!$C$13,2))","v":""},{"$f":"IF(G349=\"\",\"\",IF(YEAR(Informatie!$C$1)=2015,ROUND(G349*Parameters!J$44,2),ROUND(G349*VLOOKUP('Overzicht deelnemers'!I349,Parameters!$E$4:$G$49,3,FALSE),2)))","v":""},{"$f":"IF(G349=\"\",\"\",IF(YEAR(Informatie!$C$1)=2015,ROUND(T349*Parameters!$C$20,2),ROUND(G349*Parameters!$J$44,2)))","v":""},"",{"$f":"IF(G349=\"\",\"\",ROUND(G349*Parameters!C$17,2))","v":""},{"$f":"IF(G349=\"\",\"\",ROUND(G349*VLOOKUP(J349,Parameters!E$4:G$49,3),2))","v":""},{"$f":"IF(G349=\"\",\"\",ROUND(G349*Parameters!J$83,2))","v":""},""]
[null,null,null,null,0,{"$f":"IF(C350=\"\",0,IF(C350<=Parameters!$C$3,C350,Parameters!$C$3))","v":0},{"$f":"IF(C350=\"\",\"\",IF(F350<Parameters!$C$4,\"\",(F350-Parameters!$C$4)*D350))","v":""},null,{"$f":"IF(H350=\"\",\"\",YEAR(+Informatie!$C$1)-YEAR(H350))","v":""},"",{"$f":"IF(G350=\"\",\"\",ROUND(G350*Parameters!$C$12,2))","v":""},{"$f":"IF(G350=\"\",\"\",IF(YEAR(Informatie!$C$1)=2015,ROUND(G350*Parameters!$J$27,2),ROUND(G350*VLOOKUP('Overzicht deelnemers'!I350,Parameters!$E$4:$G$49,2,FALSE),2)))","v":""},{"$f":"IF(G350=\"\",\"\",IF(YEAR(Informatie!$C$1)=2015,ROUND(L350*Parameters!$C$20,2),G350*Parameters!$J$27))","v":""},"",{"$f":"IF(G350=\"\",\"\",ROUND(G350*Parameters!$C$16,2))","v":""},{"$f":"IF(G350=\"\",\"\",ROUND(G350*VLOOKUP(J350,Parameters!$E$3:$F$49,2,FALSE),2))","v":""},{"$f":"IF(G350=\"\",\"\",ROUND(G350*Parameters!$J$66,2))","v":""},"",{"$f":"IF(G350=\"\",\"\",ROUND(G350*Parameters!$C$13,2))","v":""},{"$f":"IF(G350=\"\",\"\",IF(YEAR(Informatie!$C$1)=2015,ROUND(G350*Parameters!J$44,2),ROUND(G350*VLOOKUP('Overzicht deelnemers'!I350,Parameters!$E$4:$G$49,3,FALSE),2)))","v":""},{"$f":"IF(G350=\"\",\"\",IF(YEAR(Informatie!$C$1)=2015,ROUND(T350*Parameters!$C$20,2),ROUND(G350*Parameters!$J$44,2)))","v":""},"",{"$f":"IF(G350=\"\",\"\",ROUND(G350*Parameters!C$17,2))","v":""},{"$f":"IF(G350=\"\",\"\",ROUND(G350*VLOOKUP(J350,Parameters!E$4:G$49,3),2))","v":""},{"$f":"IF(G350=\"\",\"\",ROUND(G350*Parameters!J$83,2))","v":""},""]
[null,null,null,null,0,{"$f":"IF(C351=\"\",0,IF(C351<=Parameters!$C$3,C351,Parameters!$C$3))","v":0},{"$f":"IF(C351=\"\",\"\",IF(F351<Parameters!$C$4,\"\",(F351-Parameters!$C$4)*D351))","v":""},null,{"$f":"IF(H351=\"\",\"\",YEAR(+Informatie!$C$1)-YEAR(H351))","v":""},"",{"$f":"IF(G351=\"\",\"\",ROUND(G351*Parameters!$C$12,2))","v":""},{"$f":"IF(G351=\"\",\"\",IF(YEAR(Informatie!$C$1)=2015,ROUND(G351*Parameters!$J$27,2),ROUND(G351*VLOOKUP('Overzicht deelnemers'!I351,Parameters!$E$4:$G$49,2,FALSE),2)))","v":""},{"$f":"IF(G351=\"\",\"\",IF(YEAR(Informatie!$C$1)=2015,ROUND(L351*Parameters!$C$20,2),G351*Parameters!$J$27))","v":""},"",{"$f":"IF(G351=\"\",\"\",ROUND(G351*Parameters!$C$16,2))","v":""},{"$f":"IF(G351=\"\",\"\",ROUND(G351*VLOOKUP(J351,Parameters!$E$3:$F$49,2,FALSE),2))","v":""},{"$f":"IF(G351=\"\",\"\",ROUND(G351*Parameters!$J$66,2))","v":""},"",{"$f":"IF(G351=\"\",\"\",ROUND(G351*Parameters!$C$13,2))","v":""},{"$f":"IF(G351=\"\",\"\",IF(YEAR(Informatie!$C$1)=2015,ROUND(G351*Parameters!J$44,2),ROUND(G351*VLOOKUP('Overzicht deelnemers'!I351,Parameters!$E$4:$G$49,3,FALSE),2)))","v":""},{"$f":"IF(G351=\"\",\"\",IF(YEAR(Informatie!$C$1)=2015,ROUND(T351*Parameters!$C$20,2),ROUND(G351*Parameters!$J$44,2)))","v":""},"",{"$f":"IF(G351=\"\",\"\",ROUND(G351*Parameters!C$17,2))","v":""},{"$f":"IF(G351=\"\",\"\",ROUND(G351*VLOOKUP(J351,Parameters!E$4:G$49,3),2))","v":""},{"$f":"IF(G351=\"\",\"\",ROUND(G351*Parameters!J$83,2))","v":""},""]
[null,null,null,null,0,{"$f":"IF(C352=\"\",0,IF(C352<=Parameters!$C$3,C352,Parameters!$C$3))","v":0},{"$f":"IF(C352=\"\",\"\",IF(F352<Parameters!$C$4,\"\",(F352-Parameters!$C$4)*D352))","v":""},null,{"$f":"IF(H352=\"\",\"\",YEAR(+Informatie!$C$1)-YEAR(H352))","v":""},"",{"$f":"IF(G352=\"\",\"\",ROUND(G352*Parameters!$C$12,2))","v":""},{"$f":"IF(G352=\"\",\"\",IF(YEAR(Informatie!$C$1)=2015,ROUND(G352*Parameters!$J$27,2),ROUND(G352*VLOOKUP('Overzicht deelnemers'!I352,Parameters!$E$4:$G$49,2,FALSE),2)))","v":""},{"$f":"IF(G352=\"\",\"\",IF(YEAR(Informatie!$C$1)=2015,ROUND(L352*Parameters!$C$20,2),G352*Parameters!$J$27))","v":""},"",{"$f":"IF(G352=\"\",\"\",ROUND(G352*Parameters!$C$16,2))","v":""},{"$f":"IF(G352=\"\",\"\",ROUND(G352*VLOOKUP(J352,Parameters!$E$3:$F$49,2,FALSE),2))","v":""},{"$f":"IF(G352=\"\",\"\",ROUND(G352*Parameters!$J$66,2))","v":""},"",{"$f":"IF(G352=\"\",\"\",ROUND(G352*Parameters!$C$13,2))","v":""},{"$f":"IF(G352=\"\",\"\",IF(YEAR(Informatie!$C$1)=2015,ROUND(G352*Parameters!J$44,2),ROUND(G352*VLOOKUP('Overzicht deelnemers'!I352,Parameters!$E$4:$G$49,3,FALSE),2)))","v":""},{"$f":"IF(G352=\"\",\"\",IF(YEAR(Informatie!$C$1)=2015,ROUND(T352*Parameters!$C$20,2),ROUND(G352*Parameters!$J$44,2)))","v":""},"",{"$f":"IF(G352=\"\",\"\",ROUND(G352*Parameters!C$17,2))","v":""},{"$f":"IF(G352=\"\",\"\",ROUND(G352*VLOOKUP(J352,Parameters!E$4:G$49,3),2))","v":""},{"$f":"IF(G352=\"\",\"\",ROUND(G352*Parameters!J$83,2))","v":""},""]
[null,null,null,null,0,{"$f":"IF(C353=\"\",0,IF(C353<=Parameters!$C$3,C353,Parameters!$C$3))","v":0},{"$f":"IF(C353=\"\",\"\",IF(F353<Parameters!$C$4,\"\",(F353-Parameters!$C$4)*D353))","v":""},null,{"$f":"IF(H353=\"\",\"\",YEAR(+Informatie!$C$1)-YEAR(H353))","v":""},"",{"$f":"IF(G353=\"\",\"\",ROUND(G353*Parameters!$C$12,2))","v":""},{"$f":"IF(G353=\"\",\"\",IF(YEAR(Informatie!$C$1)=2015,ROUND(G353*Parameters!$J$27,2),ROUND(G353*VLOOKUP('Overzicht deelnemers'!I353,Parameters!$E$4:$G$49,2,FALSE),2)))","v":""},{"$f":"IF(G353=\"\",\"\",IF(YEAR(Informatie!$C$1)=2015,ROUND(L353*Parameters!$C$20,2),G353*Parameters!$J$27))","v":""},"",{"$f":"IF(G353=\"\",\"\",ROUND(G353*Parameters!$C$16,2))","v":""},{"$f":"IF(G353=\"\",\"\",ROUND(G353*VLOOKUP(J353,Parameters!$E$3:$F$49,2,FALSE),2))","v":""},{"$f":"IF(G353=\"\",\"\",ROUND(G353*Parameters!$J$66,2))","v":""},"",{"$f":"IF(G353=\"\",\"\",ROUND(G353*Parameters!$C$13,2))","v":""},{"$f":"IF(G353=\"\",\"\",IF(YEAR(Informatie!$C$1)=2015,ROUND(G353*Parameters!J$44,2),ROUND(G353*VLOOKUP('Overzicht deelnemers'!I353,Parameters!$E$4:$G$49,3,FALSE),2)))","v":""},{"$f":"IF(G353=\"\",\"\",IF(YEAR(Informatie!$C$1)=2015,ROUND(T353*Parameters!$C$20,2),ROUND(G353*Parameters!$J$44,2)))","v":""},"",{"$f":"IF(G353=\"\",\"\",ROUND(G353*Parameters!C$17,2))","v":""},{"$f":"IF(G353=\"\",\"\",ROUND(G353*VLOOKUP(J353,Parameters!E$4:G$49,3),2))","v":""},{"$f":"IF(G353=\"\",\"\",ROUND(G353*Parameters!J$83,2))","v":""},""]
[null,null,null,null,0,{"$f":"IF(C354=\"\",0,IF(C354<=Parameters!$C$3,C354,Parameters!$C$3))","v":0},{"$f":"IF(C354=\"\",\"\",IF(F354<Parameters!$C$4,\"\",(F354-Parameters!$C$4)*D354))","v":""},null,{"$f":"IF(H354=\"\",\"\",YEAR(+Informatie!$C$1)-YEAR(H354))","v":""},"",{"$f":"IF(G354=\"\",\"\",ROUND(G354*Parameters!$C$12,2))","v":""},{"$f":"IF(G354=\"\",\"\",IF(YEAR(Informatie!$C$1)=2015,ROUND(G354*Parameters!$J$27,2),ROUND(G354*VLOOKUP('Overzicht deelnemers'!I354,Parameters!$E$4:$G$49,2,FALSE),2)))","v":""},{"$f":"IF(G354=\"\",\"\",IF(YEAR(Informatie!$C$1)=2015,ROUND(L354*Parameters!$C$20,2),G354*Parameters!$J$27))","v":""},"",{"$f":"IF(G354=\"\",\"\",ROUND(G354*Parameters!$C$16,2))","v":""},{"$f":"IF(G354=\"\",\"\",ROUND(G354*VLOOKUP(J354,Parameters!$E$3:$F$49,2,FALSE),2))","v":""},{"$f":"IF(G354=\"\",\"\",ROUND(G354*Parameters!$J$66,2))","v":""},"",{"$f":"IF(G354=\"\",\"\",ROUND(G354*Parameters!$C$13,2))","v":""},{"$f":"IF(G354=\"\",\"\",IF(YEAR(Informatie!$C$1)=2015,ROUND(G354*Parameters!J$44,2),ROUND(G354*VLOOKUP('Overzicht deelnemers'!I354,Parameters!$E$4:$G$49,3,FALSE),2)))","v":""},{"$f":"IF(G354=\"\",\"\",IF(YEAR(Informatie!$C$1)=2015,ROUND(T354*Parameters!$C$20,2),ROUND(G354*Parameters!$J$44,2)))","v":""},"",{"$f":"IF(G354=\"\",\"\",ROUND(G354*Parameters!C$17,2))","v":""},{"$f":"IF(G354=\"\",\"\",ROUND(G354*VLOOKUP(J354,Parameters!E$4:G$49,3),2))","v":""},{"$f":"IF(G354=\"\",\"\",ROUND(G354*Parameters!J$83,2))","v":""},""]
[null,null,null,null,0,{"$f":"IF(C355=\"\",0,IF(C355<=Parameters!$C$3,C355,Parameters!$C$3))","v":0},{"$f":"IF(C355=\"\",\"\",IF(F355<Parameters!$C$4,\"\",(F355-Parameters!$C$4)*D355))","v":""},null,{"$f":"IF(H355=\"\",\"\",YEAR(+Informatie!$C$1)-YEAR(H355))","v":""},"",{"$f":"IF(G355=\"\",\"\",ROUND(G355*Parameters!$C$12,2))","v":""},{"$f":"IF(G355=\"\",\"\",IF(YEAR(Informatie!$C$1)=2015,ROUND(G355*Parameters!$J$27,2),ROUND(G355*VLOOKUP('Overzicht deelnemers'!I355,Parameters!$E$4:$G$49,2,FALSE),2)))","v":""},{"$f":"IF(G355=\"\",\"\",IF(YEAR(Informatie!$C$1)=2015,ROUND(L355*Parameters!$C$20,2),G355*Parameters!$J$27))","v":""},"",{"$f":"IF(G355=\"\",\"\",ROUND(G355*Parameters!$C$16,2))","v":""},{"$f":"IF(G355=\"\",\"\",ROUND(G355*VLOOKUP(J355,Parameters!$E$3:$F$49,2,FALSE),2))","v":""},{"$f":"IF(G355=\"\",\"\",ROUND(G355*Parameters!$J$66,2))","v":""},"",{"$f":"IF(G355=\"\",\"\",ROUND(G355*Parameters!$C$13,2))","v":""},{"$f":"IF(G355=\"\",\"\",IF(YEAR(Informatie!$C$1)=2015,ROUND(G355*Parameters!J$44,2),ROUND(G355*VLOOKUP('Overzicht deelnemers'!I355,Parameters!$E$4:$G$49,3,FALSE),2)))","v":""},{"$f":"IF(G355=\"\",\"\",IF(YEAR(Informatie!$C$1)=2015,ROUND(T355*Parameters!$C$20,2),ROUND(G355*Parameters!$J$44,2)))","v":""},"",{"$f":"IF(G355=\"\",\"\",ROUND(G355*Parameters!C$17,2))","v":""},{"$f":"IF(G355=\"\",\"\",ROUND(G355*VLOOKUP(J355,Parameters!E$4:G$49,3),2))","v":""},{"$f":"IF(G355=\"\",\"\",ROUND(G355*Parameters!J$83,2))","v":""},""]
[null,null,null,null,0,{"$f":"IF(C356=\"\",0,IF(C356<=Parameters!$C$3,C356,Parameters!$C$3))","v":0},{"$f":"IF(C356=\"\",\"\",IF(F356<Parameters!$C$4,\"\",(F356-Parameters!$C$4)*D356))","v":""},null,{"$f":"IF(H356=\"\",\"\",YEAR(+Informatie!$C$1)-YEAR(H356))","v":""},"",{"$f":"IF(G356=\"\",\"\",ROUND(G356*Parameters!$C$12,2))","v":""},{"$f":"IF(G356=\"\",\"\",IF(YEAR(Informatie!$C$1)=2015,ROUND(G356*Parameters!$J$27,2),ROUND(G356*VLOOKUP('Overzicht deelnemers'!I356,Parameters!$E$4:$G$49,2,FALSE),2)))","v":""},{"$f":"IF(G356=\"\",\"\",IF(YEAR(Informatie!$C$1)=2015,ROUND(L356*Parameters!$C$20,2),G356*Parameters!$J$27))","v":""},"",{"$f":"IF(G356=\"\",\"\",ROUND(G356*Parameters!$C$16,2))","v":""},{"$f":"IF(G356=\"\",\"\",ROUND(G356*VLOOKUP(J356,Parameters!$E$3:$F$49,2,FALSE),2))","v":""},{"$f":"IF(G356=\"\",\"\",ROUND(G356*Parameters!$J$66,2))","v":""},"",{"$f":"IF(G356=\"\",\"\",ROUND(G356*Parameters!$C$13,2))","v":""},{"$f":"IF(G356=\"\",\"\",IF(YEAR(Informatie!$C$1)=2015,ROUND(G356*Parameters!J$44,2),ROUND(G356*VLOOKUP('Overzicht deelnemers'!I356,Parameters!$E$4:$G$49,3,FALSE),2)))","v":""},{"$f":"IF(G356=\"\",\"\",IF(YEAR(Informatie!$C$1)=2015,ROUND(T356*Parameters!$C$20,2),ROUND(G356*Parameters!$J$44,2)))","v":""},"",{"$f":"IF(G356=\"\",\"\",ROUND(G356*Parameters!C$17,2))","v":""},{"$f":"IF(G356=\"\",\"\",ROUND(G356*VLOOKUP(J356,Parameters!E$4:G$49,3),2))","v":""},{"$f":"IF(G356=\"\",\"\",ROUND(G356*Parameters!J$83,2))","v":""},""]
[null,null,null,null,0,{"$f":"IF(C357=\"\",0,IF(C357<=Parameters!$C$3,C357,Parameters!$C$3))","v":0},{"$f":"IF(C357=\"\",\"\",IF(F357<Parameters!$C$4,\"\",(F357-Parameters!$C$4)*D357))","v":""},null,{"$f":"IF(H357=\"\",\"\",YEAR(+Informatie!$C$1)-YEAR(H357))","v":""},"",{"$f":"IF(G357=\"\",\"\",ROUND(G357*Parameters!$C$12,2))","v":""},{"$f":"IF(G357=\"\",\"\",IF(YEAR(Informatie!$C$1)=2015,ROUND(G357*Parameters!$J$27,2),ROUND(G357*VLOOKUP('Overzicht deelnemers'!I357,Parameters!$E$4:$G$49,2,FALSE),2)))","v":""},{"$f":"IF(G357=\"\",\"\",IF(YEAR(Informatie!$C$1)=2015,ROUND(L357*Parameters!$C$20,2),G357*Parameters!$J$27))","v":""},"",{"$f":"IF(G357=\"\",\"\",ROUND(G357*Parameters!$C$16,2))","v":""},{"$f":"IF(G357=\"\",\"\",ROUND(G357*VLOOKUP(J357,Parameters!$E$3:$F$49,2,FALSE),2))","v":""},{"$f":"IF(G357=\"\",\"\",ROUND(G357*Parameters!$J$66,2))","v":""},"",{"$f":"IF(G357=\"\",\"\",ROUND(G357*Parameters!$C$13,2))","v":""},{"$f":"IF(G357=\"\",\"\",IF(YEAR(Informatie!$C$1)=2015,ROUND(G357*Parameters!J$44,2),ROUND(G357*VLOOKUP('Overzicht deelnemers'!I357,Parameters!$E$4:$G$49,3,FALSE),2)))","v":""},{"$f":"IF(G357=\"\",\"\",IF(YEAR(Informatie!$C$1)=2015,ROUND(T357*Parameters!$C$20,2),ROUND(G357*Parameters!$J$44,2)))","v":""},"",{"$f":"IF(G357=\"\",\"\",ROUND(G357*Parameters!C$17,2))","v":""},{"$f":"IF(G357=\"\",\"\",ROUND(G357*VLOOKUP(J357,Parameters!E$4:G$49,3),2))","v":""},{"$f":"IF(G357=\"\",\"\",ROUND(G357*Parameters!J$83,2))","v":""},""]
[null,null,null,null,0,{"$f":"IF(C358=\"\",0,IF(C358<=Parameters!$C$3,C358,Parameters!$C$3))","v":0},{"$f":"IF(C358=\"\",\"\",IF(F358<Parameters!$C$4,\"\",(F358-Parameters!$C$4)*D358))","v":""},null,{"$f":"IF(H358=\"\",\"\",YEAR(+Informatie!$C$1)-YEAR(H358))","v":""},"",{"$f":"IF(G358=\"\",\"\",ROUND(G358*Parameters!$C$12,2))","v":""},{"$f":"IF(G358=\"\",\"\",IF(YEAR(Informatie!$C$1)=2015,ROUND(G358*Parameters!$J$27,2),ROUND(G358*VLOOKUP('Overzicht deelnemers'!I358,Parameters!$E$4:$G$49,2,FALSE),2)))","v":""},{"$f":"IF(G358=\"\",\"\",IF(YEAR(Informatie!$C$1)=2015,ROUND(L358*Parameters!$C$20,2),G358*Parameters!$J$27))","v":""},"",{"$f":"IF(G358=\"\",\"\",ROUND(G358*Parameters!$C$16,2))","v":""},{"$f":"IF(G358=\"\",\"\",ROUND(G358*VLOOKUP(J358,Parameters!$E$3:$F$49,2,FALSE),2))","v":""},{"$f":"IF(G358=\"\",\"\",ROUND(G358*Parameters!$J$66,2))","v":""},"",{"$f":"IF(G358=\"\",\"\",ROUND(G358*Parameters!$C$13,2))","v":""},{"$f":"IF(G358=\"\",\"\",IF(YEAR(Informatie!$C$1)=2015,ROUND(G358*Parameters!J$44,2),ROUND(G358*VLOOKUP('Overzicht deelnemers'!I358,Parameters!$E$4:$G$49,3,FALSE),2)))","v":""},{"$f":"IF(G358=\"\",\"\",IF(YEAR(Informatie!$C$1)=2015,ROUND(T358*Parameters!$C$20,2),ROUND(G358*Parameters!$J$44,2)))","v":""},"",{"$f":"IF(G358=\"\",\"\",ROUND(G358*Parameters!C$17,2))","v":""},{"$f":"IF(G358=\"\",\"\",ROUND(G358*VLOOKUP(J358,Parameters!E$4:G$49,3),2))","v":""},{"$f":"IF(G358=\"\",\"\",ROUND(G358*Parameters!J$83,2))","v":""},""]
[null,null,null,null,0,{"$f":"IF(C359=\"\",0,IF(C359<=Parameters!$C$3,C359,Parameters!$C$3))","v":0},{"$f":"IF(C359=\"\",\"\",IF(F359<Parameters!$C$4,\"\",(F359-Parameters!$C$4)*D359))","v":""},null,{"$f":"IF(H359=\"\",\"\",YEAR(+Informatie!$C$1)-YEAR(H359))","v":""},"",{"$f":"IF(G359=\"\",\"\",ROUND(G359*Parameters!$C$12,2))","v":""},{"$f":"IF(G359=\"\",\"\",IF(YEAR(Informatie!$C$1)=2015,ROUND(G359*Parameters!$J$27,2),ROUND(G359*VLOOKUP('Overzicht deelnemers'!I359,Parameters!$E$4:$G$49,2,FALSE),2)))","v":""},{"$f":"IF(G359=\"\",\"\",IF(YEAR(Informatie!$C$1)=2015,ROUND(L359*Parameters!$C$20,2),G359*Parameters!$J$27))","v":""},"",{"$f":"IF(G359=\"\",\"\",ROUND(G359*Parameters!$C$16,2))","v":""},{"$f":"IF(G359=\"\",\"\",ROUND(G359*VLOOKUP(J359,Parameters!$E$3:$F$49,2,FALSE),2))","v":""},{"$f":"IF(G359=\"\",\"\",ROUND(G359*Parameters!$J$66,2))","v":""},"",{"$f":"IF(G359=\"\",\"\",ROUND(G359*Parameters!$C$13,2))","v":""},{"$f":"IF(G359=\"\",\"\",IF(YEAR(Informatie!$C$1)=2015,ROUND(G359*Parameters!J$44,2),ROUND(G359*VLOOKUP('Overzicht deelnemers'!I359,Parameters!$E$4:$G$49,3,FALSE),2)))","v":""},{"$f":"IF(G359=\"\",\"\",IF(YEAR(Informatie!$C$1)=2015,ROUND(T359*Parameters!$C$20,2),ROUND(G359*Parameters!$J$44,2)))","v":""},"",{"$f":"IF(G359=\"\",\"\",ROUND(G359*Parameters!C$17,2))","v":""},{"$f":"IF(G359=\"\",\"\",ROUND(G359*VLOOKUP(J359,Parameters!E$4:G$49,3),2))","v":""},{"$f":"IF(G359=\"\",\"\",ROUND(G359*Parameters!J$83,2))","v":""},""]
[null,null,null,null,0,{"$f":"IF(C360=\"\",0,IF(C360<=Parameters!$C$3,C360,Parameters!$C$3))","v":0},{"$f":"IF(C360=\"\",\"\",IF(F360<Parameters!$C$4,\"\",(F360-Parameters!$C$4)*D360))","v":""},null,{"$f":"IF(H360=\"\",\"\",YEAR(+Informatie!$C$1)-YEAR(H360))","v":""},"",{"$f":"IF(G360=\"\",\"\",ROUND(G360*Parameters!$C$12,2))","v":""},{"$f":"IF(G360=\"\",\"\",IF(YEAR(Informatie!$C$1)=2015,ROUND(G360*Parameters!$J$27,2),ROUND(G360*VLOOKUP('Overzicht deelnemers'!I360,Parameters!$E$4:$G$49,2,FALSE),2)))","v":""},{"$f":"IF(G360=\"\",\"\",IF(YEAR(Informatie!$C$1)=2015,ROUND(L360*Parameters!$C$20,2),G360*Parameters!$J$27))","v":""},"",{"$f":"IF(G360=\"\",\"\",ROUND(G360*Parameters!$C$16,2))","v":""},{"$f":"IF(G360=\"\",\"\",ROUND(G360*VLOOKUP(J360,Parameters!$E$3:$F$49,2,FALSE),2))","v":""},{"$f":"IF(G360=\"\",\"\",ROUND(G360*Parameters!$J$66,2))","v":""},"",{"$f":"IF(G360=\"\",\"\",ROUND(G360*Parameters!$C$13,2))","v":""},{"$f":"IF(G360=\"\",\"\",IF(YEAR(Informatie!$C$1)=2015,ROUND(G360*Parameters!J$44,2),ROUND(G360*VLOOKUP('Overzicht deelnemers'!I360,Parameters!$E$4:$G$49,3,FALSE),2)))","v":""},{"$f":"IF(G360=\"\",\"\",IF(YEAR(Informatie!$C$1)=2015,ROUND(T360*Parameters!$C$20,2),ROUND(G360*Parameters!$J$44,2)))","v":""},"",{"$f":"IF(G360=\"\",\"\",ROUND(G360*Parameters!C$17,2))","v":""},{"$f":"IF(G360=\"\",\"\",ROUND(G360*VLOOKUP(J360,Parameters!E$4:G$49,3),2))","v":""},{"$f":"IF(G360=\"\",\"\",ROUND(G360*Parameters!J$83,2))","v":""},""]
[null,null,null,null,0,{"$f":"IF(C361=\"\",0,IF(C361<=Parameters!$C$3,C361,Parameters!$C$3))","v":0},{"$f":"IF(C361=\"\",\"\",IF(F361<Parameters!$C$4,\"\",(F361-Parameters!$C$4)*D361))","v":""},null,{"$f":"IF(H361=\"\",\"\",YEAR(+Informatie!$C$1)-YEAR(H361))","v":""},"",{"$f":"IF(G361=\"\",\"\",ROUND(G361*Parameters!$C$12,2))","v":""},{"$f":"IF(G361=\"\",\"\",IF(YEAR(Informatie!$C$1)=2015,ROUND(G361*Parameters!$J$27,2),ROUND(G361*VLOOKUP('Overzicht deelnemers'!I361,Parameters!$E$4:$G$49,2,FALSE),2)))","v":""},{"$f":"IF(G361=\"\",\"\",IF(YEAR(Informatie!$C$1)=2015,ROUND(L361*Parameters!$C$20,2),G361*Parameters!$J$27))","v":""},"",{"$f":"IF(G361=\"\",\"\",ROUND(G361*Parameters!$C$16,2))","v":""},{"$f":"IF(G361=\"\",\"\",ROUND(G361*VLOOKUP(J361,Parameters!$E$3:$F$49,2,FALSE),2))","v":""},{"$f":"IF(G361=\"\",\"\",ROUND(G361*Parameters!$J$66,2))","v":""},"",{"$f":"IF(G361=\"\",\"\",ROUND(G361*Parameters!$C$13,2))","v":""},{"$f":"IF(G361=\"\",\"\",IF(YEAR(Informatie!$C$1)=2015,ROUND(G361*Parameters!J$44,2),ROUND(G361*VLOOKUP('Overzicht deelnemers'!I361,Parameters!$E$4:$G$49,3,FALSE),2)))","v":""},{"$f":"IF(G361=\"\",\"\",IF(YEAR(Informatie!$C$1)=2015,ROUND(T361*Parameters!$C$20,2),ROUND(G361*Parameters!$J$44,2)))","v":""},"",{"$f":"IF(G361=\"\",\"\",ROUND(G361*Parameters!C$17,2))","v":""},{"$f":"IF(G361=\"\",\"\",ROUND(G361*VLOOKUP(J361,Parameters!E$4:G$49,3),2))","v":""},{"$f":"IF(G361=\"\",\"\",ROUND(G361*Parameters!J$83,2))","v":""},""]
[null,null,null,null,0,{"$f":"IF(C362=\"\",0,IF(C362<=Parameters!$C$3,C362,Parameters!$C$3))","v":0},{"$f":"IF(C362=\"\",\"\",IF(F362<Parameters!$C$4,\"\",(F362-Parameters!$C$4)*D362))","v":""},null,{"$f":"IF(H362=\"\",\"\",YEAR(+Informatie!$C$1)-YEAR(H362))","v":""},"",{"$f":"IF(G362=\"\",\"\",ROUND(G362*Parameters!$C$12,2))","v":""},{"$f":"IF(G362=\"\",\"\",IF(YEAR(Informatie!$C$1)=2015,ROUND(G362*Parameters!$J$27,2),ROUND(G362*VLOOKUP('Overzicht deelnemers'!I362,Parameters!$E$4:$G$49,2,FALSE),2)))","v":""},{"$f":"IF(G362=\"\",\"\",IF(YEAR(Informatie!$C$1)=2015,ROUND(L362*Parameters!$C$20,2),G362*Parameters!$J$27))","v":""},"",{"$f":"IF(G362=\"\",\"\",ROUND(G362*Parameters!$C$16,2))","v":""},{"$f":"IF(G362=\"\",\"\",ROUND(G362*VLOOKUP(J362,Parameters!$E$3:$F$49,2,FALSE),2))","v":""},{"$f":"IF(G362=\"\",\"\",ROUND(G362*Parameters!$J$66,2))","v":""},"",{"$f":"IF(G362=\"\",\"\",ROUND(G362*Parameters!$C$13,2))","v":""},{"$f":"IF(G362=\"\",\"\",IF(YEAR(Informatie!$C$1)=2015,ROUND(G362*Parameters!J$44,2),ROUND(G362*VLOOKUP('Overzicht deelnemers'!I362,Parameters!$E$4:$G$49,3,FALSE),2)))","v":""},{"$f":"IF(G362=\"\",\"\",IF(YEAR(Informatie!$C$1)=2015,ROUND(T362*Parameters!$C$20,2),ROUND(G362*Parameters!$J$44,2)))","v":""},"",{"$f":"IF(G362=\"\",\"\",ROUND(G362*Parameters!C$17,2))","v":""},{"$f":"IF(G362=\"\",\"\",ROUND(G362*VLOOKUP(J362,Parameters!E$4:G$49,3),2))","v":""},{"$f":"IF(G362=\"\",\"\",ROUND(G362*Parameters!J$83,2))","v":""},""]
[null,null,null,null,0,{"$f":"IF(C363=\"\",0,IF(C363<=Parameters!$C$3,C363,Parameters!$C$3))","v":0},{"$f":"IF(C363=\"\",\"\",IF(F363<Parameters!$C$4,\"\",(F363-Parameters!$C$4)*D363))","v":""},null,{"$f":"IF(H363=\"\",\"\",YEAR(+Informatie!$C$1)-YEAR(H363))","v":""},"",{"$f":"IF(G363=\"\",\"\",ROUND(G363*Parameters!$C$12,2))","v":""},{"$f":"IF(G363=\"\",\"\",IF(YEAR(Informatie!$C$1)=2015,ROUND(G363*Parameters!$J$27,2),ROUND(G363*VLOOKUP('Overzicht deelnemers'!I363,Parameters!$E$4:$G$49,2,FALSE),2)))","v":""},{"$f":"IF(G363=\"\",\"\",IF(YEAR(Informatie!$C$1)=2015,ROUND(L363*Parameters!$C$20,2),G363*Parameters!$J$27))","v":""},"",{"$f":"IF(G363=\"\",\"\",ROUND(G363*Parameters!$C$16,2))","v":""},{"$f":"IF(G363=\"\",\"\",ROUND(G363*VLOOKUP(J363,Parameters!$E$3:$F$49,2,FALSE),2))","v":""},{"$f":"IF(G363=\"\",\"\",ROUND(G363*Parameters!$J$66,2))","v":""},"",{"$f":"IF(G363=\"\",\"\",ROUND(G363*Parameters!$C$13,2))","v":""},{"$f":"IF(G363=\"\",\"\",IF(YEAR(Informatie!$C$1)=2015,ROUND(G363*Parameters!J$44,2),ROUND(G363*VLOOKUP('Overzicht deelnemers'!I363,Parameters!$E$4:$G$49,3,FALSE),2)))","v":""},{"$f":"IF(G363=\"\",\"\",IF(YEAR(Informatie!$C$1)=2015,ROUND(T363*Parameters!$C$20,2),ROUND(G363*Parameters!$J$44,2)))","v":""},"",{"$f":"IF(G363=\"\",\"\",ROUND(G363*Parameters!C$17,2))","v":""},{"$f":"IF(G363=\"\",\"\",ROUND(G363*VLOOKUP(J363,Parameters!E$4:G$49,3),2))","v":""},{"$f":"IF(G363=\"\",\"\",ROUND(G363*Parameters!J$83,2))","v":""},""]
[null,null,null,null,0,{"$f":"IF(C364=\"\",0,IF(C364<=Parameters!$C$3,C364,Parameters!$C$3))","v":0},{"$f":"IF(C364=\"\",\"\",IF(F364<Parameters!$C$4,\"\",(F364-Parameters!$C$4)*D364))","v":""},null,{"$f":"IF(H364=\"\",\"\",YEAR(+Informatie!$C$1)-YEAR(H364))","v":""},"",{"$f":"IF(G364=\"\",\"\",ROUND(G364*Parameters!$C$12,2))","v":""},{"$f":"IF(G364=\"\",\"\",IF(YEAR(Informatie!$C$1)=2015,ROUND(G364*Parameters!$J$27,2),ROUND(G364*VLOOKUP('Overzicht deelnemers'!I364,Parameters!$E$4:$G$49,2,FALSE),2)))","v":""},{"$f":"IF(G364=\"\",\"\",IF(YEAR(Informatie!$C$1)=2015,ROUND(L364*Parameters!$C$20,2),G364*Parameters!$J$27))","v":""},"",{"$f":"IF(G364=\"\",\"\",ROUND(G364*Parameters!$C$16,2))","v":""},{"$f":"IF(G364=\"\",\"\",ROUND(G364*VLOOKUP(J364,Parameters!$E$3:$F$49,2,FALSE),2))","v":""},{"$f":"IF(G364=\"\",\"\",ROUND(G364*Parameters!$J$66,2))","v":""},"",{"$f":"IF(G364=\"\",\"\",ROUND(G364*Parameters!$C$13,2))","v":""},{"$f":"IF(G364=\"\",\"\",IF(YEAR(Informatie!$C$1)=2015,ROUND(G364*Parameters!J$44,2),ROUND(G364*VLOOKUP('Overzicht deelnemers'!I364,Parameters!$E$4:$G$49,3,FALSE),2)))","v":""},{"$f":"IF(G364=\"\",\"\",IF(YEAR(Informatie!$C$1)=2015,ROUND(T364*Parameters!$C$20,2),ROUND(G364*Parameters!$J$44,2)))","v":""},"",{"$f":"IF(G364=\"\",\"\",ROUND(G364*Parameters!C$17,2))","v":""},{"$f":"IF(G364=\"\",\"\",ROUND(G364*VLOOKUP(J364,Parameters!E$4:G$49,3),2))","v":""},{"$f":"IF(G364=\"\",\"\",ROUND(G364*Parameters!J$83,2))","v":""},""]
[null,null,null,null,0,{"$f":"IF(C365=\"\",0,IF(C365<=Parameters!$C$3,C365,Parameters!$C$3))","v":0},{"$f":"IF(C365=\"\",\"\",IF(F365<Parameters!$C$4,\"\",(F365-Parameters!$C$4)*D365))","v":""},null,{"$f":"IF(H365=\"\",\"\",YEAR(+Informatie!$C$1)-YEAR(H365))","v":""},"",{"$f":"IF(G365=\"\",\"\",ROUND(G365*Parameters!$C$12,2))","v":""},{"$f":"IF(G365=\"\",\"\",IF(YEAR(Informatie!$C$1)=2015,ROUND(G365*Parameters!$J$27,2),ROUND(G365*VLOOKUP('Overzicht deelnemers'!I365,Parameters!$E$4:$G$49,2,FALSE),2)))","v":""},{"$f":"IF(G365=\"\",\"\",IF(YEAR(Informatie!$C$1)=2015,ROUND(L365*Parameters!$C$20,2),G365*Parameters!$J$27))","v":""},"",{"$f":"IF(G365=\"\",\"\",ROUND(G365*Parameters!$C$16,2))","v":""},{"$f":"IF(G365=\"\",\"\",ROUND(G365*VLOOKUP(J365,Parameters!$E$3:$F$49,2,FALSE),2))","v":""},{"$f":"IF(G365=\"\",\"\",ROUND(G365*Parameters!$J$66,2))","v":""},"",{"$f":"IF(G365=\"\",\"\",ROUND(G365*Parameters!$C$13,2))","v":""},{"$f":"IF(G365=\"\",\"\",IF(YEAR(Informatie!$C$1)=2015,ROUND(G365*Parameters!J$44,2),ROUND(G365*VLOOKUP('Overzicht deelnemers'!I365,Parameters!$E$4:$G$49,3,FALSE),2)))","v":""},{"$f":"IF(G365=\"\",\"\",IF(YEAR(Informatie!$C$1)=2015,ROUND(T365*Parameters!$C$20,2),ROUND(G365*Parameters!$J$44,2)))","v":""},"",{"$f":"IF(G365=\"\",\"\",ROUND(G365*Parameters!C$17,2))","v":""},{"$f":"IF(G365=\"\",\"\",ROUND(G365*VLOOKUP(J365,Parameters!E$4:G$49,3),2))","v":""},{"$f":"IF(G365=\"\",\"\",ROUND(G365*Parameters!J$83,2))","v":""},""]
[null,null,null,null,0,{"$f":"IF(C366=\"\",0,IF(C366<=Parameters!$C$3,C366,Parameters!$C$3))","v":0},{"$f":"IF(C366=\"\",\"\",IF(F366<Parameters!$C$4,\"\",(F366-Parameters!$C$4)*D366))","v":""},null,{"$f":"IF(H366=\"\",\"\",YEAR(+Informatie!$C$1)-YEAR(H366))","v":""},"",{"$f":"IF(G366=\"\",\"\",ROUND(G366*Parameters!$C$12,2))","v":""},{"$f":"IF(G366=\"\",\"\",IF(YEAR(Informatie!$C$1)=2015,ROUND(G366*Parameters!$J$27,2),ROUND(G366*VLOOKUP('Overzicht deelnemers'!I366,Parameters!$E$4:$G$49,2,FALSE),2)))","v":""},{"$f":"IF(G366=\"\",\"\",IF(YEAR(Informatie!$C$1)=2015,ROUND(L366*Parameters!$C$20,2),G366*Parameters!$J$27))","v":""},"",{"$f":"IF(G366=\"\",\"\",ROUND(G366*Parameters!$C$16,2))","v":""},{"$f":"IF(G366=\"\",\"\",ROUND(G366*VLOOKUP(J366,Parameters!$E$3:$F$49,2,FALSE),2))","v":""},{"$f":"IF(G366=\"\",\"\",ROUND(G366*Parameters!$J$66,2))","v":""},"",{"$f":"IF(G366=\"\",\"\",ROUND(G366*Parameters!$C$13,2))","v":""},{"$f":"IF(G366=\"\",\"\",IF(YEAR(Informatie!$C$1)=2015,ROUND(G366*Parameters!J$44,2),ROUND(G366*VLOOKUP('Overzicht deelnemers'!I366,Parameters!$E$4:$G$49,3,FALSE),2)))","v":""},{"$f":"IF(G366=\"\",\"\",IF(YEAR(Informatie!$C$1)=2015,ROUND(T366*Parameters!$C$20,2),ROUND(G366*Parameters!$J$44,2)))","v":""},"",{"$f":"IF(G366=\"\",\"\",ROUND(G366*Parameters!C$17,2))","v":""},{"$f":"IF(G366=\"\",\"\",ROUND(G366*VLOOKUP(J366,Parameters!E$4:G$49,3),2))","v":""},{"$f":"IF(G366=\"\",\"\",ROUND(G366*Parameters!J$83,2))","v":""},""]
[null,null,null,null,0,{"$f":"IF(C367=\"\",0,IF(C367<=Parameters!$C$3,C367,Parameters!$C$3))","v":0},{"$f":"IF(C367=\"\",\"\",IF(F367<Parameters!$C$4,\"\",(F367-Parameters!$C$4)*D367))","v":""},null,{"$f":"IF(H367=\"\",\"\",YEAR(+Informatie!$C$1)-YEAR(H367))","v":""},"",{"$f":"IF(G367=\"\",\"\",ROUND(G367*Parameters!$C$12,2))","v":""},{"$f":"IF(G367=\"\",\"\",IF(YEAR(Informatie!$C$1)=2015,ROUND(G367*Parameters!$J$27,2),ROUND(G367*VLOOKUP('Overzicht deelnemers'!I367,Parameters!$E$4:$G$49,2,FALSE),2)))","v":""},{"$f":"IF(G367=\"\",\"\",IF(YEAR(Informatie!$C$1)=2015,ROUND(L367*Parameters!$C$20,2),G367*Parameters!$J$27))","v":""},"",{"$f":"IF(G367=\"\",\"\",ROUND(G367*Parameters!$C$16,2))","v":""},{"$f":"IF(G367=\"\",\"\",ROUND(G367*VLOOKUP(J367,Parameters!$E$3:$F$49,2,FALSE),2))","v":""},{"$f":"IF(G367=\"\",\"\",ROUND(G367*Parameters!$J$66,2))","v":""},"",{"$f":"IF(G367=\"\",\"\",ROUND(G367*Parameters!$C$13,2))","v":""},{"$f":"IF(G367=\"\",\"\",IF(YEAR(Informatie!$C$1)=2015,ROUND(G367*Parameters!J$44,2),ROUND(G367*VLOOKUP('Overzicht deelnemers'!I367,Parameters!$E$4:$G$49,3,FALSE),2)))","v":""},{"$f":"IF(G367=\"\",\"\",IF(YEAR(Informatie!$C$1)=2015,ROUND(T367*Parameters!$C$20,2),ROUND(G367*Parameters!$J$44,2)))","v":""},"",{"$f":"IF(G367=\"\",\"\",ROUND(G367*Parameters!C$17,2))","v":""},{"$f":"IF(G367=\"\",\"\",ROUND(G367*VLOOKUP(J367,Parameters!E$4:G$49,3),2))","v":""},{"$f":"IF(G367=\"\",\"\",ROUND(G367*Parameters!J$83,2))","v":""},""]
[null,null,null,null,0,{"$f":"IF(C368=\"\",0,IF(C368<=Parameters!$C$3,C368,Parameters!$C$3))","v":0},{"$f":"IF(C368=\"\",\"\",IF(F368<Parameters!$C$4,\"\",(F368-Parameters!$C$4)*D368))","v":""},null,{"$f":"IF(H368=\"\",\"\",YEAR(+Informatie!$C$1)-YEAR(H368))","v":""},"",{"$f":"IF(G368=\"\",\"\",ROUND(G368*Parameters!$C$12,2))","v":""},{"$f":"IF(G368=\"\",\"\",IF(YEAR(Informatie!$C$1)=2015,ROUND(G368*Parameters!$J$27,2),ROUND(G368*VLOOKUP('Overzicht deelnemers'!I368,Parameters!$E$4:$G$49,2,FALSE),2)))","v":""},{"$f":"IF(G368=\"\",\"\",IF(YEAR(Informatie!$C$1)=2015,ROUND(L368*Parameters!$C$20,2),G368*Parameters!$J$27))","v":""},"",{"$f":"IF(G368=\"\",\"\",ROUND(G368*Parameters!$C$16,2))","v":""},{"$f":"IF(G368=\"\",\"\",ROUND(G368*VLOOKUP(J368,Parameters!$E$3:$F$49,2,FALSE),2))","v":""},{"$f":"IF(G368=\"\",\"\",ROUND(G368*Parameters!$J$66,2))","v":""},"",{"$f":"IF(G368=\"\",\"\",ROUND(G368*Parameters!$C$13,2))","v":""},{"$f":"IF(G368=\"\",\"\",IF(YEAR(Informatie!$C$1)=2015,ROUND(G368*Parameters!J$44,2),ROUND(G368*VLOOKUP('Overzicht deelnemers'!I368,Parameters!$E$4:$G$49,3,FALSE),2)))","v":""},{"$f":"IF(G368=\"\",\"\",IF(YEAR(Informatie!$C$1)=2015,ROUND(T368*Parameters!$C$20,2),ROUND(G368*Parameters!$J$44,2)))","v":""},"",{"$f":"IF(G368=\"\",\"\",ROUND(G368*Parameters!C$17,2))","v":""},{"$f":"IF(G368=\"\",\"\",ROUND(G368*VLOOKUP(J368,Parameters!E$4:G$49,3),2))","v":""},{"$f":"IF(G368=\"\",\"\",ROUND(G368*Parameters!J$83,2))","v":""},""]
[null,null,null,null,0,{"$f":"IF(C369=\"\",0,IF(C369<=Parameters!$C$3,C369,Parameters!$C$3))","v":0},{"$f":"IF(C369=\"\",\"\",IF(F369<Parameters!$C$4,\"\",(F369-Parameters!$C$4)*D369))","v":""},null,{"$f":"IF(H369=\"\",\"\",YEAR(+Informatie!$C$1)-YEAR(H369))","v":""},"",{"$f":"IF(G369=\"\",\"\",ROUND(G369*Parameters!$C$12,2))","v":""},{"$f":"IF(G369=\"\",\"\",IF(YEAR(Informatie!$C$1)=2015,ROUND(G369*Parameters!$J$27,2),ROUND(G369*VLOOKUP('Overzicht deelnemers'!I369,Parameters!$E$4:$G$49,2,FALSE),2)))","v":""},{"$f":"IF(G369=\"\",\"\",IF(YEAR(Informatie!$C$1)=2015,ROUND(L369*Parameters!$C$20,2),G369*Parameters!$J$27))","v":""},"",{"$f":"IF(G369=\"\",\"\",ROUND(G369*Parameters!$C$16,2))","v":""},{"$f":"IF(G369=\"\",\"\",ROUND(G369*VLOOKUP(J369,Parameters!$E$3:$F$49,2,FALSE),2))","v":""},{"$f":"IF(G369=\"\",\"\",ROUND(G369*Parameters!$J$66,2))","v":""},"",{"$f":"IF(G369=\"\",\"\",ROUND(G369*Parameters!$C$13,2))","v":""},{"$f":"IF(G369=\"\",\"\",IF(YEAR(Informatie!$C$1)=2015,ROUND(G369*Parameters!J$44,2),ROUND(G369*VLOOKUP('Overzicht deelnemers'!I369,Parameters!$E$4:$G$49,3,FALSE),2)))","v":""},{"$f":"IF(G369=\"\",\"\",IF(YEAR(Informatie!$C$1)=2015,ROUND(T369*Parameters!$C$20,2),ROUND(G369*Parameters!$J$44,2)))","v":""},"",{"$f":"IF(G369=\"\",\"\",ROUND(G369*Parameters!C$17,2))","v":""},{"$f":"IF(G369=\"\",\"\",ROUND(G369*VLOOKUP(J369,Parameters!E$4:G$49,3),2))","v":""},{"$f":"IF(G369=\"\",\"\",ROUND(G369*Parameters!J$83,2))","v":""},""]
[null,null,null,null,0,{"$f":"IF(C370=\"\",0,IF(C370<=Parameters!$C$3,C370,Parameters!$C$3))","v":0},{"$f":"IF(C370=\"\",\"\",IF(F370<Parameters!$C$4,\"\",(F370-Parameters!$C$4)*D370))","v":""},null,{"$f":"IF(H370=\"\",\"\",YEAR(+Informatie!$C$1)-YEAR(H370))","v":""},"",{"$f":"IF(G370=\"\",\"\",ROUND(G370*Parameters!$C$12,2))","v":""},{"$f":"IF(G370=\"\",\"\",IF(YEAR(Informatie!$C$1)=2015,ROUND(G370*Parameters!$J$27,2),ROUND(G370*VLOOKUP('Overzicht deelnemers'!I370,Parameters!$E$4:$G$49,2,FALSE),2)))","v":""},{"$f":"IF(G370=\"\",\"\",IF(YEAR(Informatie!$C$1)=2015,ROUND(L370*Parameters!$C$20,2),G370*Parameters!$J$27))","v":""},"",{"$f":"IF(G370=\"\",\"\",ROUND(G370*Parameters!$C$16,2))","v":""},{"$f":"IF(G370=\"\",\"\",ROUND(G370*VLOOKUP(J370,Parameters!$E$3:$F$49,2,FALSE),2))","v":""},{"$f":"IF(G370=\"\",\"\",ROUND(G370*Parameters!$J$66,2))","v":""},"",{"$f":"IF(G370=\"\",\"\",ROUND(G370*Parameters!$C$13,2))","v":""},{"$f":"IF(G370=\"\",\"\",IF(YEAR(Informatie!$C$1)=2015,ROUND(G370*Parameters!J$44,2),ROUND(G370*VLOOKUP('Overzicht deelnemers'!I370,Parameters!$E$4:$G$49,3,FALSE),2)))","v":""},{"$f":"IF(G370=\"\",\"\",IF(YEAR(Informatie!$C$1)=2015,ROUND(T370*Parameters!$C$20,2),ROUND(G370*Parameters!$J$44,2)))","v":""},"",{"$f":"IF(G370=\"\",\"\",ROUND(G370*Parameters!C$17,2))","v":""},{"$f":"IF(G370=\"\",\"\",ROUND(G370*VLOOKUP(J370,Parameters!E$4:G$49,3),2))","v":""},{"$f":"IF(G370=\"\",\"\",ROUND(G370*Parameters!J$83,2))","v":""},""]
[null,null,null,null,0,{"$f":"IF(C371=\"\",0,IF(C371<=Parameters!$C$3,C371,Parameters!$C$3))","v":0},{"$f":"IF(C371=\"\",\"\",IF(F371<Parameters!$C$4,\"\",(F371-Parameters!$C$4)*D371))","v":""},null,{"$f":"IF(H371=\"\",\"\",YEAR(+Informatie!$C$1)-YEAR(H371))","v":""},"",{"$f":"IF(G371=\"\",\"\",ROUND(G371*Parameters!$C$12,2))","v":""},{"$f":"IF(G371=\"\",\"\",IF(YEAR(Informatie!$C$1)=2015,ROUND(G371*Parameters!$J$27,2),ROUND(G371*VLOOKUP('Overzicht deelnemers'!I371,Parameters!$E$4:$G$49,2,FALSE),2)))","v":""},{"$f":"IF(G371=\"\",\"\",IF(YEAR(Informatie!$C$1)=2015,ROUND(L371*Parameters!$C$20,2),G371*Parameters!$J$27))","v":""},"",{"$f":"IF(G371=\"\",\"\",ROUND(G371*Parameters!$C$16,2))","v":""},{"$f":"IF(G371=\"\",\"\",ROUND(G371*VLOOKUP(J371,Parameters!$E$3:$F$49,2,FALSE),2))","v":""},{"$f":"IF(G371=\"\",\"\",ROUND(G371*Parameters!$J$66,2))","v":""},"",{"$f":"IF(G371=\"\",\"\",ROUND(G371*Parameters!$C$13,2))","v":""},{"$f":"IF(G371=\"\",\"\",IF(YEAR(Informatie!$C$1)=2015,ROUND(G371*Parameters!J$44,2),ROUND(G371*VLOOKUP('Overzicht deelnemers'!I371,Parameters!$E$4:$G$49,3,FALSE),2)))","v":""},{"$f":"IF(G371=\"\",\"\",IF(YEAR(Informatie!$C$1)=2015,ROUND(T371*Parameters!$C$20,2),ROUND(G371*Parameters!$J$44,2)))","v":""},"",{"$f":"IF(G371=\"\",\"\",ROUND(G371*Parameters!C$17,2))","v":""},{"$f":"IF(G371=\"\",\"\",ROUND(G371*VLOOKUP(J371,Parameters!E$4:G$49,3),2))","v":""},{"$f":"IF(G371=\"\",\"\",ROUND(G371*Parameters!J$83,2))","v":""},""]
[null,null,null,null,0,{"$f":"IF(C372=\"\",0,IF(C372<=Parameters!$C$3,C372,Parameters!$C$3))","v":0},{"$f":"IF(C372=\"\",\"\",IF(F372<Parameters!$C$4,\"\",(F372-Parameters!$C$4)*D372))","v":""},null,{"$f":"IF(H372=\"\",\"\",YEAR(+Informatie!$C$1)-YEAR(H372))","v":""},"",{"$f":"IF(G372=\"\",\"\",ROUND(G372*Parameters!$C$12,2))","v":""},{"$f":"IF(G372=\"\",\"\",IF(YEAR(Informatie!$C$1)=2015,ROUND(G372*Parameters!$J$27,2),ROUND(G372*VLOOKUP('Overzicht deelnemers'!I372,Parameters!$E$4:$G$49,2,FALSE),2)))","v":""},{"$f":"IF(G372=\"\",\"\",IF(YEAR(Informatie!$C$1)=2015,ROUND(L372*Parameters!$C$20,2),G372*Parameters!$J$27))","v":""},"",{"$f":"IF(G372=\"\",\"\",ROUND(G372*Parameters!$C$16,2))","v":""},{"$f":"IF(G372=\"\",\"\",ROUND(G372*VLOOKUP(J372,Parameters!$E$3:$F$49,2,FALSE),2))","v":""},{"$f":"IF(G372=\"\",\"\",ROUND(G372*Parameters!$J$66,2))","v":""},"",{"$f":"IF(G372=\"\",\"\",ROUND(G372*Parameters!$C$13,2))","v":""},{"$f":"IF(G372=\"\",\"\",IF(YEAR(Informatie!$C$1)=2015,ROUND(G372*Parameters!J$44,2),ROUND(G372*VLOOKUP('Overzicht deelnemers'!I372,Parameters!$E$4:$G$49,3,FALSE),2)))","v":""},{"$f":"IF(G372=\"\",\"\",IF(YEAR(Informatie!$C$1)=2015,ROUND(T372*Parameters!$C$20,2),ROUND(G372*Parameters!$J$44,2)))","v":""},"",{"$f":"IF(G372=\"\",\"\",ROUND(G372*Parameters!C$17,2))","v":""},{"$f":"IF(G372=\"\",\"\",ROUND(G372*VLOOKUP(J372,Parameters!E$4:G$49,3),2))","v":""},{"$f":"IF(G372=\"\",\"\",ROUND(G372*Parameters!J$83,2))","v":""},""]
[null,null,null,null,0,{"$f":"IF(C373=\"\",0,IF(C373<=Parameters!$C$3,C373,Parameters!$C$3))","v":0},{"$f":"IF(C373=\"\",\"\",IF(F373<Parameters!$C$4,\"\",(F373-Parameters!$C$4)*D373))","v":""},null,{"$f":"IF(H373=\"\",\"\",YEAR(+Informatie!$C$1)-YEAR(H373))","v":""},"",{"$f":"IF(G373=\"\",\"\",ROUND(G373*Parameters!$C$12,2))","v":""},{"$f":"IF(G373=\"\",\"\",IF(YEAR(Informatie!$C$1)=2015,ROUND(G373*Parameters!$J$27,2),ROUND(G373*VLOOKUP('Overzicht deelnemers'!I373,Parameters!$E$4:$G$49,2,FALSE),2)))","v":""},{"$f":"IF(G373=\"\",\"\",IF(YEAR(Informatie!$C$1)=2015,ROUND(L373*Parameters!$C$20,2),G373*Parameters!$J$27))","v":""},"",{"$f":"IF(G373=\"\",\"\",ROUND(G373*Parameters!$C$16,2))","v":""},{"$f":"IF(G373=\"\",\"\",ROUND(G373*VLOOKUP(J373,Parameters!$E$3:$F$49,2,FALSE),2))","v":""},{"$f":"IF(G373=\"\",\"\",ROUND(G373*Parameters!$J$66,2))","v":""},"",{"$f":"IF(G373=\"\",\"\",ROUND(G373*Parameters!$C$13,2))","v":""},{"$f":"IF(G373=\"\",\"\",IF(YEAR(Informatie!$C$1)=2015,ROUND(G373*Parameters!J$44,2),ROUND(G373*VLOOKUP('Overzicht deelnemers'!I373,Parameters!$E$4:$G$49,3,FALSE),2)))","v":""},{"$f":"IF(G373=\"\",\"\",IF(YEAR(Informatie!$C$1)=2015,ROUND(T373*Parameters!$C$20,2),ROUND(G373*Parameters!$J$44,2)))","v":""},"",{"$f":"IF(G373=\"\",\"\",ROUND(G373*Parameters!C$17,2))","v":""},{"$f":"IF(G373=\"\",\"\",ROUND(G373*VLOOKUP(J373,Parameters!E$4:G$49,3),2))","v":""},{"$f":"IF(G373=\"\",\"\",ROUND(G373*Parameters!J$83,2))","v":""},""]
[null,null,null,null,0,{"$f":"IF(C374=\"\",0,IF(C374<=Parameters!$C$3,C374,Parameters!$C$3))","v":0},{"$f":"IF(C374=\"\",\"\",IF(F374<Parameters!$C$4,\"\",(F374-Parameters!$C$4)*D374))","v":""},null,{"$f":"IF(H374=\"\",\"\",YEAR(+Informatie!$C$1)-YEAR(H374))","v":""},"",{"$f":"IF(G374=\"\",\"\",ROUND(G374*Parameters!$C$12,2))","v":""},{"$f":"IF(G374=\"\",\"\",IF(YEAR(Informatie!$C$1)=2015,ROUND(G374*Parameters!$J$27,2),ROUND(G374*VLOOKUP('Overzicht deelnemers'!I374,Parameters!$E$4:$G$49,2,FALSE),2)))","v":""},{"$f":"IF(G374=\"\",\"\",IF(YEAR(Informatie!$C$1)=2015,ROUND(L374*Parameters!$C$20,2),G374*Parameters!$J$27))","v":""},"",{"$f":"IF(G374=\"\",\"\",ROUND(G374*Parameters!$C$16,2))","v":""},{"$f":"IF(G374=\"\",\"\",ROUND(G374*VLOOKUP(J374,Parameters!$E$3:$F$49,2,FALSE),2))","v":""},{"$f":"IF(G374=\"\",\"\",ROUND(G374*Parameters!$J$66,2))","v":""},"",{"$f":"IF(G374=\"\",\"\",ROUND(G374*Parameters!$C$13,2))","v":""},{"$f":"IF(G374=\"\",\"\",IF(YEAR(Informatie!$C$1)=2015,ROUND(G374*Parameters!J$44,2),ROUND(G374*VLOOKUP('Overzicht deelnemers'!I374,Parameters!$E$4:$G$49,3,FALSE),2)))","v":""},{"$f":"IF(G374=\"\",\"\",IF(YEAR(Informatie!$C$1)=2015,ROUND(T374*Parameters!$C$20,2),ROUND(G374*Parameters!$J$44,2)))","v":""},"",{"$f":"IF(G374=\"\",\"\",ROUND(G374*Parameters!C$17,2))","v":""},{"$f":"IF(G374=\"\",\"\",ROUND(G374*VLOOKUP(J374,Parameters!E$4:G$49,3),2))","v":""},{"$f":"IF(G374=\"\",\"\",ROUND(G374*Parameters!J$83,2))","v":""},""]
[null,null,null,null,0,{"$f":"IF(C375=\"\",0,IF(C375<=Parameters!$C$3,C375,Parameters!$C$3))","v":0},{"$f":"IF(C375=\"\",\"\",IF(F375<Parameters!$C$4,\"\",(F375-Parameters!$C$4)*D375))","v":""},null,{"$f":"IF(H375=\"\",\"\",YEAR(+Informatie!$C$1)-YEAR(H375))","v":""},"",{"$f":"IF(G375=\"\",\"\",ROUND(G375*Parameters!$C$12,2))","v":""},{"$f":"IF(G375=\"\",\"\",IF(YEAR(Informatie!$C$1)=2015,ROUND(G375*Parameters!$J$27,2),ROUND(G375*VLOOKUP('Overzicht deelnemers'!I375,Parameters!$E$4:$G$49,2,FALSE),2)))","v":""},{"$f":"IF(G375=\"\",\"\",IF(YEAR(Informatie!$C$1)=2015,ROUND(L375*Parameters!$C$20,2),G375*Parameters!$J$27))","v":""},"",{"$f":"IF(G375=\"\",\"\",ROUND(G375*Parameters!$C$16,2))","v":""},{"$f":"IF(G375=\"\",\"\",ROUND(G375*VLOOKUP(J375,Parameters!$E$3:$F$49,2,FALSE),2))","v":""},{"$f":"IF(G375=\"\",\"\",ROUND(G375*Parameters!$J$66,2))","v":""},"",{"$f":"IF(G375=\"\",\"\",ROUND(G375*Parameters!$C$13,2))","v":""},{"$f":"IF(G375=\"\",\"\",IF(YEAR(Informatie!$C$1)=2015,ROUND(G375*Parameters!J$44,2),ROUND(G375*VLOOKUP('Overzicht deelnemers'!I375,Parameters!$E$4:$G$49,3,FALSE),2)))","v":""},{"$f":"IF(G375=\"\",\"\",IF(YEAR(Informatie!$C$1)=2015,ROUND(T375*Parameters!$C$20,2),ROUND(G375*Parameters!$J$44,2)))","v":""},"",{"$f":"IF(G375=\"\",\"\",ROUND(G375*Parameters!C$17,2))","v":""},{"$f":"IF(G375=\"\",\"\",ROUND(G375*VLOOKUP(J375,Parameters!E$4:G$49,3),2))","v":""},{"$f":"IF(G375=\"\",\"\",ROUND(G375*Parameters!J$83,2))","v":""},""]
[null,null,null,null,0,{"$f":"IF(C376=\"\",0,IF(C376<=Parameters!$C$3,C376,Parameters!$C$3))","v":0},{"$f":"IF(C376=\"\",\"\",IF(F376<Parameters!$C$4,\"\",(F376-Parameters!$C$4)*D376))","v":""},null,{"$f":"IF(H376=\"\",\"\",YEAR(+Informatie!$C$1)-YEAR(H376))","v":""},"",{"$f":"IF(G376=\"\",\"\",ROUND(G376*Parameters!$C$12,2))","v":""},{"$f":"IF(G376=\"\",\"\",IF(YEAR(Informatie!$C$1)=2015,ROUND(G376*Parameters!$J$27,2),ROUND(G376*VLOOKUP('Overzicht deelnemers'!I376,Parameters!$E$4:$G$49,2,FALSE),2)))","v":""},{"$f":"IF(G376=\"\",\"\",IF(YEAR(Informatie!$C$1)=2015,ROUND(L376*Parameters!$C$20,2),G376*Parameters!$J$27))","v":""},"",{"$f":"IF(G376=\"\",\"\",ROUND(G376*Parameters!$C$16,2))","v":""},{"$f":"IF(G376=\"\",\"\",ROUND(G376*VLOOKUP(J376,Parameters!$E$3:$F$49,2,FALSE),2))","v":""},{"$f":"IF(G376=\"\",\"\",ROUND(G376*Parameters!$J$66,2))","v":""},"",{"$f":"IF(G376=\"\",\"\",ROUND(G376*Parameters!$C$13,2))","v":""},{"$f":"IF(G376=\"\",\"\",IF(YEAR(Informatie!$C$1)=2015,ROUND(G376*Parameters!J$44,2),ROUND(G376*VLOOKUP('Overzicht deelnemers'!I376,Parameters!$E$4:$G$49,3,FALSE),2)))","v":""},{"$f":"IF(G376=\"\",\"\",IF(YEAR(Informatie!$C$1)=2015,ROUND(T376*Parameters!$C$20,2),ROUND(G376*Parameters!$J$44,2)))","v":""},"",{"$f":"IF(G376=\"\",\"\",ROUND(G376*Parameters!C$17,2))","v":""},{"$f":"IF(G376=\"\",\"\",ROUND(G376*VLOOKUP(J376,Parameters!E$4:G$49,3),2))","v":""},{"$f":"IF(G376=\"\",\"\",ROUND(G376*Parameters!J$83,2))","v":""},""]
[null,null,null,null,0,{"$f":"IF(C377=\"\",0,IF(C377<=Parameters!$C$3,C377,Parameters!$C$3))","v":0},{"$f":"IF(C377=\"\",\"\",IF(F377<Parameters!$C$4,\"\",(F377-Parameters!$C$4)*D377))","v":""},null,{"$f":"IF(H377=\"\",\"\",YEAR(+Informatie!$C$1)-YEAR(H377))","v":""},"",{"$f":"IF(G377=\"\",\"\",ROUND(G377*Parameters!$C$12,2))","v":""},{"$f":"IF(G377=\"\",\"\",IF(YEAR(Informatie!$C$1)=2015,ROUND(G377*Parameters!$J$27,2),ROUND(G377*VLOOKUP('Overzicht deelnemers'!I377,Parameters!$E$4:$G$49,2,FALSE),2)))","v":""},{"$f":"IF(G377=\"\",\"\",IF(YEAR(Informatie!$C$1)=2015,ROUND(L377*Parameters!$C$20,2),G377*Parameters!$J$27))","v":""},"",{"$f":"IF(G377=\"\",\"\",ROUND(G377*Parameters!$C$16,2))","v":""},{"$f":"IF(G377=\"\",\"\",ROUND(G377*VLOOKUP(J377,Parameters!$E$3:$F$49,2,FALSE),2))","v":""},{"$f":"IF(G377=\"\",\"\",ROUND(G377*Parameters!$J$66,2))","v":""},"",{"$f":"IF(G377=\"\",\"\",ROUND(G377*Parameters!$C$13,2))","v":""},{"$f":"IF(G377=\"\",\"\",IF(YEAR(Informatie!$C$1)=2015,ROUND(G377*Parameters!J$44,2),ROUND(G377*VLOOKUP('Overzicht deelnemers'!I377,Parameters!$E$4:$G$49,3,FALSE),2)))","v":""},{"$f":"IF(G377=\"\",\"\",IF(YEAR(Informatie!$C$1)=2015,ROUND(T377*Parameters!$C$20,2),ROUND(G377*Parameters!$J$44,2)))","v":""},"",{"$f":"IF(G377=\"\",\"\",ROUND(G377*Parameters!C$17,2))","v":""},{"$f":"IF(G377=\"\",\"\",ROUND(G377*VLOOKUP(J377,Parameters!E$4:G$49,3),2))","v":""},{"$f":"IF(G377=\"\",\"\",ROUND(G377*Parameters!J$83,2))","v":""},""]
[null,null,null,null,0,{"$f":"IF(C378=\"\",0,IF(C378<=Parameters!$C$3,C378,Parameters!$C$3))","v":0},{"$f":"IF(C378=\"\",\"\",IF(F378<Parameters!$C$4,\"\",(F378-Parameters!$C$4)*D378))","v":""},null,{"$f":"IF(H378=\"\",\"\",YEAR(+Informatie!$C$1)-YEAR(H378))","v":""},"",{"$f":"IF(G378=\"\",\"\",ROUND(G378*Parameters!$C$12,2))","v":""},{"$f":"IF(G378=\"\",\"\",IF(YEAR(Informatie!$C$1)=2015,ROUND(G378*Parameters!$J$27,2),ROUND(G378*VLOOKUP('Overzicht deelnemers'!I378,Parameters!$E$4:$G$49,2,FALSE),2)))","v":""},{"$f":"IF(G378=\"\",\"\",IF(YEAR(Informatie!$C$1)=2015,ROUND(L378*Parameters!$C$20,2),G378*Parameters!$J$27))","v":""},"",{"$f":"IF(G378=\"\",\"\",ROUND(G378*Parameters!$C$16,2))","v":""},{"$f":"IF(G378=\"\",\"\",ROUND(G378*VLOOKUP(J378,Parameters!$E$3:$F$49,2,FALSE),2))","v":""},{"$f":"IF(G378=\"\",\"\",ROUND(G378*Parameters!$J$66,2))","v":""},"",{"$f":"IF(G378=\"\",\"\",ROUND(G378*Parameters!$C$13,2))","v":""},{"$f":"IF(G378=\"\",\"\",IF(YEAR(Informatie!$C$1)=2015,ROUND(G378*Parameters!J$44,2),ROUND(G378*VLOOKUP('Overzicht deelnemers'!I378,Parameters!$E$4:$G$49,3,FALSE),2)))","v":""},{"$f":"IF(G378=\"\",\"\",IF(YEAR(Informatie!$C$1)=2015,ROUND(T378*Parameters!$C$20,2),ROUND(G378*Parameters!$J$44,2)))","v":""},"",{"$f":"IF(G378=\"\",\"\",ROUND(G378*Parameters!C$17,2))","v":""},{"$f":"IF(G378=\"\",\"\",ROUND(G378*VLOOKUP(J378,Parameters!E$4:G$49,3),2))","v":""},{"$f":"IF(G378=\"\",\"\",ROUND(G378*Parameters!J$83,2))","v":""},""]
[null,null,null,null,0,{"$f":"IF(C379=\"\",0,IF(C379<=Parameters!$C$3,C379,Parameters!$C$3))","v":0},{"$f":"IF(C379=\"\",\"\",IF(F379<Parameters!$C$4,\"\",(F379-Parameters!$C$4)*D379))","v":""},null,{"$f":"IF(H379=\"\",\"\",YEAR(+Informatie!$C$1)-YEAR(H379))","v":""},"",{"$f":"IF(G379=\"\",\"\",ROUND(G379*Parameters!$C$12,2))","v":""},{"$f":"IF(G379=\"\",\"\",IF(YEAR(Informatie!$C$1)=2015,ROUND(G379*Parameters!$J$27,2),ROUND(G379*VLOOKUP('Overzicht deelnemers'!I379,Parameters!$E$4:$G$49,2,FALSE),2)))","v":""},{"$f":"IF(G379=\"\",\"\",IF(YEAR(Informatie!$C$1)=2015,ROUND(L379*Parameters!$C$20,2),G379*Parameters!$J$27))","v":""},"",{"$f":"IF(G379=\"\",\"\",ROUND(G379*Parameters!$C$16,2))","v":""},{"$f":"IF(G379=\"\",\"\",ROUND(G379*VLOOKUP(J379,Parameters!$E$3:$F$49,2,FALSE),2))","v":""},{"$f":"IF(G379=\"\",\"\",ROUND(G379*Parameters!$J$66,2))","v":""},"",{"$f":"IF(G379=\"\",\"\",ROUND(G379*Parameters!$C$13,2))","v":""},{"$f":"IF(G379=\"\",\"\",IF(YEAR(Informatie!$C$1)=2015,ROUND(G379*Parameters!J$44,2),ROUND(G379*VLOOKUP('Overzicht deelnemers'!I379,Parameters!$E$4:$G$49,3,FALSE),2)))","v":""},{"$f":"IF(G379=\"\",\"\",IF(YEAR(Informatie!$C$1)=2015,ROUND(T379*Parameters!$C$20,2),ROUND(G379*Parameters!$J$44,2)))","v":""},"",{"$f":"IF(G379=\"\",\"\",ROUND(G379*Parameters!C$17,2))","v":""},{"$f":"IF(G379=\"\",\"\",ROUND(G379*VLOOKUP(J379,Parameters!E$4:G$49,3),2))","v":""},{"$f":"IF(G379=\"\",\"\",ROUND(G379*Parameters!J$83,2))","v":""},""]
[null,null,null,null,0,{"$f":"IF(C380=\"\",0,IF(C380<=Parameters!$C$3,C380,Parameters!$C$3))","v":0},{"$f":"IF(C380=\"\",\"\",IF(F380<Parameters!$C$4,\"\",(F380-Parameters!$C$4)*D380))","v":""},null,{"$f":"IF(H380=\"\",\"\",YEAR(+Informatie!$C$1)-YEAR(H380))","v":""},"",{"$f":"IF(G380=\"\",\"\",ROUND(G380*Parameters!$C$12,2))","v":""},{"$f":"IF(G380=\"\",\"\",IF(YEAR(Informatie!$C$1)=2015,ROUND(G380*Parameters!$J$27,2),ROUND(G380*VLOOKUP('Overzicht deelnemers'!I380,Parameters!$E$4:$G$49,2,FALSE),2)))","v":""},{"$f":"IF(G380=\"\",\"\",IF(YEAR(Informatie!$C$1)=2015,ROUND(L380*Parameters!$C$20,2),G380*Parameters!$J$27))","v":""},"",{"$f":"IF(G380=\"\",\"\",ROUND(G380*Parameters!$C$16,2))","v":""},{"$f":"IF(G380=\"\",\"\",ROUND(G380*VLOOKUP(J380,Parameters!$E$3:$F$49,2,FALSE),2))","v":""},{"$f":"IF(G380=\"\",\"\",ROUND(G380*Parameters!$J$66,2))","v":""},"",{"$f":"IF(G380=\"\",\"\",ROUND(G380*Parameters!$C$13,2))","v":""},{"$f":"IF(G380=\"\",\"\",IF(YEAR(Informatie!$C$1)=2015,ROUND(G380*Parameters!J$44,2),ROUND(G380*VLOOKUP('Overzicht deelnemers'!I380,Parameters!$E$4:$G$49,3,FALSE),2)))","v":""},{"$f":"IF(G380=\"\",\"\",IF(YEAR(Informatie!$C$1)=2015,ROUND(T380*Parameters!$C$20,2),ROUND(G380*Parameters!$J$44,2)))","v":""},"",{"$f":"IF(G380=\"\",\"\",ROUND(G380*Parameters!C$17,2))","v":""},{"$f":"IF(G380=\"\",\"\",ROUND(G380*VLOOKUP(J380,Parameters!E$4:G$49,3),2))","v":""},{"$f":"IF(G380=\"\",\"\",ROUND(G380*Parameters!J$83,2))","v":""},""]
[null,null,null,null,0,{"$f":"IF(C381=\"\",0,IF(C381<=Parameters!$C$3,C381,Parameters!$C$3))","v":0},{"$f":"IF(C381=\"\",\"\",IF(F381<Parameters!$C$4,\"\",(F381-Parameters!$C$4)*D381))","v":""},null,{"$f":"IF(H381=\"\",\"\",YEAR(+Informatie!$C$1)-YEAR(H381))","v":""},"",{"$f":"IF(G381=\"\",\"\",ROUND(G381*Parameters!$C$12,2))","v":""},{"$f":"IF(G381=\"\",\"\",IF(YEAR(Informatie!$C$1)=2015,ROUND(G381*Parameters!$J$27,2),ROUND(G381*VLOOKUP('Overzicht deelnemers'!I381,Parameters!$E$4:$G$49,2,FALSE),2)))","v":""},{"$f":"IF(G381=\"\",\"\",IF(YEAR(Informatie!$C$1)=2015,ROUND(L381*Parameters!$C$20,2),G381*Parameters!$J$27))","v":""},"",{"$f":"IF(G381=\"\",\"\",ROUND(G381*Parameters!$C$16,2))","v":""},{"$f":"IF(G381=\"\",\"\",ROUND(G381*VLOOKUP(J381,Parameters!$E$3:$F$49,2,FALSE),2))","v":""},{"$f":"IF(G381=\"\",\"\",ROUND(G381*Parameters!$J$66,2))","v":""},"",{"$f":"IF(G381=\"\",\"\",ROUND(G381*Parameters!$C$13,2))","v":""},{"$f":"IF(G381=\"\",\"\",IF(YEAR(Informatie!$C$1)=2015,ROUND(G381*Parameters!J$44,2),ROUND(G381*VLOOKUP('Overzicht deelnemers'!I381,Parameters!$E$4:$G$49,3,FALSE),2)))","v":""},{"$f":"IF(G381=\"\",\"\",IF(YEAR(Informatie!$C$1)=2015,ROUND(T381*Parameters!$C$20,2),ROUND(G381*Parameters!$J$44,2)))","v":""},"",{"$f":"IF(G381=\"\",\"\",ROUND(G381*Parameters!C$17,2))","v":""},{"$f":"IF(G381=\"\",\"\",ROUND(G381*VLOOKUP(J381,Parameters!E$4:G$49,3),2))","v":""},{"$f":"IF(G381=\"\",\"\",ROUND(G381*Parameters!J$83,2))","v":""},""]
[null,null,null,null,0,{"$f":"IF(C382=\"\",0,IF(C382<=Parameters!$C$3,C382,Parameters!$C$3))","v":0},{"$f":"IF(C382=\"\",\"\",IF(F382<Parameters!$C$4,\"\",(F382-Parameters!$C$4)*D382))","v":""},null,{"$f":"IF(H382=\"\",\"\",YEAR(+Informatie!$C$1)-YEAR(H382))","v":""},"",{"$f":"IF(G382=\"\",\"\",ROUND(G382*Parameters!$C$12,2))","v":""},{"$f":"IF(G382=\"\",\"\",IF(YEAR(Informatie!$C$1)=2015,ROUND(G382*Parameters!$J$27,2),ROUND(G382*VLOOKUP('Overzicht deelnemers'!I382,Parameters!$E$4:$G$49,2,FALSE),2)))","v":""},{"$f":"IF(G382=\"\",\"\",IF(YEAR(Informatie!$C$1)=2015,ROUND(L382*Parameters!$C$20,2),G382*Parameters!$J$27))","v":""},"",{"$f":"IF(G382=\"\",\"\",ROUND(G382*Parameters!$C$16,2))","v":""},{"$f":"IF(G382=\"\",\"\",ROUND(G382*VLOOKUP(J382,Parameters!$E$3:$F$49,2,FALSE),2))","v":""},{"$f":"IF(G382=\"\",\"\",ROUND(G382*Parameters!$J$66,2))","v":""},"",{"$f":"IF(G382=\"\",\"\",ROUND(G382*Parameters!$C$13,2))","v":""},{"$f":"IF(G382=\"\",\"\",IF(YEAR(Informatie!$C$1)=2015,ROUND(G382*Parameters!J$44,2),ROUND(G382*VLOOKUP('Overzicht deelnemers'!I382,Parameters!$E$4:$G$49,3,FALSE),2)))","v":""},{"$f":"IF(G382=\"\",\"\",IF(YEAR(Informatie!$C$1)=2015,ROUND(T382*Parameters!$C$20,2),ROUND(G382*Parameters!$J$44,2)))","v":""},"",{"$f":"IF(G382=\"\",\"\",ROUND(G382*Parameters!C$17,2))","v":""},{"$f":"IF(G382=\"\",\"\",ROUND(G382*VLOOKUP(J382,Parameters!E$4:G$49,3),2))","v":""},{"$f":"IF(G382=\"\",\"\",ROUND(G382*Parameters!J$83,2))","v":""},""]
[null,null,null,null,0,{"$f":"IF(C383=\"\",0,IF(C383<=Parameters!$C$3,C383,Parameters!$C$3))","v":0},{"$f":"IF(C383=\"\",\"\",IF(F383<Parameters!$C$4,\"\",(F383-Parameters!$C$4)*D383))","v":""},null,{"$f":"IF(H383=\"\",\"\",YEAR(+Informatie!$C$1)-YEAR(H383))","v":""},"",{"$f":"IF(G383=\"\",\"\",ROUND(G383*Parameters!$C$12,2))","v":""},{"$f":"IF(G383=\"\",\"\",IF(YEAR(Informatie!$C$1)=2015,ROUND(G383*Parameters!$J$27,2),ROUND(G383*VLOOKUP('Overzicht deelnemers'!I383,Parameters!$E$4:$G$49,2,FALSE),2)))","v":""},{"$f":"IF(G383=\"\",\"\",IF(YEAR(Informatie!$C$1)=2015,ROUND(L383*Parameters!$C$20,2),G383*Parameters!$J$27))","v":""},"",{"$f":"IF(G383=\"\",\"\",ROUND(G383*Parameters!$C$16,2))","v":""},{"$f":"IF(G383=\"\",\"\",ROUND(G383*VLOOKUP(J383,Parameters!$E$3:$F$49,2,FALSE),2))","v":""},{"$f":"IF(G383=\"\",\"\",ROUND(G383*Parameters!$J$66,2))","v":""},"",{"$f":"IF(G383=\"\",\"\",ROUND(G383*Parameters!$C$13,2))","v":""},{"$f":"IF(G383=\"\",\"\",IF(YEAR(Informatie!$C$1)=2015,ROUND(G383*Parameters!J$44,2),ROUND(G383*VLOOKUP('Overzicht deelnemers'!I383,Parameters!$E$4:$G$49,3,FALSE),2)))","v":""},{"$f":"IF(G383=\"\",\"\",IF(YEAR(Informatie!$C$1)=2015,ROUND(T383*Parameters!$C$20,2),ROUND(G383*Parameters!$J$44,2)))","v":""},"",{"$f":"IF(G383=\"\",\"\",ROUND(G383*Parameters!C$17,2))","v":""},{"$f":"IF(G383=\"\",\"\",ROUND(G383*VLOOKUP(J383,Parameters!E$4:G$49,3),2))","v":""},{"$f":"IF(G383=\"\",\"\",ROUND(G383*Parameters!J$83,2))","v":""},""]
[null,null,null,null,0,{"$f":"IF(C384=\"\",0,IF(C384<=Parameters!$C$3,C384,Parameters!$C$3))","v":0},{"$f":"IF(C384=\"\",\"\",IF(F384<Parameters!$C$4,\"\",(F384-Parameters!$C$4)*D384))","v":""},null,{"$f":"IF(H384=\"\",\"\",YEAR(+Informatie!$C$1)-YEAR(H384))","v":""},"",{"$f":"IF(G384=\"\",\"\",ROUND(G384*Parameters!$C$12,2))","v":""},{"$f":"IF(G384=\"\",\"\",IF(YEAR(Informatie!$C$1)=2015,ROUND(G384*Parameters!$J$27,2),ROUND(G384*VLOOKUP('Overzicht deelnemers'!I384,Parameters!$E$4:$G$49,2,FALSE),2)))","v":""},{"$f":"IF(G384=\"\",\"\",IF(YEAR(Informatie!$C$1)=2015,ROUND(L384*Parameters!$C$20,2),G384*Parameters!$J$27))","v":""},"",{"$f":"IF(G384=\"\",\"\",ROUND(G384*Parameters!$C$16,2))","v":""},{"$f":"IF(G384=\"\",\"\",ROUND(G384*VLOOKUP(J384,Parameters!$E$3:$F$49,2,FALSE),2))","v":""},{"$f":"IF(G384=\"\",\"\",ROUND(G384*Parameters!$J$66,2))","v":""},"",{"$f":"IF(G384=\"\",\"\",ROUND(G384*Parameters!$C$13,2))","v":""},{"$f":"IF(G384=\"\",\"\",IF(YEAR(Informatie!$C$1)=2015,ROUND(G384*Parameters!J$44,2),ROUND(G384*VLOOKUP('Overzicht deelnemers'!I384,Parameters!$E$4:$G$49,3,FALSE),2)))","v":""},{"$f":"IF(G384=\"\",\"\",IF(YEAR(Informatie!$C$1)=2015,ROUND(T384*Parameters!$C$20,2),ROUND(G384*Parameters!$J$44,2)))","v":""},"",{"$f":"IF(G384=\"\",\"\",ROUND(G384*Parameters!C$17,2))","v":""},{"$f":"IF(G384=\"\",\"\",ROUND(G384*VLOOKUP(J384,Parameters!E$4:G$49,3),2))","v":""},{"$f":"IF(G384=\"\",\"\",ROUND(G384*Parameters!J$83,2))","v":""},""]
[null,null,null,null,0,{"$f":"IF(C385=\"\",0,IF(C385<=Parameters!$C$3,C385,Parameters!$C$3))","v":0},{"$f":"IF(C385=\"\",\"\",IF(F385<Parameters!$C$4,\"\",(F385-Parameters!$C$4)*D385))","v":""},null,{"$f":"IF(H385=\"\",\"\",YEAR(+Informatie!$C$1)-YEAR(H385))","v":""},"",{"$f":"IF(G385=\"\",\"\",ROUND(G385*Parameters!$C$12,2))","v":""},{"$f":"IF(G385=\"\",\"\",IF(YEAR(Informatie!$C$1)=2015,ROUND(G385*Parameters!$J$27,2),ROUND(G385*VLOOKUP('Overzicht deelnemers'!I385,Parameters!$E$4:$G$49,2,FALSE),2)))","v":""},{"$f":"IF(G385=\"\",\"\",IF(YEAR(Informatie!$C$1)=2015,ROUND(L385*Parameters!$C$20,2),G385*Parameters!$J$27))","v":""},"",{"$f":"IF(G385=\"\",\"\",ROUND(G385*Parameters!$C$16,2))","v":""},{"$f":"IF(G385=\"\",\"\",ROUND(G385*VLOOKUP(J385,Parameters!$E$3:$F$49,2,FALSE),2))","v":""},{"$f":"IF(G385=\"\",\"\",ROUND(G385*Parameters!$J$66,2))","v":""},"",{"$f":"IF(G385=\"\",\"\",ROUND(G385*Parameters!$C$13,2))","v":""},{"$f":"IF(G385=\"\",\"\",IF(YEAR(Informatie!$C$1)=2015,ROUND(G385*Parameters!J$44,2),ROUND(G385*VLOOKUP('Overzicht deelnemers'!I385,Parameters!$E$4:$G$49,3,FALSE),2)))","v":""},{"$f":"IF(G385=\"\",\"\",IF(YEAR(Informatie!$C$1)=2015,ROUND(T385*Parameters!$C$20,2),ROUND(G385*Parameters!$J$44,2)))","v":""},"",{"$f":"IF(G385=\"\",\"\",ROUND(G385*Parameters!C$17,2))","v":""},{"$f":"IF(G385=\"\",\"\",ROUND(G385*VLOOKUP(J385,Parameters!E$4:G$49,3),2))","v":""},{"$f":"IF(G385=\"\",\"\",ROUND(G385*Parameters!J$83,2))","v":""},""]
[null,null,null,null,0,{"$f":"IF(C386=\"\",0,IF(C386<=Parameters!$C$3,C386,Parameters!$C$3))","v":0},{"$f":"IF(C386=\"\",\"\",IF(F386<Parameters!$C$4,\"\",(F386-Parameters!$C$4)*D386))","v":""},null,{"$f":"IF(H386=\"\",\"\",YEAR(+Informatie!$C$1)-YEAR(H386))","v":""},"",{"$f":"IF(G386=\"\",\"\",ROUND(G386*Parameters!$C$12,2))","v":""},{"$f":"IF(G386=\"\",\"\",IF(YEAR(Informatie!$C$1)=2015,ROUND(G386*Parameters!$J$27,2),ROUND(G386*VLOOKUP('Overzicht deelnemers'!I386,Parameters!$E$4:$G$49,2,FALSE),2)))","v":""},{"$f":"IF(G386=\"\",\"\",IF(YEAR(Informatie!$C$1)=2015,ROUND(L386*Parameters!$C$20,2),G386*Parameters!$J$27))","v":""},"",{"$f":"IF(G386=\"\",\"\",ROUND(G386*Parameters!$C$16,2))","v":""},{"$f":"IF(G386=\"\",\"\",ROUND(G386*VLOOKUP(J386,Parameters!$E$3:$F$49,2,FALSE),2))","v":""},{"$f":"IF(G386=\"\",\"\",ROUND(G386*Parameters!$J$66,2))","v":""},"",{"$f":"IF(G386=\"\",\"\",ROUND(G386*Parameters!$C$13,2))","v":""},{"$f":"IF(G386=\"\",\"\",IF(YEAR(Informatie!$C$1)=2015,ROUND(G386*Parameters!J$44,2),ROUND(G386*VLOOKUP('Overzicht deelnemers'!I386,Parameters!$E$4:$G$49,3,FALSE),2)))","v":""},{"$f":"IF(G386=\"\",\"\",IF(YEAR(Informatie!$C$1)=2015,ROUND(T386*Parameters!$C$20,2),ROUND(G386*Parameters!$J$44,2)))","v":""},"",{"$f":"IF(G386=\"\",\"\",ROUND(G386*Parameters!C$17,2))","v":""},{"$f":"IF(G386=\"\",\"\",ROUND(G386*VLOOKUP(J386,Parameters!E$4:G$49,3),2))","v":""},{"$f":"IF(G386=\"\",\"\",ROUND(G386*Parameters!J$83,2))","v":""},""]
[null,null,null,null,0,{"$f":"IF(C387=\"\",0,IF(C387<=Parameters!$C$3,C387,Parameters!$C$3))","v":0},{"$f":"IF(C387=\"\",\"\",IF(F387<Parameters!$C$4,\"\",(F387-Parameters!$C$4)*D387))","v":""},null,{"$f":"IF(H387=\"\",\"\",YEAR(+Informatie!$C$1)-YEAR(H387))","v":""},"",{"$f":"IF(G387=\"\",\"\",ROUND(G387*Parameters!$C$12,2))","v":""},{"$f":"IF(G387=\"\",\"\",IF(YEAR(Informatie!$C$1)=2015,ROUND(G387*Parameters!$J$27,2),ROUND(G387*VLOOKUP('Overzicht deelnemers'!I387,Parameters!$E$4:$G$49,2,FALSE),2)))","v":""},{"$f":"IF(G387=\"\",\"\",IF(YEAR(Informatie!$C$1)=2015,ROUND(L387*Parameters!$C$20,2),G387*Parameters!$J$27))","v":""},"",{"$f":"IF(G387=\"\",\"\",ROUND(G387*Parameters!$C$16,2))","v":""},{"$f":"IF(G387=\"\",\"\",ROUND(G387*VLOOKUP(J387,Parameters!$E$3:$F$49,2,FALSE),2))","v":""},{"$f":"IF(G387=\"\",\"\",ROUND(G387*Parameters!$J$66,2))","v":""},"",{"$f":"IF(G387=\"\",\"\",ROUND(G387*Parameters!$C$13,2))","v":""},{"$f":"IF(G387=\"\",\"\",IF(YEAR(Informatie!$C$1)=2015,ROUND(G387*Parameters!J$44,2),ROUND(G387*VLOOKUP('Overzicht deelnemers'!I387,Parameters!$E$4:$G$49,3,FALSE),2)))","v":""},{"$f":"IF(G387=\"\",\"\",IF(YEAR(Informatie!$C$1)=2015,ROUND(T387*Parameters!$C$20,2),ROUND(G387*Parameters!$J$44,2)))","v":""},"",{"$f":"IF(G387=\"\",\"\",ROUND(G387*Parameters!C$17,2))","v":""},{"$f":"IF(G387=\"\",\"\",ROUND(G387*VLOOKUP(J387,Parameters!E$4:G$49,3),2))","v":""},{"$f":"IF(G387=\"\",\"\",ROUND(G387*Parameters!J$83,2))","v":""},""]
[null,null,null,null,0,{"$f":"IF(C388=\"\",0,IF(C388<=Parameters!$C$3,C388,Parameters!$C$3))","v":0},{"$f":"IF(C388=\"\",\"\",IF(F388<Parameters!$C$4,\"\",(F388-Parameters!$C$4)*D388))","v":""},null,{"$f":"IF(H388=\"\",\"\",YEAR(+Informatie!$C$1)-YEAR(H388))","v":""},"",{"$f":"IF(G388=\"\",\"\",ROUND(G388*Parameters!$C$12,2))","v":""},{"$f":"IF(G388=\"\",\"\",IF(YEAR(Informatie!$C$1)=2015,ROUND(G388*Parameters!$J$27,2),ROUND(G388*VLOOKUP('Overzicht deelnemers'!I388,Parameters!$E$4:$G$49,2,FALSE),2)))","v":""},{"$f":"IF(G388=\"\",\"\",IF(YEAR(Informatie!$C$1)=2015,ROUND(L388*Parameters!$C$20,2),G388*Parameters!$J$27))","v":""},"",{"$f":"IF(G388=\"\",\"\",ROUND(G388*Parameters!$C$16,2))","v":""},{"$f":"IF(G388=\"\",\"\",ROUND(G388*VLOOKUP(J388,Parameters!$E$3:$F$49,2,FALSE),2))","v":""},{"$f":"IF(G388=\"\",\"\",ROUND(G388*Parameters!$J$66,2))","v":""},"",{"$f":"IF(G388=\"\",\"\",ROUND(G388*Parameters!$C$13,2))","v":""},{"$f":"IF(G388=\"\",\"\",IF(YEAR(Informatie!$C$1)=2015,ROUND(G388*Parameters!J$44,2),ROUND(G388*VLOOKUP('Overzicht deelnemers'!I388,Parameters!$E$4:$G$49,3,FALSE),2)))","v":""},{"$f":"IF(G388=\"\",\"\",IF(YEAR(Informatie!$C$1)=2015,ROUND(T388*Parameters!$C$20,2),ROUND(G388*Parameters!$J$44,2)))","v":""},"",{"$f":"IF(G388=\"\",\"\",ROUND(G388*Parameters!C$17,2))","v":""},{"$f":"IF(G388=\"\",\"\",ROUND(G388*VLOOKUP(J388,Parameters!E$4:G$49,3),2))","v":""},{"$f":"IF(G388=\"\",\"\",ROUND(G388*Parameters!J$83,2))","v":""},""]
[null,null,null,null,0,{"$f":"IF(C389=\"\",0,IF(C389<=Parameters!$C$3,C389,Parameters!$C$3))","v":0},{"$f":"IF(C389=\"\",\"\",IF(F389<Parameters!$C$4,\"\",(F389-Parameters!$C$4)*D389))","v":""},null,{"$f":"IF(H389=\"\",\"\",YEAR(+Informatie!$C$1)-YEAR(H389))","v":""},"",{"$f":"IF(G389=\"\",\"\",ROUND(G389*Parameters!$C$12,2))","v":""},{"$f":"IF(G389=\"\",\"\",IF(YEAR(Informatie!$C$1)=2015,ROUND(G389*Parameters!$J$27,2),ROUND(G389*VLOOKUP('Overzicht deelnemers'!I389,Parameters!$E$4:$G$49,2,FALSE),2)))","v":""},{"$f":"IF(G389=\"\",\"\",IF(YEAR(Informatie!$C$1)=2015,ROUND(L389*Parameters!$C$20,2),G389*Parameters!$J$27))","v":""},"",{"$f":"IF(G389=\"\",\"\",ROUND(G389*Parameters!$C$16,2))","v":""},{"$f":"IF(G389=\"\",\"\",ROUND(G389*VLOOKUP(J389,Parameters!$E$3:$F$49,2,FALSE),2))","v":""},{"$f":"IF(G389=\"\",\"\",ROUND(G389*Parameters!$J$66,2))","v":""},"",{"$f":"IF(G389=\"\",\"\",ROUND(G389*Parameters!$C$13,2))","v":""},{"$f":"IF(G389=\"\",\"\",IF(YEAR(Informatie!$C$1)=2015,ROUND(G389*Parameters!J$44,2),ROUND(G389*VLOOKUP('Overzicht deelnemers'!I389,Parameters!$E$4:$G$49,3,FALSE),2)))","v":""},{"$f":"IF(G389=\"\",\"\",IF(YEAR(Informatie!$C$1)=2015,ROUND(T389*Parameters!$C$20,2),ROUND(G389*Parameters!$J$44,2)))","v":""},"",{"$f":"IF(G389=\"\",\"\",ROUND(G389*Parameters!C$17,2))","v":""},{"$f":"IF(G389=\"\",\"\",ROUND(G389*VLOOKUP(J389,Parameters!E$4:G$49,3),2))","v":""},{"$f":"IF(G389=\"\",\"\",ROUND(G389*Parameters!J$83,2))","v":""},""]
[null,null,null,null,0,{"$f":"IF(C390=\"\",0,IF(C390<=Parameters!$C$3,C390,Parameters!$C$3))","v":0},{"$f":"IF(C390=\"\",\"\",IF(F390<Parameters!$C$4,\"\",(F390-Parameters!$C$4)*D390))","v":""},null,{"$f":"IF(H390=\"\",\"\",YEAR(+Informatie!$C$1)-YEAR(H390))","v":""},"",{"$f":"IF(G390=\"\",\"\",ROUND(G390*Parameters!$C$12,2))","v":""},{"$f":"IF(G390=\"\",\"\",IF(YEAR(Informatie!$C$1)=2015,ROUND(G390*Parameters!$J$27,2),ROUND(G390*VLOOKUP('Overzicht deelnemers'!I390,Parameters!$E$4:$G$49,2,FALSE),2)))","v":""},{"$f":"IF(G390=\"\",\"\",IF(YEAR(Informatie!$C$1)=2015,ROUND(L390*Parameters!$C$20,2),G390*Parameters!$J$27))","v":""},"",{"$f":"IF(G390=\"\",\"\",ROUND(G390*Parameters!$C$16,2))","v":""},{"$f":"IF(G390=\"\",\"\",ROUND(G390*VLOOKUP(J390,Parameters!$E$3:$F$49,2,FALSE),2))","v":""},{"$f":"IF(G390=\"\",\"\",ROUND(G390*Parameters!$J$66,2))","v":""},"",{"$f":"IF(G390=\"\",\"\",ROUND(G390*Parameters!$C$13,2))","v":""},{"$f":"IF(G390=\"\",\"\",IF(YEAR(Informatie!$C$1)=2015,ROUND(G390*Parameters!J$44,2),ROUND(G390*VLOOKUP('Overzicht deelnemers'!I390,Parameters!$E$4:$G$49,3,FALSE),2)))","v":""},{"$f":"IF(G390=\"\",\"\",IF(YEAR(Informatie!$C$1)=2015,ROUND(T390*Parameters!$C$20,2),ROUND(G390*Parameters!$J$44,2)))","v":""},"",{"$f":"IF(G390=\"\",\"\",ROUND(G390*Parameters!C$17,2))","v":""},{"$f":"IF(G390=\"\",\"\",ROUND(G390*VLOOKUP(J390,Parameters!E$4:G$49,3),2))","v":""},{"$f":"IF(G390=\"\",\"\",ROUND(G390*Parameters!J$83,2))","v":""},""]
[null,null,null,null,0,{"$f":"IF(C391=\"\",0,IF(C391<=Parameters!$C$3,C391,Parameters!$C$3))","v":0},{"$f":"IF(C391=\"\",\"\",IF(F391<Parameters!$C$4,\"\",(F391-Parameters!$C$4)*D391))","v":""},null,{"$f":"IF(H391=\"\",\"\",YEAR(+Informatie!$C$1)-YEAR(H391))","v":""},"",{"$f":"IF(G391=\"\",\"\",ROUND(G391*Parameters!$C$12,2))","v":""},{"$f":"IF(G391=\"\",\"\",IF(YEAR(Informatie!$C$1)=2015,ROUND(G391*Parameters!$J$27,2),ROUND(G391*VLOOKUP('Overzicht deelnemers'!I391,Parameters!$E$4:$G$49,2,FALSE),2)))","v":""},{"$f":"IF(G391=\"\",\"\",IF(YEAR(Informatie!$C$1)=2015,ROUND(L391*Parameters!$C$20,2),G391*Parameters!$J$27))","v":""},"",{"$f":"IF(G391=\"\",\"\",ROUND(G391*Parameters!$C$16,2))","v":""},{"$f":"IF(G391=\"\",\"\",ROUND(G391*VLOOKUP(J391,Parameters!$E$3:$F$49,2,FALSE),2))","v":""},{"$f":"IF(G391=\"\",\"\",ROUND(G391*Parameters!$J$66,2))","v":""},"",{"$f":"IF(G391=\"\",\"\",ROUND(G391*Parameters!$C$13,2))","v":""},{"$f":"IF(G391=\"\",\"\",IF(YEAR(Informatie!$C$1)=2015,ROUND(G391*Parameters!J$44,2),ROUND(G391*VLOOKUP('Overzicht deelnemers'!I391,Parameters!$E$4:$G$49,3,FALSE),2)))","v":""},{"$f":"IF(G391=\"\",\"\",IF(YEAR(Informatie!$C$1)=2015,ROUND(T391*Parameters!$C$20,2),ROUND(G391*Parameters!$J$44,2)))","v":""},"",{"$f":"IF(G391=\"\",\"\",ROUND(G391*Parameters!C$17,2))","v":""},{"$f":"IF(G391=\"\",\"\",ROUND(G391*VLOOKUP(J391,Parameters!E$4:G$49,3),2))","v":""},{"$f":"IF(G391=\"\",\"\",ROUND(G391*Parameters!J$83,2))","v":""},""]
[null,null,null,null,0,{"$f":"IF(C392=\"\",0,IF(C392<=Parameters!$C$3,C392,Parameters!$C$3))","v":0},{"$f":"IF(C392=\"\",\"\",IF(F392<Parameters!$C$4,\"\",(F392-Parameters!$C$4)*D392))","v":""},null,{"$f":"IF(H392=\"\",\"\",YEAR(+Informatie!$C$1)-YEAR(H392))","v":""},"",{"$f":"IF(G392=\"\",\"\",ROUND(G392*Parameters!$C$12,2))","v":""},{"$f":"IF(G392=\"\",\"\",IF(YEAR(Informatie!$C$1)=2015,ROUND(G392*Parameters!$J$27,2),ROUND(G392*VLOOKUP('Overzicht deelnemers'!I392,Parameters!$E$4:$G$49,2,FALSE),2)))","v":""},{"$f":"IF(G392=\"\",\"\",IF(YEAR(Informatie!$C$1)=2015,ROUND(L392*Parameters!$C$20,2),G392*Parameters!$J$27))","v":""},"",{"$f":"IF(G392=\"\",\"\",ROUND(G392*Parameters!$C$16,2))","v":""},{"$f":"IF(G392=\"\",\"\",ROUND(G392*VLOOKUP(J392,Parameters!$E$3:$F$49,2,FALSE),2))","v":""},{"$f":"IF(G392=\"\",\"\",ROUND(G392*Parameters!$J$66,2))","v":""},"",{"$f":"IF(G392=\"\",\"\",ROUND(G392*Parameters!$C$13,2))","v":""},{"$f":"IF(G392=\"\",\"\",IF(YEAR(Informatie!$C$1)=2015,ROUND(G392*Parameters!J$44,2),ROUND(G392*VLOOKUP('Overzicht deelnemers'!I392,Parameters!$E$4:$G$49,3,FALSE),2)))","v":""},{"$f":"IF(G392=\"\",\"\",IF(YEAR(Informatie!$C$1)=2015,ROUND(T392*Parameters!$C$20,2),ROUND(G392*Parameters!$J$44,2)))","v":""},"",{"$f":"IF(G392=\"\",\"\",ROUND(G392*Parameters!C$17,2))","v":""},{"$f":"IF(G392=\"\",\"\",ROUND(G392*VLOOKUP(J392,Parameters!E$4:G$49,3),2))","v":""},{"$f":"IF(G392=\"\",\"\",ROUND(G392*Parameters!J$83,2))","v":""},""]
[null,null,null,null,{"$f":"C393*D393","v":0},{"$f":"IF(C393=\"\",0,IF(C393<=Parameters!$C$3,C393,Parameters!$C$3))","v":0},{"$f":"IF(C393=\"\",\"\",IF(F393<Parameters!$C$4,\"\",(F393-Parameters!$C$4)*D393))","v":""},null,{"$f":"IF(H393=\"\",\"\",YEAR(+Informatie!$C$1)-YEAR(H393))","v":""},{"$f":"IF(H393=\"\",\"\",I393+1)","v":""},{"$f":"IF(G393=\"\",\"\",ROUND(G393*Parameters!$C$12,2))","v":""},{"$f":"IF(G393=\"\",\"\",IF(YEAR(Informatie!$C$1)=2015,ROUND(G393*Parameters!$J$27,2),ROUND(G393*VLOOKUP('Overzicht deelnemers'!I393,Parameters!$E$4:$G$49,2,FALSE),2)))","v":""},{"$f":"IF(G393=\"\",\"\",IF(YEAR(Informatie!$C$1)=2015,ROUND(L393*Parameters!$C$20,2),G393*Parameters!$J$27))","v":""},{"$f":"IF(G393=\"\",\"\",ROUND(L393-M393,2))","v":""},{"$f":"IF(G393=\"\",\"\",ROUND(G393*Parameters!$C$16,2))","v":""},{"$f":"IF(G393=\"\",\"\",ROUND(G393*VLOOKUP(J393,Parameters!$E$3:$F$49,2,FALSE),2))","v":""},{"$f":"IF(G393=\"\",\"\",ROUND(G393*Parameters!$J$66,2))","v":""},{"$f":"IF(G393=\"\",\"\",ROUND(P393-Q393,2))","v":""},{"$f":"IF(G393=\"\",\"\",ROUND(G393*Parameters!$C$13,2))","v":""},{"$f":"IF(G393=\"\",\"\",IF(YEAR(Informatie!$C$1)=2015,ROUND(G393*Parameters!J$44,2),ROUND(G393*VLOOKUP('Overzicht deelnemers'!I393,Parameters!$E$4:$G$49,3,FALSE),2)))","v":""},{"$f":"IF(G393=\"\",\"\",IF(YEAR(Informatie!$C$1)=2015,ROUND(T393*Parameters!$C$20,2),ROUND(G393*Parameters!$J$44,2)))","v":""},{"$f":"IF(G393=\"\",\"\",ROUND(T393-U393,2))","v":""},{"$f":"IF(G393=\"\",\"\",ROUND(G393*Parameters!C$17,2))","v":""},{"$f":"IF(G393=\"\",\"\",ROUND(G393*VLOOKUP(J393,Parameters!E$4:G$49,3),2))","v":""},{"$f":"IF(G393=\"\",\"\",ROUND(G393*Parameters!J$83,2))","v":""},{"$f":"IF(G393=\"\",\"\",ROUND(X393-Y393,2))","v":""}]
[null,null,null,null,0,{"$f":"IF(C394=\"\",0,IF(C394<=Parameters!$C$3,C394,Parameters!$C$3))","v":0},{"$f":"IF(C394=\"\",\"\",IF(F394<Parameters!$C$4,\"\",(F394-Parameters!$C$4)*D394))","v":""},null,{"$f":"IF(H394=\"\",\"\",YEAR(+Informatie!$C$1)-YEAR(H394))","v":""},"",{"$f":"IF(G394=\"\",\"\",ROUND(G394*Parameters!$C$12,2))","v":""},{"$f":"IF(G394=\"\",\"\",IF(YEAR(Informatie!$C$1)=2015,ROUND(G394*Parameters!$J$27,2),ROUND(G394*VLOOKUP('Overzicht deelnemers'!I394,Parameters!$E$4:$G$49,2,FALSE),2)))","v":""},{"$f":"IF(G394=\"\",\"\",IF(YEAR(Informatie!$C$1)=2015,ROUND(L394*Parameters!$C$20,2),G394*Parameters!$J$27))","v":""},"",{"$f":"IF(G394=\"\",\"\",ROUND(G394*Parameters!$C$16,2))","v":""},{"$f":"IF(G394=\"\",\"\",ROUND(G394*VLOOKUP(J394,Parameters!$E$3:$F$49,2,FALSE),2))","v":""},{"$f":"IF(G394=\"\",\"\",ROUND(G394*Parameters!$J$66,2))","v":""},"",{"$f":"IF(G394=\"\",\"\",ROUND(G394*Parameters!$C$13,2))","v":""},{"$f":"IF(G394=\"\",\"\",IF(YEAR(Informatie!$C$1)=2015,ROUND(G394*Parameters!J$44,2),ROUND(G394*VLOOKUP('Overzicht deelnemers'!I394,Parameters!$E$4:$G$49,3,FALSE),2)))","v":""},{"$f":"IF(G394=\"\",\"\",IF(YEAR(Informatie!$C$1)=2015,ROUND(T394*Parameters!$C$20,2),ROUND(G394*Parameters!$J$44,2)))","v":""},"",{"$f":"IF(G394=\"\",\"\",ROUND(G394*Parameters!C$17,2))","v":""},{"$f":"IF(G394=\"\",\"\",ROUND(G394*VLOOKUP(J394,Parameters!E$4:G$49,3),2))","v":""},{"$f":"IF(G394=\"\",\"\",ROUND(G394*Parameters!J$83,2))","v":""},""]
[null,null,null,null,0,{"$f":"IF(C395=\"\",0,IF(C395<=Parameters!$C$3,C395,Parameters!$C$3))","v":0},{"$f":"IF(C395=\"\",\"\",IF(F395<Parameters!$C$4,\"\",(F395-Parameters!$C$4)*D395))","v":""},null,{"$f":"IF(H395=\"\",\"\",YEAR(+Informatie!$C$1)-YEAR(H395))","v":""},"",{"$f":"IF(G395=\"\",\"\",ROUND(G395*Parameters!$C$12,2))","v":""},{"$f":"IF(G395=\"\",\"\",IF(YEAR(Informatie!$C$1)=2015,ROUND(G395*Parameters!$J$27,2),ROUND(G395*VLOOKUP('Overzicht deelnemers'!I395,Parameters!$E$4:$G$49,2,FALSE),2)))","v":""},{"$f":"IF(G395=\"\",\"\",IF(YEAR(Informatie!$C$1)=2015,ROUND(L395*Parameters!$C$20,2),G395*Parameters!$J$27))","v":""},"",{"$f":"IF(G395=\"\",\"\",ROUND(G395*Parameters!$C$16,2))","v":""},{"$f":"IF(G395=\"\",\"\",ROUND(G395*VLOOKUP(J395,Parameters!$E$3:$F$49,2,FALSE),2))","v":""},{"$f":"IF(G395=\"\",\"\",ROUND(G395*Parameters!$J$66,2))","v":""},"",{"$f":"IF(G395=\"\",\"\",ROUND(G395*Parameters!$C$13,2))","v":""},{"$f":"IF(G395=\"\",\"\",IF(YEAR(Informatie!$C$1)=2015,ROUND(G395*Parameters!J$44,2),ROUND(G395*VLOOKUP('Overzicht deelnemers'!I395,Parameters!$E$4:$G$49,3,FALSE),2)))","v":""},{"$f":"IF(G395=\"\",\"\",IF(YEAR(Informatie!$C$1)=2015,ROUND(T395*Parameters!$C$20,2),ROUND(G395*Parameters!$J$44,2)))","v":""},"",{"$f":"IF(G395=\"\",\"\",ROUND(G395*Parameters!C$17,2))","v":""},{"$f":"IF(G395=\"\",\"\",ROUND(G395*VLOOKUP(J395,Parameters!E$4:G$49,3),2))","v":""},{"$f":"IF(G395=\"\",\"\",ROUND(G395*Parameters!J$83,2))","v":""},""]
[null,null,null,null,0,{"$f":"IF(C396=\"\",0,IF(C396<=Parameters!$C$3,C396,Parameters!$C$3))","v":0},{"$f":"IF(C396=\"\",\"\",IF(F396<Parameters!$C$4,\"\",(F396-Parameters!$C$4)*D396))","v":""},null,{"$f":"IF(H396=\"\",\"\",YEAR(+Informatie!$C$1)-YEAR(H396))","v":""},"",{"$f":"IF(G396=\"\",\"\",ROUND(G396*Parameters!$C$12,2))","v":""},{"$f":"IF(G396=\"\",\"\",IF(YEAR(Informatie!$C$1)=2015,ROUND(G396*Parameters!$J$27,2),ROUND(G396*VLOOKUP('Overzicht deelnemers'!I396,Parameters!$E$4:$G$49,2,FALSE),2)))","v":""},{"$f":"IF(G396=\"\",\"\",IF(YEAR(Informatie!$C$1)=2015,ROUND(L396*Parameters!$C$20,2),G396*Parameters!$J$27))","v":""},"",{"$f":"IF(G396=\"\",\"\",ROUND(G396*Parameters!$C$16,2))","v":""},{"$f":"IF(G396=\"\",\"\",ROUND(G396*VLOOKUP(J396,Parameters!$E$3:$F$49,2,FALSE),2))","v":""},{"$f":"IF(G396=\"\",\"\",ROUND(G396*Parameters!$J$66,2))","v":""},"",{"$f":"IF(G396=\"\",\"\",ROUND(G396*Parameters!$C$13,2))","v":""},{"$f":"IF(G396=\"\",\"\",IF(YEAR(Informatie!$C$1)=2015,ROUND(G396*Parameters!J$44,2),ROUND(G396*VLOOKUP('Overzicht deelnemers'!I396,Parameters!$E$4:$G$49,3,FALSE),2)))","v":""},{"$f":"IF(G396=\"\",\"\",IF(YEAR(Informatie!$C$1)=2015,ROUND(T396*Parameters!$C$20,2),ROUND(G396*Parameters!$J$44,2)))","v":""},"",{"$f":"IF(G396=\"\",\"\",ROUND(G396*Parameters!C$17,2))","v":""},{"$f":"IF(G396=\"\",\"\",ROUND(G396*VLOOKUP(J396,Parameters!E$4:G$49,3),2))","v":""},{"$f":"IF(G396=\"\",\"\",ROUND(G396*Parameters!J$83,2))","v":""},""]
[null,null,null,null,0,{"$f":"IF(C397=\"\",0,IF(C397<=Parameters!$C$3,C397,Parameters!$C$3))","v":0},{"$f":"IF(C397=\"\",\"\",IF(F397<Parameters!$C$4,\"\",(F397-Parameters!$C$4)*D397))","v":""},null,{"$f":"IF(H397=\"\",\"\",YEAR(+Informatie!$C$1)-YEAR(H397))","v":""},"",{"$f":"IF(G397=\"\",\"\",ROUND(G397*Parameters!$C$12,2))","v":""},{"$f":"IF(G397=\"\",\"\",IF(YEAR(Informatie!$C$1)=2015,ROUND(G397*Parameters!$J$27,2),ROUND(G397*VLOOKUP('Overzicht deelnemers'!I397,Parameters!$E$4:$G$49,2,FALSE),2)))","v":""},{"$f":"IF(G397=\"\",\"\",IF(YEAR(Informatie!$C$1)=2015,ROUND(L397*Parameters!$C$20,2),G397*Parameters!$J$27))","v":""},"",{"$f":"IF(G397=\"\",\"\",ROUND(G397*Parameters!$C$16,2))","v":""},{"$f":"IF(G397=\"\",\"\",ROUND(G397*VLOOKUP(J397,Parameters!$E$3:$F$49,2,FALSE),2))","v":""},{"$f":"IF(G397=\"\",\"\",ROUND(G397*Parameters!$J$66,2))","v":""},"",{"$f":"IF(G397=\"\",\"\",ROUND(G397*Parameters!$C$13,2))","v":""},{"$f":"IF(G397=\"\",\"\",IF(YEAR(Informatie!$C$1)=2015,ROUND(G397*Parameters!J$44,2),ROUND(G397*VLOOKUP('Overzicht deelnemers'!I397,Parameters!$E$4:$G$49,3,FALSE),2)))","v":""},{"$f":"IF(G397=\"\",\"\",IF(YEAR(Informatie!$C$1)=2015,ROUND(T397*Parameters!$C$20,2),ROUND(G397*Parameters!$J$44,2)))","v":""},"",{"$f":"IF(G397=\"\",\"\",ROUND(G397*Parameters!C$17,2))","v":""},{"$f":"IF(G397=\"\",\"\",ROUND(G397*VLOOKUP(J397,Parameters!E$4:G$49,3),2))","v":""},{"$f":"IF(G397=\"\",\"\",ROUND(G397*Parameters!J$83,2))","v":""},""]
[null,null,null,null,0,{"$f":"IF(C398=\"\",0,IF(C398<=Parameters!$C$3,C398,Parameters!$C$3))","v":0},{"$f":"IF(C398=\"\",\"\",IF(F398<Parameters!$C$4,\"\",(F398-Parameters!$C$4)*D398))","v":""},null,{"$f":"IF(H398=\"\",\"\",YEAR(+Informatie!$C$1)-YEAR(H398))","v":""},"",{"$f":"IF(G398=\"\",\"\",ROUND(G398*Parameters!$C$12,2))","v":""},{"$f":"IF(G398=\"\",\"\",IF(YEAR(Informatie!$C$1)=2015,ROUND(G398*Parameters!$J$27,2),ROUND(G398*VLOOKUP('Overzicht deelnemers'!I398,Parameters!$E$4:$G$49,2,FALSE),2)))","v":""},{"$f":"IF(G398=\"\",\"\",IF(YEAR(Informatie!$C$1)=2015,ROUND(L398*Parameters!$C$20,2),G398*Parameters!$J$27))","v":""},"",{"$f":"IF(G398=\"\",\"\",ROUND(G398*Parameters!$C$16,2))","v":""},{"$f":"IF(G398=\"\",\"\",ROUND(G398*VLOOKUP(J398,Parameters!$E$3:$F$49,2,FALSE),2))","v":""},{"$f":"IF(G398=\"\",\"\",ROUND(G398*Parameters!$J$66,2))","v":""},"",{"$f":"IF(G398=\"\",\"\",ROUND(G398*Parameters!$C$13,2))","v":""},{"$f":"IF(G398=\"\",\"\",IF(YEAR(Informatie!$C$1)=2015,ROUND(G398*Parameters!J$44,2),ROUND(G398*VLOOKUP('Overzicht deelnemers'!I398,Parameters!$E$4:$G$49,3,FALSE),2)))","v":""},{"$f":"IF(G398=\"\",\"\",IF(YEAR(Informatie!$C$1)=2015,ROUND(T398*Parameters!$C$20,2),ROUND(G398*Parameters!$J$44,2)))","v":""},"",{"$f":"IF(G398=\"\",\"\",ROUND(G398*Parameters!C$17,2))","v":""},{"$f":"IF(G398=\"\",\"\",ROUND(G398*VLOOKUP(J398,Parameters!E$4:G$49,3),2))","v":""},{"$f":"IF(G398=\"\",\"\",ROUND(G398*Parameters!J$83,2))","v":""},""]
[null,null,null,null,0,{"$f":"IF(C399=\"\",0,IF(C399<=Parameters!$C$3,C399,Parameters!$C$3))","v":0},{"$f":"IF(C399=\"\",\"\",IF(F399<Parameters!$C$4,\"\",(F399-Parameters!$C$4)*D399))","v":""},null,{"$f":"IF(H399=\"\",\"\",YEAR(+Informatie!$C$1)-YEAR(H399))","v":""},"",{"$f":"IF(G399=\"\",\"\",ROUND(G399*Parameters!$C$12,2))","v":""},{"$f":"IF(G399=\"\",\"\",IF(YEAR(Informatie!$C$1)=2015,ROUND(G399*Parameters!$J$27,2),ROUND(G399*VLOOKUP('Overzicht deelnemers'!I399,Parameters!$E$4:$G$49,2,FALSE),2)))","v":""},{"$f":"IF(G399=\"\",\"\",IF(YEAR(Informatie!$C$1)=2015,ROUND(L399*Parameters!$C$20,2),G399*Parameters!$J$27))","v":""},"",{"$f":"IF(G399=\"\",\"\",ROUND(G399*Parameters!$C$16,2))","v":""},{"$f":"IF(G399=\"\",\"\",ROUND(G399*VLOOKUP(J399,Parameters!$E$3:$F$49,2,FALSE),2))","v":""},{"$f":"IF(G399=\"\",\"\",ROUND(G399*Parameters!$J$66,2))","v":""},"",{"$f":"IF(G399=\"\",\"\",ROUND(G399*Parameters!$C$13,2))","v":""},{"$f":"IF(G399=\"\",\"\",IF(YEAR(Informatie!$C$1)=2015,ROUND(G399*Parameters!J$44,2),ROUND(G399*VLOOKUP('Overzicht deelnemers'!I399,Parameters!$E$4:$G$49,3,FALSE),2)))","v":""},{"$f":"IF(G399=\"\",\"\",IF(YEAR(Informatie!$C$1)=2015,ROUND(T399*Parameters!$C$20,2),ROUND(G399*Parameters!$J$44,2)))","v":""},"",{"$f":"IF(G399=\"\",\"\",ROUND(G399*Parameters!C$17,2))","v":""},{"$f":"IF(G399=\"\",\"\",ROUND(G399*VLOOKUP(J399,Parameters!E$4:G$49,3),2))","v":""},{"$f":"IF(G399=\"\",\"\",ROUND(G399*Parameters!J$83,2))","v":""},""]
[null,null,null,null,0,{"$f":"IF(C400=\"\",0,IF(C400<=Parameters!$C$3,C400,Parameters!$C$3))","v":0},{"$f":"IF(C400=\"\",\"\",IF(F400<Parameters!$C$4,\"\",(F400-Parameters!$C$4)*D400))","v":""},null,{"$f":"IF(H400=\"\",\"\",YEAR(+Informatie!$C$1)-YEAR(H400))","v":""},"",{"$f":"IF(G400=\"\",\"\",ROUND(G400*Parameters!$C$12,2))","v":""},{"$f":"IF(G400=\"\",\"\",IF(YEAR(Informatie!$C$1)=2015,ROUND(G400*Parameters!$J$27,2),ROUND(G400*VLOOKUP('Overzicht deelnemers'!I400,Parameters!$E$4:$G$49,2,FALSE),2)))","v":""},{"$f":"IF(G400=\"\",\"\",IF(YEAR(Informatie!$C$1)=2015,ROUND(L400*Parameters!$C$20,2),G400*Parameters!$J$27))","v":""},"",{"$f":"IF(G400=\"\",\"\",ROUND(G400*Parameters!$C$16,2))","v":""},{"$f":"IF(G400=\"\",\"\",ROUND(G400*VLOOKUP(J400,Parameters!$E$3:$F$49,2,FALSE),2))","v":""},{"$f":"IF(G400=\"\",\"\",ROUND(G400*Parameters!$J$66,2))","v":""},"",{"$f":"IF(G400=\"\",\"\",ROUND(G400*Parameters!$C$13,2))","v":""},{"$f":"IF(G400=\"\",\"\",IF(YEAR(Informatie!$C$1)=2015,ROUND(G400*Parameters!J$44,2),ROUND(G400*VLOOKUP('Overzicht deelnemers'!I400,Parameters!$E$4:$G$49,3,FALSE),2)))","v":""},{"$f":"IF(G400=\"\",\"\",IF(YEAR(Informatie!$C$1)=2015,ROUND(T400*Parameters!$C$20,2),ROUND(G400*Parameters!$J$44,2)))","v":""},"",{"$f":"IF(G400=\"\",\"\",ROUND(G400*Parameters!C$17,2))","v":""},{"$f":"IF(G400=\"\",\"\",ROUND(G400*VLOOKUP(J400,Parameters!E$4:G$49,3),2))","v":""},{"$f":"IF(G400=\"\",\"\",ROUND(G400*Parameters!J$83,2))","v":""},""]
[null,null,null,null,0,{"$f":"IF(C401=\"\",0,IF(C401<=Parameters!$C$3,C401,Parameters!$C$3))","v":0},{"$f":"IF(C401=\"\",\"\",IF(F401<Parameters!$C$4,\"\",(F401-Parameters!$C$4)*D401))","v":""},null,{"$f":"IF(H401=\"\",\"\",YEAR(+Informatie!$C$1)-YEAR(H401))","v":""},"",{"$f":"IF(G401=\"\",\"\",ROUND(G401*Parameters!$C$12,2))","v":""},{"$f":"IF(G401=\"\",\"\",IF(YEAR(Informatie!$C$1)=2015,ROUND(G401*Parameters!$J$27,2),ROUND(G401*VLOOKUP('Overzicht deelnemers'!I401,Parameters!$E$4:$G$49,2,FALSE),2)))","v":""},{"$f":"IF(G401=\"\",\"\",IF(YEAR(Informatie!$C$1)=2015,ROUND(L401*Parameters!$C$20,2),G401*Parameters!$J$27))","v":""},"",{"$f":"IF(G401=\"\",\"\",ROUND(G401*Parameters!$C$16,2))","v":""},{"$f":"IF(G401=\"\",\"\",ROUND(G401*VLOOKUP(J401,Parameters!$E$3:$F$49,2,FALSE),2))","v":""},{"$f":"IF(G401=\"\",\"\",ROUND(G401*Parameters!$J$66,2))","v":""},"",{"$f":"IF(G401=\"\",\"\",ROUND(G401*Parameters!$C$13,2))","v":""},{"$f":"IF(G401=\"\",\"\",IF(YEAR(Informatie!$C$1)=2015,ROUND(G401*Parameters!J$44,2),ROUND(G401*VLOOKUP('Overzicht deelnemers'!I401,Parameters!$E$4:$G$49,3,FALSE),2)))","v":""},{"$f":"IF(G401=\"\",\"\",IF(YEAR(Informatie!$C$1)=2015,ROUND(T401*Parameters!$C$20,2),ROUND(G401*Parameters!$J$44,2)))","v":""},"",{"$f":"IF(G401=\"\",\"\",ROUND(G401*Parameters!C$17,2))","v":""},{"$f":"IF(G401=\"\",\"\",ROUND(G401*VLOOKUP(J401,Parameters!E$4:G$49,3),2))","v":""},{"$f":"IF(G401=\"\",\"\",ROUND(G401*Parameters!J$83,2))","v":""},""]
["Werkgever",null,null,null,null,null,{"$f":"SUM(G2:G401)","v":46406},null,null,null,null,{"$f":"SUM(L2:L401)","v":12396.69},null,{"$f":"SUM(N2:N401)","v":6595.06},null,{"$f":"SUM(P2:P401)","v":12396.69},null,{"$f":"SUM(R2:R401)","v":6595.06},null,{"$f":"SUM(T2:T401)","v":15382.7},null,{"$f":"SUM(V2:V401)","v":8183.59},null,{"$f":"SUM(X2:X401)","v":15382.7},null,{"$f":"SUM(Z2:Z401)","v":8183.59}]

{"sheet":"Parameters","index":4,"n_rows":83,"n_cols":13,"rows_kept":83,"cut":false,"hidden":false,"merged":[[76,8,76,10],[59,8,59,10],[78,8,78,9],[1,8,1,10],[50,8,50,12],[61,8,61,9],[67,8,67,12],[39,8,39,9],[11,8,11,12],[22,8,22,9],[20,8,20,10],[37,8,37,10],[61,11,61,12],[78,11,78,12],[39,11,39,12],[1,1,1,2],[18,1,18,2],[1,4,1,6],[28,8,28,12],[14,1,14,2],[10,1,10,2],[22,11,22,12]]}
[]
[null,"Informatie excedentregeling",null,null,"Premiepercentage"]
[null,"Max jaarbedrag",128810,null,"Leeftijd","Lage premiepercentage","Hoge premiepercentage"]
[null,"Min jaarbedrag",86202,null,25,0.13100000000000001,0.16300000000000001]
[null,null,null,null,26,0.13100000000000001,0.16300000000000001]
[null,null,null,null,27,0.13100000000000001,0.16300000000000001]
[null,null,null,null,28,0.13100000000000001,0.16300000000000001]
[null,null,null,null,29,0.13100000000000001,0.16300000000000001]
[null,null,null,null,30,0.13100000000000001,0.16300000000000001]
[null,null,null,null,31,0.13100000000000001,0.16300000000000001]
[null,{"$f":"\"Informatie opbouwpercentage \"&YEAR(Informatie!C1)&\" (huidig jaar)\"","v":"Informatie opbouwpercentage 2023 (huidig jaar)"},null,null,32,0.13100000000000001,0.16300000000000001]
[null,"Lage opbouwpercentage",1.4200000000000001E-2,null,33,0.13100000000000001,0.16300000000000001,null,{"$f":"\"Informatie gewogen gemiddelde \" &YEAR(Informatie!C1)&\" (keuze laag)\"","v":"Informatie gewogen gemiddelde 2023 (keuze laag)"}]
[null,"Hoge opbouwpercentage",1.7600000000000001E-2,null,34,0.13100000000000001,0.16300000000000001,null,"Leeftijdsklasse","Ondergrens ","Bovengrens","Premie percentage","Aantal"]
[null,null,null,null,35,0.151,0.188,null,"Tot 35",25,34,0.13100000000000001,{"$f":"IF(YEAR(Informatie!C$1)=2015,\"\",FREQUENCY('Overzicht deelnemers'!I$2:I$10300,Parameters!K14:K20))","v":0}]
[null,{"$f":"\"Informatie opbouwpercentage \"& YEAR(Informatie!C1)+1","v":"Informatie opbouwpercentage 2024"},null,null,36,0.151,0.188,null,"Vanaf 35 t/m 39",35,39,0.151,{"$f":"IF(YEAR(Informatie!C$1)=2015,\"\",FREQUENCY('Overzicht deelnemers'!I$2:I$10300,Parameters!K15:K$20)-SUM($M$14:M14))","v":0}]
[null,"Lage opbouwpercentage",1.4200000000000001E-2,null,37,0.151,0.188,null,"Vanaf 40 t/m 44",40,44,0.17599999999999999,{"$f":"IF(YEAR(Informatie!C$1)=2015,\"\",FREQUENCY('Overzicht deelnemers'!I$2:I$10300,Parameters!K16:K$20)-SUM($M$14:M15))","v":0}]
[null,"Hoge opbouwpercentage ",1.7600000000000001E-2,null,38,0.151,0.188,null,"Vanaf 45 t/m 49",45,49,0.20300000000000001,{"$f":"IF(YEAR(Informatie!C$1)=2015,\"\",FREQUENCY('Overzicht deelnemers'!I$2:I$10300,Parameters!K17:K$20)-SUM($M$14:M16))","v":0}]
[null,null,null,null,39,0.151,0.188,null,"Vanaf 50 t/m 54",50,54,0.23499999999999999,{"$f":"IF(YEAR(Informatie!C$1)=2015,\"\",FREQUENCY('Overzicht deelnemers'!I$2:I$10300,Parameters!K18:K$20)-SUM($M$14:M17))","v":1}]
[null,"Informatie eigenbijdrag ",null,null,40,0.17599999999999999,0.219,null,"Vanaf 55 t/m 59",55,59,0.27,{"$f":"IF(YEAR(Informatie!C$1)=2015,\"\",FREQUENCY('Overzicht deelnemers'!I$2:I$10300,Parameters!K19:K$20)-SUM($M$14:M18))","v":1}]
[null,{"$f":"\"Max eigenbijdrage percentage \"&YEAR(Informatie!C1)","v":"Max eigenbijdrage percentage 2023"},0.46800000000000003,null,41,0.17599999999999999,0.219,null,"Vanaf 60",60,70,0.30499999999999999,{"$f":"IF(YEAR(Informatie!C$1)=2015,\"\",FREQUENCY('Overzicht deelnemers'!I$2:I$10300,Parameters!K20:K$20)-SUM($M$14:M19))","v":0}]
[null,{"$f":"\"Max eigenbijdrage percentage \"&YEAR(Informatie!C1)+1","v":"Max eigenbijdrage percentage 2024"},0.46800000000000003,null,42,0.17599999999999999,0.219,null,"Gewogen gemiddelde",null,null,{"$f":"IF(YEAR(Informatie!C1)=2015,\"\",ROUND(SUMPRODUCT(L14:L20,M14:M20)/M21,4))","v":0.2525},{"$f":"IF(YEAR(Informatie!C1)=2015,\"\",SUM(M14:M20))","v":2}]
[null,null,null,null,43,0.17599999999999999,0.219]
[null,null,null,null,44,0.17599999999999999,0.219,null,{"$f":"\"Informatie eigenbijdrage\"&\"\"&YEAR(Informatie!C1)&\"\"&\"(keuze laag)\"","v":"Informatie eigenbijdrage2023(keuze laag)"},null,null,"Doorsneepremie"]
[null,null,null,null,45,0.20300000000000001,0.252,null,"Jongste deelnemer ",{"$f":"IF(YEAR(Informatie!C1)=2015,\"\",MIN('Overzicht deelnemers'!I2:I100300))","v":52},null,"PG (excedent bedragen)",{"$f":"'Overzicht deelnemers'!G402","v":46406}]
[null,null,null,null,46,0.20300000000000001,0.252,null,"Laagste premiepercentage voor de werkgever",{"$f":"IF(YEAR(Informatie!C1)=2015,\"\",VLOOKUP(J24,J14:M20,3,TRUE))","v":0.23499999999999999},null,"Totale premies",{"$f":"'Overzicht deelnemers'!L402","v":12396.69}]
[null,null,null,null,47,0.20300000000000001,0.252,null,"Max eigenbijdrage",{"$f":"C20","v":0.46800000000000003},null,"Doorsneepremie",{"$f":"M25/M24","v":0.26713549971986383}]
[null,null,null,null,48,0.20300000000000001,0.252,null,null,{"$f":"IF(YEAR(Informatie!C1)=2015,J4,ROUND(IF(J26*M26<=J25,M26*J26,J25),6))","v":0.12501899999999999},{"$f":"IF(YEAR(Informatie!C1)=2015,+J27*J26,\"\")","v":""}]
[null,null,null,null,49,0.20300000000000001,0.252]
[null,null,null,null,50,0.23499999999999999,0.29199999999999998,null,{"$f":"\"Informatie gewogen gemiddelde \" &YEAR(Informatie!C1)&\" (keuze hoog)\"","v":"Informatie gewogen gemiddelde 2023 (keuze hoog)"}]
[null,null,null,null,51,0.23499999999999999,0.29199999999999998,null,"Leeftijdsklasse","Ondergrens ","Bovengrens","Premie percentage","Aantal"]
[null,null,null,null,52,0.23499999999999999,0.29199999999999998,null,"Tot 35",25,34,0.16300000000000001,{"$f":"IF(YEAR(Informatie!C$1)=2015,\"\",FREQUENCY('Overzicht deelnemers'!I$2:I$10300,Parameters!K31:K37))","v":0}]
[null,null,null,null,53,0.23499999999999999,0.29199999999999998,null,"Vanaf 35 t/m 39",35,39,0.188,{"$f":"IF(YEAR(Informatie!C$1)=2015,\"\",FREQUENCY('Overzicht deelnemers'!I$2:I$10300,Parameters!K32:K$37)-SUM($M$31:M31))","v":0}]
[null,null,null,null,54,0.23499999999999999,0.29199999999999998,null,"Vanaf 40 t/m 44",40,44,0.219,{"$f":"IF(YEAR(Informatie!C$1)=2015,\"\",FREQUENCY('Overzicht deelnemers'!I$2:I$10300,Parameters!K33:K$37)-SUM($M$31:M32))","v":0}]
[null,null,null,null,55,0.27,0.33500000000000002,null,"Vanaf 45 t/m 49",45,49,0.252,{"$f":"IF(YEAR(Informatie!C$1)=2015,\"\",FREQUENCY('Overzicht deelnemers'!I$2:I$10300,Parameters!K34:K$37)-SUM($M$31:M33))","v":0}]
[null,null,null,null,56,0.27,0.33500000000000002,null,"Vanaf 50 t/m 54",50,54,0.29199999999999998,{"$f":"IF(YEAR(Informatie!C$1)=2015,\"\",FREQUENCY('Overzicht deelnemers'!I$2:I$10300,Parameters!K35:K$37)-SUM($M$31:M34))","v":1}]
[null,null,null,null,57,0.27,0.33500000000000002,null,"Vanaf 55 t/m 59",55,59,0.33500000000000002,{"$f":"IF(YEAR(Informatie!C$1)=2015,\"\",FREQUENCY('Overzicht deelnemers'!I$2:I$10300,Parameters!K36:K$37)-SUM($M$31:M35))","v":1}]
[null,null,null,null,58,0.27,0.33500000000000002,null,"Vanaf 60",60,70,0.379,{"$f":"IF(YEAR(Informatie!C$1)=2015,\"\",FREQUENCY('Overzicht deelnemers'!I$2:I$10300,Parameters!K37:K$37)-SUM($M$31:M36))","v":0}]
[null,null,null,null,59,0.27,0.33500000000000002,null,"Gewogen gemiddelde",null,null,{"$f":"IF(YEAR(Informatie!C1)=2015,\"\",ROUND(SUMPRODUCT(L31:L37,M31:M37)/M38,4))","v":0.3135},{"$f":"IF(YEAR(Informatie!C1)=2015,\"\",SUM(M31:M37))","v":2}]
[null,null,null,null,60,0.30499999999999999,0.379]
[null,null,null,null,61,0.30499999999999999,0.379,null,{"$f":"\"Informatie eigenbijdrage \"&YEAR(Informatie!C1)&\" (keuze hoog)\"","v":"Informatie eigenbijdrage 2023 (keuze hoog)"},null,null,"Doorsneepremie"]
[null,null,null,null,62,0.30499999999999999,0.379,null,"Jongste deelnemer ",{"$f":"IF(YEAR(Informatie!C1)=2015,\"\",MIN('Overzicht deelnemers'!I2:I10300))","v":52},null,"PG (excedent bedragen)",{"$f":"'Overzicht deelnemers'!G402","v":46406}]
[null,null,null,null,63,0.30499999999999999,0.379,null,"Laagste premiepercentage voor de werkgever",{"$f":"IF(YEAR(Informatie!C1)=2015,\"\",VLOOKUP(J41,J31:M37,3,TRUE))","v":0.29199999999999998},null,"Totale premies",{"$f":"'Overzicht deelnemers'!T402","v":15382.7}]
[null,null,null,null,64,0.30499999999999999,0.379,null,"Max eigenbijdrage",{"$f":"C20","v":0.46800000000000003},null,"Doorsneepremie",{"$f":"M42/M41","v":0.33148084299444042}]
[null,null,null,null,65,0.30499999999999999,0.379,null,null,{"$f":"IF(YEAR(Informatie!C1)=2015,K4,ROUND(IF(J43*M43<=J42,M43*J43,J42),6))","v":0.15513299999999999},{"$f":"IF(YEAR(Informatie!C1)=2015,+J44*J43,\"\")","v":""}]
[null,null,null,null,66,0.30499999999999999,0.379]
[null,null,null,null,67,0.30499999999999999,0.379]
[null,null,null,null,68,0.30499999999999999,0.379]
[null,null,null,null,69,0.30499999999999999,0.379]
[null,null,null,null,70,0.30499999999999999,0.379]
[]
[null,null,null,null,null,null,null,null,{"$f":"\"Informatie gewogen gemiddelde\" &YEAR(TODAY())+1&\" (keuze laag)\"","v":"Informatie gewogen gemiddelde2023 (keuze laag)"}]
[null,null,null,null,null,null,null,null,"Leeftijdsklasse","Ondergrens ","Bovengrens","Premie percentage","Aantal"]
[null,null,null,null,null,null,null,null,"Tot 35",25,34,0.13100000000000001,{"$f":"FREQUENCY('Overzicht deelnemers'!J$2:J$10300,Parameters!K53:K59)","v":0}]
[null,null,null,null,null,null,null,null,"Vanaf 35 t/m 39",35,39,0.151,{"$f":"FREQUENCY('Overzicht deelnemers'!J$2:J$10300,Parameters!K54:K$59)-SUM($M$53:M53)","v":0}]
[null,null,null,null,null,null,null,null,"Vanaf 40 t/m 44",40,44,0.17599999999999999,{"$f":"FREQUENCY('Overzicht deelnemers'!J$2:J$10300,Parameters!K55:K$59)-SUM($M$53:M54)","v":0}]
[null,null,null,null,null,null,null,null,"Vanaf 45 t/m 49",45,49,0.20300000000000001,{"$f":"FREQUENCY('Overzicht deelnemers'!J$2:J$10300,Parameters!K56:K$59)-SUM($M$53:M55)","v":0}]
[null,null,null,null,null,null,null,null,"Vanaf 50 t/m 54",50,54,0.23499999999999999,{"$f":"FREQUENCY('Overzicht deelnemers'!J$2:J$10300,Parameters!K57:K$59)-SUM($M$53:M56)","v":1}]
[null,null,null,null,null,null,null,null,"Vanaf 55 t/m 59",55,59,0.27,{"$f":"FREQUENCY('Overzicht deelnemers'!J$2:J$10300,Parameters!K58:K$59)-SUM($M$53:M57)","v":1}]
[null,null,null,null,null,null,null,null,"Vanaf 60",60,70,0.30499999999999999,{"$f":"FREQUENCY('Overzicht deelnemers'!J$2:J$10300,Parameters!K59:K$59)-SUM($M$53:M58)","v":0}]
[null,null,null,null,null,null,null,null,"Gewogen gemiddelde",null,null,{"$f":"ROUND(SUMPRODUCT(L53:L59,M53:M59)/M60,4)","v":0.2525},{"$f":"SUM(M53:M59)","v":2}]
[]
[null,null,null,null,null,null,null,null,{"$f":"\"Informatie eigenbijdrage \"&YEAR(TODAY())+1&\" (keuze laag)\"","v":"Informatie eigenbijdrage 2023 (keuze laag)"},null,null,"Doorsneepremie"]
[null,null,null,null,null,null,null,null,"Jongste deelnemer ",{"$f":"MIN('Overzicht deelnemers'!J2:J10300)","v":53},null,"PG (excedent bedragen)",{"$f":"'Overzicht deelnemers'!G402","v":46406}]
[null,null,null,null,null,null,null,null,"Laagste premiepercentage voor de werkgever",{"$f":"VLOOKUP(J63,J53:M59,3,TRUE)","v":0.23499999999999999},null,"Totale premies",{"$f":"'Overzicht deelnemers'!P402","v":12396.69}]
[null,null,null,null,null,null,null,null,"Max eigenbijdrage",{"$f":"C21","v":0.46800000000000003},null,"Doorsneepremie",{"$f":"M64/M63","v":0.26713549971986383}]
[null,null,null,null,null,null,null,null,null,{"$f":"ROUND(IF(J65*M65<=J64,M65*J65,J64),6)","v":0.12501899999999999}]
[]
[null,null,null,null,null,null,null,null,{"$f":"\"Informatie gewogen gemiddelde \"&YEAR(Informatie!C1)+1& \" (keuze hoog)\"","v":"Informatie gewogen gemiddelde 2024 (keuze hoog)"}]
[null,null,null,null,null,null,null,null,"Leeftijdsklasse","Ondergrens ","Bovengrens","Premie percentage","Aantal"]
[null,null,null,null,null,null,null,null,"Tot 35",25,34,0.16300000000000001,{"$f":"FREQUENCY('Overzicht deelnemers'!J$2:J$10300,Parameters!K70:K76)","v":0}]
[null,null,null,null,null,null,null,null,"Vanaf 35 t/m 39",35,39,0.188,{"$f":"FREQUENCY('Overzicht deelnemers'!J$2:J$10300,Parameters!K71:K77)-SUM($M$70:M70)","v":0}]
[null,null,null,null,null,null,null,null,"Vanaf 40 t/m 44",40,44,0.219,{"$f":"FREQUENCY('Overzicht deelnemers'!J$2:J$10300,Parameters!K72:K78)-SUM($M$70:M71)","v":0}]
[null,null,null,null,null,null,null,null,"Vanaf 45 t/m 49",45,49,0.252,{"$f":"FREQUENCY('Overzicht deelnemers'!J$2:J$10300,Parameters!K73:K79)-SUM($M$70:M72)","v":0}]
[null,null,null,null,null,null,null,null,"Vanaf 50 t/m 54",50,54,0.29199999999999998,{"$f":"FREQUENCY('Overzicht deelnemers'!J$2:J$10300,Parameters!K74:K80)-SUM($M$70:M73)","v":1}]
[null,null,null,null,null,null,null,null,"Vanaf 55 t/m 59",55,59,0.33500000000000002,{"$f":"FREQUENCY('Overzicht deelnemers'!J$2:J$10300,Parameters!K75:K81)-SUM($M$70:M74)","v":1}]
[null,null,null,null,null,null,null,null,"Vanaf 60",60,70,0.379,{"$f":"FREQUENCY('Overzicht deelnemers'!J$2:J$10300,Parameters!K76:K82)-SUM($M$70:M75)","v":0}]
[null,null,null,null,null,null,null,null,"Gewogen gemiddelde",null,null,{"$f":"ROUND(SUMPRODUCT(L70:L76,M70:M76)/M77,4)","v":0.3135},{"$f":"SUM(M70:M76)","v":2}]
[]
[null,null,null,null,null,null,null,null,{"$f":"\"Informatie eigenbijdrage \"&YEAR(Informatie!C1)+1&\" (keuze hoog)\"","v":"Informatie eigenbijdrage 2024 (keuze hoog)"},null,null,"Doorsneepremie"]
[null,null,null,null,null,null,null,null,"Jongste deelnemer ",{"$f":"MIN(IF('Overzicht deelnemers'!J2:J10300=0,\"\",'Overzicht deelnemers'!J2:J10300))","v":53},null,"PG (excedent bedragen)",{"$f":"'Overzicht deelnemers'!G402","v":46406}]
[null,null,null,null,null,null,null,null,"Laagste premiepercentage voor de werkgever",{"$f":"VLOOKUP(J80,J70:M76,3,TRUE)","v":0.29199999999999998},null,"Totale premies",{"$f":"'Overzicht deelnemers'!X402","v":15382.7}]
[null,null,null,null,null,null,null,null,"Max eigenbijdrage",{"$f":"C21","v":0.46800000000000003},null,"Doorsneepremie",{"$f":"M81/M80","v":0.33148084299444042}]
[null,null,null,null,null,null,null,null,null,{"$f":"ROUND(IF(J82*M82<=J81,M82*J82,J81),6)","v":0.15513299999999999}]